BEGIN:VCALENDAR
VERSION:2.0
PRODID:-//Sistema Med Campania - ECPv6.7.0//NONSGML v1.0//EN
CALSCALE:GREGORIAN
METHOD:PUBLISH
X-ORIGINAL-URL:https://backup.sistemamedcampania.it
X-WR-CALDESC:Eventi per Sistema Med Campania
REFRESH-INTERVAL;VALUE=DURATION:PT1H
X-Robots-Tag:noindex
X-PUBLISHED-TTL:PT1H
BEGIN:VTIMEZONE
TZID:Europe/Rome
BEGIN:DAYLIGHT
TZOFFSETFROM:+0100
TZOFFSETTO:+0200
TZNAME:CEST
DTSTART:20250330T010000
END:DAYLIGHT
BEGIN:STANDARD
TZOFFSETFROM:+0200
TZOFFSETTO:+0100
TZNAME:CET
DTSTART:20251026T010000
END:STANDARD
END:VTIMEZONE
BEGIN:VEVENT
DTSTART;TZID=Europe/Rome:20250307T193000
DTEND;TZID=Europe/Rome:20250307T193000
DTSTAMP:20260422T104857
CREATED:20250306T215431Z
LAST-MODIFIED:20250306T215431Z
UID:9126-1741375800-1741375800@backup.sistemamedcampania.it
SUMMARY:L'Orchestra Martucci incontra Pietro Condorelli
DESCRIPTION:L’Associazione Giuseppe Martucci giunge quest’anno al suo 50° anno di attività. \nCosì inaugura la stagione\, venerdì 7 marzo 2025 (ore 19.30) presso l’Auditorium Sveva Sanseverino\, con un concerto che vede l’Orchestra Martucci accompagnare il chitarrista Pietro Condorelli\, uno dei più autorevoli chitarristi del panorama jazzistico contemporaneo. \nIl programma\, dal titolo American Songbook e composizioni originali prevede brani di Cole Porter\, Oscar Peterson\, Harold Arlen\, Pietro Condorelli\, John Barry. \nIngresso libero fino ad esaurimento posti. \nPer maggiori info www.associazionemusicalegiuseppemartucci.it
URL:https://backup.sistemamedcampania.it/evento/lorchestra-martucci-incontra-pietro-condorelli/
LOCATION:Complesso monumetale San Tommaso D’Aquino\, Piemonte Matese\, Caserta\, Caserta\, 81016\, Italy
CATEGORIES:Associazione Giuseppe Martucci,Musica
ATTACH;FMTTYPE=image/jpeg:https://backup.sistemamedcampania.it/wp-content/uploads/2025/03/lorchestra-martucci-incontra-pietro-condorelli.jpg
END:VEVENT
END:VCALENDAR