BEGIN:VCALENDAR
VERSION:2.0
PRODID:-//Sistema Med Campania - ECPv6.7.0//NONSGML v1.0//EN
CALSCALE:GREGORIAN
METHOD:PUBLISH
X-WR-CALNAME:Sistema Med Campania
X-ORIGINAL-URL:https://backup.sistemamedcampania.it
X-WR-CALDESC:Eventi per Sistema Med Campania
REFRESH-INTERVAL;VALUE=DURATION:PT1H
X-Robots-Tag:noindex
X-PUBLISHED-TTL:PT1H
BEGIN:VTIMEZONE
TZID:Europe/Rome
BEGIN:DAYLIGHT
TZOFFSETFROM:+0100
TZOFFSETTO:+0200
TZNAME:CEST
DTSTART:20230326T010000
END:DAYLIGHT
BEGIN:STANDARD
TZOFFSETFROM:+0200
TZOFFSETTO:+0100
TZNAME:CET
DTSTART:20231029T010000
END:STANDARD
END:VTIMEZONE
BEGIN:VEVENT
DTSTART;VALUE=DATE:20230923
DTEND;VALUE=DATE:20230924
DTSTAMP:20260420T034721
CREATED:20230922T230427Z
LAST-MODIFIED:20230922T230427Z
UID:8666-1695427200-1695513599@backup.sistemamedcampania.it
SUMMARY:AFI Falaut - Un mare di flauti
DESCRIPTION:Un mare di flauti insieme a Salerno\, in Piazza Portanova il 23 settembre. L’Associazione AFI Falaut vuole promuovere i valori della socialità e dell’inclusione\, attraverso la musica d’insieme. Il grande potenziale\neducativo dell’orchestra risiede proprio nell’idea che assume il gruppo\, la collettività\, dove ogni sforzo del singolo tende ad uno scopo comune più alto. \nSono invitati a entrare a far parte di quest’orchestra docenti\, allievi\, professionisti e non. Il gruppo sarà guidato da diversi tutor provenienti dalla Falaut Flute Orchestra e da partner nazionali e internazionali. \nPer info www.afifalautets.it– info@falaut.it – 089 286 8903
URL:https://backup.sistemamedcampania.it/evento/afi-falaut-un-mare-di-flauti/
LOCATION:Piazza Portanova\, Piazza Portanova\, Salerno\, Salerno\, Italia
CATEGORIES:AFI Falaut,Musica
ATTACH;FMTTYPE=image/jpeg:https://backup.sistemamedcampania.it/wp-content/uploads/2023/09/afi-falaut.jpg
END:VEVENT
BEGIN:VEVENT
DTSTART;VALUE=DATE:20230731
DTEND;VALUE=DATE:20230806
DTSTAMP:20260420T034721
CREATED:20230731T185305Z
LAST-MODIFIED:20230731T185305Z
UID:8479-1690761600-1691279999@backup.sistemamedcampania.it
SUMMARY:AFI Falaut - Falaut Campus
DESCRIPTION:A Polla parte la dodicesima edizione del Falaut Campus\, progetto estivo dedicato al flauto organizzato dall’Associazione Afi Falaut\, sotto la guida del Maestro Salvatore Lombardi. Corsi\, masterclass\, tavole rotonde\, showcases e\, ogni sera\, concerti aperti al pubblico. Più di 250 giovani provenienti da diverse parti del mondo: Turchia\, Cina\, Giappone\, Germania\, Italia Polonia\, Russia\, USA e Belgio. Non un comune “Campus Estivo”\, ma un centro sperimentale e operativo pensato per la musica e i giovani\, volto alla formazione ma anche all’incontro e allo scambio. \nPer info info@falaut.it – 089 286 8903 – www.afifalautets.it
URL:https://backup.sistemamedcampania.it/evento/afi-falaut-falaut-campus/
LOCATION:Polla\, Polla\, Salerno\, Italia
CATEGORIES:AFI Falaut,Musica
ATTACH;FMTTYPE=image/jpeg:https://backup.sistemamedcampania.it/wp-content/uploads/2023/07/afi-falaut-falaut-campus.jpg
END:VEVENT
BEGIN:VEVENT
DTSTART;VALUE=DATE:20230617
DTEND;VALUE=DATE:20230618
DTSTAMP:20260420T034721
CREATED:20230611T211139Z
LAST-MODIFIED:20230611T212047Z
UID:8326-1686960000-1687046399@backup.sistemamedcampania.it
SUMMARY:AFI Falaut - Falaut together
DESCRIPTION:L’Associazione AFI Falaut ha messo su\, per la sua prima edizione\, Falaut together\, una due giorni di masterclass e concerti tenuti dai docenti Francesco Loi e Paolo Totti. \nLe lezioni\, del 17 e del 18 giugno\, sono rivolte a tutti i flautisti interessati: studenti\, principianti\, amatoriali o diplomati\, senza limiti di età. \nLa manifestazione offre ai partecipanti la possibilità di suonare in un ensemble inedito capace di mettere in luce nuove sfaccettature dello strumento. Al termine dell’evento è previsto anche un concerto aperto al pubblico. \nInoltre\,a tutti i coinvolti sarà offerto gratuitamente (previa prenotazione obbligatoria) un controllo e un bilanciamento del proprio strumento dalla Ditta Daminelli\, più l’opportunità di provare flauti e ottavini delle migliori marche.\n \nPer info info@falaut.it – 089 286 8903 – www.falaut.com
URL:https://backup.sistemamedcampania.it/evento/afi-falaut-falaut-together/
LOCATION:Conservatorio di musica di Napoli San Pietro a Majella\, Via San Pietro a Majella\, 35\, Napoli\, Italia
CATEGORIES:AFI Falaut,Musica
ATTACH;FMTTYPE=image/jpeg:https://backup.sistemamedcampania.it/wp-content/uploads/2023/06/afi-falaut-falaut-together.jpg
END:VEVENT
BEGIN:VEVENT
DTSTART;VALUE=DATE:20230617
DTEND;VALUE=DATE:20230618
DTSTAMP:20260420T034721
CREATED:20230611T211139Z
LAST-MODIFIED:20230611T212047Z
UID:8326-1686960000-1687046399@backup.sistemamedcampania.it
SUMMARY:AFI Falaut - Falaut together
DESCRIPTION:L’Associazione AFI Falaut ha messo su\, per la sua prima edizione\, Falaut together\, una due giorni di masterclass e concerti tenuti dai docenti Francesco Loi e Paolo Totti. \nLe lezioni\, del 17 e del 18 giugno\, sono rivolte a tutti i flautisti interessati: studenti\, principianti\, amatoriali o diplomati\, senza limiti di età. \nLa manifestazione offre ai partecipanti la possibilità di suonare in un ensemble inedito capace di mettere in luce nuove sfaccettature dello strumento. Al termine dell’evento è previsto anche un concerto aperto al pubblico. \nInoltre\,a tutti i coinvolti sarà offerto gratuitamente (previa prenotazione obbligatoria) un controllo e un bilanciamento del proprio strumento dalla Ditta Daminelli\, più l’opportunità di provare flauti e ottavini delle migliori marche.\n \nPer info info@falaut.it – 089 286 8903 – www.falaut.com
URL:https://backup.sistemamedcampania.it/evento/afi-falaut-falaut-together/
LOCATION:Conservatorio di musica di Napoli San Pietro a Majella\, Via San Pietro a Majella\, 35\, Napoli\, Italia
CATEGORIES:AFI Falaut,Musica
ATTACH;FMTTYPE=image/jpeg:https://backup.sistemamedcampania.it/wp-content/uploads/2023/06/afi-falaut-falaut-together.jpg
END:VEVENT
END:VCALENDAR