BEGIN:VCALENDAR
VERSION:2.0
PRODID:-//Sistema Med Campania - ECPv6.7.0//NONSGML v1.0//EN
CALSCALE:GREGORIAN
METHOD:PUBLISH
X-WR-CALNAME:Sistema Med Campania
X-ORIGINAL-URL:https://backup.sistemamedcampania.it
X-WR-CALDESC:Eventi per Sistema Med Campania
REFRESH-INTERVAL;VALUE=DURATION:PT1H
X-Robots-Tag:noindex
X-PUBLISHED-TTL:PT1H
BEGIN:VTIMEZONE
TZID:Europe/Rome
BEGIN:DAYLIGHT
TZOFFSETFROM:+0100
TZOFFSETTO:+0200
TZNAME:CEST
DTSTART:20210328T010000
END:DAYLIGHT
BEGIN:STANDARD
TZOFFSETFROM:+0200
TZOFFSETTO:+0100
TZNAME:CET
DTSTART:20211031T010000
END:STANDARD
END:VTIMEZONE
BEGIN:VEVENT
DTSTART;TZID=Europe/Rome:20211229T190000
DTEND;TZID=Europe/Rome:20211229T190000
DTSTAMP:20260420T083353
CREATED:20211213T093214Z
LAST-MODIFIED:20211213T093214Z
UID:7077-1640804400-1640804400@backup.sistemamedcampania.it
SUMMARY:Associazione Area Arte. Convivio Armonico 2021 - In Nativitate Domini
DESCRIPTION:Convivio Armonico dell’ Associazione Area Arte conclude l’anno con il consueto concerto  “In Nativitate Domini”  Musica per il Santo Natale nella Napoli del ‘700 a cura dell’ Ensemble Le Musiche da Camera con le voci di Francesco Divito e Rosa Montano. \n  \n  \nPrenotazione obbligatoria scrivendo a:  associazioneareaarte@libero.it   \nPer Info: 347 2430342 – 345 8526889 \n 
URL:https://backup.sistemamedcampania.it/evento/associazione-area-arte-convivio-armonico-2021-in-nativitate-domini/
LOCATION:Basilica di S.Francesco di Paola\, Piazza del Plebiscito\, Napoli\, 80132\, Italia
CATEGORIES:Area Arte,Convivio Armonico 2021,Musica
ATTACH;FMTTYPE=image/jpeg:https://backup.sistemamedcampania.it/wp-content/uploads/2021/12/nativitate.jpg
END:VEVENT
BEGIN:VEVENT
DTSTART;TZID=Europe/Rome:20211205T193000
DTEND;TZID=Europe/Rome:20211205T193000
DTSTAMP:20260420T083353
CREATED:20211129T153413Z
LAST-MODIFIED:20211129T153413Z
UID:6930-1638732600-1638732600@backup.sistemamedcampania.it
SUMMARY:Associazione Area Arte-Convivio Armonico 2021.La Scuola Napoletana a Parigi
DESCRIPTION:L’ Ensemble Labirinto Armonico sarà ospite del prossimo appuntamento di Convivio Armonico dell’ Associazione Area Arte. Con strumenti d’epoca l’ ensemble formato da Pierluigi Mencattini\, Gaetano Di Ilio\, Sergio Basilico e  Walter D’ Arcangelo\, presenta il concerto “La Scuola Napoletana a Parigi”.  \nDopo le Sonate di Giovanni Antonio Guido e le composizioni di Nicola Matteis\, è la volta di  un Maestro della scuola violinistica napoletana del ‘700\, Giovanni Antonio Piani.  Il programma propone alcune sonate a violino e basso scelte dall’ Opera Prima\, e una sonata per violoncello solo con basso\, di rara esecuzione\, di un altro interessante musicista del ‘700 napoletano\, Carlo Cecere.  Prima del concerto ci sarà un incontro con  il M. Mencattini per una breve introduzione e per presentare le ultime realizzazioni discografiche dell’ensemble. \nSi ringrazia il Rettore della Basilica Padre Mario Savarese per aver accolto il concerto. \n  \n  \nPrenotazione obbligatoria scrivendo a:  associazioneareaarte@libero.it   \nPer Info: 347 2430342 – 345 8526889 \n 
URL:https://backup.sistemamedcampania.it/evento/associazione-area-arte-convivio-armonico-2021-la-scuola-napoletana-a-parigi/
LOCATION:Basilica di S.Francesco di Paola\, Piazza del Plebiscito\, Napoli\, 80132\, Italia
CATEGORIES:Area Arte,Convivio Armonico 2021,Musica
ATTACH;FMTTYPE=image/jpeg:https://backup.sistemamedcampania.it/wp-content/uploads/2021/11/labirinto-armonico.jpg
END:VEVENT
BEGIN:VEVENT
DTSTART;TZID=Europe/Rome:20211204T193000
DTEND;TZID=Europe/Rome:20211204T193000
DTSTAMP:20260420T083353
CREATED:20211129T152420Z
LAST-MODIFIED:20211129T152420Z
UID:6926-1638646200-1638646200@backup.sistemamedcampania.it
SUMMARY:Associazione Area Arte-Convivio Armonico 2021. Deh\, Venitene Pastori
DESCRIPTION:Convivio Armonico 2021 dell’ Associazione Area Arte riprende con il concerto “Deh\, Venitene Pastori”;  protagonisti il Duo formato da Marco Giacintucci  e Walter D’ Arcangelo\, con  un programma che andrà dalla musica colta a quella di ispirazione popolare\, seguendo il tema della tradizione musicale natalizia italiana attraverso una varietà di sonorità che ci accompagneranno nell’atmosfera del Natale. Pastorali\, Pive\, Passacagli di aria popolare abruzzese o di autori come Madonna Lucrezia de’ Medici\, Pitoni\, Aldrovrandini\, fino all’omaggio al settecento napoletano con L.Leo e con la celebre Pastorale di S. Alfonso M. de Liguori.  \nSi ringrazia Monsignor Enrico Ferrara per aver accolto il concerto. \n  \nMarco Giacintucci\,  zampogna\, cornamusa\, mandolino\, violino \nWalter D’ Arcangelo\,  organo \n  \n  \nPrenotazione obbligatoria scrivendo a:  associazioneareaarte@libero.it   \nPer Info: 347 2430342 – 345 8526889 \n 
URL:https://backup.sistemamedcampania.it/evento/associazione-area-arte-convivio-armonico-2021-deh-venitene-pastori/
LOCATION:Chiesa di S. Orsola a Chiaia\, Via Chiaia\, 161\, Napoli NA\, 80121\, Italia
CATEGORIES:Area Arte,Convivio Armonico 2021,Musica
ATTACH;FMTTYPE=image/jpeg:https://backup.sistemamedcampania.it/wp-content/uploads/2021/11/giancintuccidarcangelo-copia.jpg
END:VEVENT
BEGIN:VEVENT
DTSTART;TZID=Europe/Rome:20211024T190000
DTEND;TZID=Europe/Rome:20211024T190000
DTSTAMP:20260420T083353
CREATED:20211018T090951Z
LAST-MODIFIED:20211018T091012Z
UID:6735-1635102000-1635102000@backup.sistemamedcampania.it
SUMMARY:Associazione Area Arte-Convivio Armonico 2021. La voce dell’organo
DESCRIPTION:L’ ultimo appuntamento con “La Voce dell’ Organo” per Convivio Armonico 2021 dell’ Associazione Area Arte è con l’organista Giovanni Picciafoco che proporrà un programma interamente dedicato a J.S. Bach\, con una unica concessione finale per un brano “Passacaglia e Fuga alla maniera di Bach” del compositore napoletano contemporaneo Riccardo Fiorentino. Picciafoco è membro dell’Associazione Organistica G. M.Trabaci e già organista presso la cattedrale di Nola e componente della commissione liturgica diocesana\, svolge la sua attività musicale i Santuari diocesani. \n  \n  \nPrenotazione obbligatoria scrivendo a:  associazioneareaarte@libero.it   \nL’ingresso sarà consentito solo ai possessori di Green Pass \nPer Info: 347 2430342 – 345 8526889 \n 
URL:https://backup.sistemamedcampania.it/evento/6735/
LOCATION:Chiesa dell’Immacolata al Vomero\, Piazza Immacolata\, 13\, Napoli\, Italia
CATEGORIES:Area Arte,Convivio Armonico 2021,Musica
ATTACH;FMTTYPE=image/jpeg:https://backup.sistemamedcampania.it/wp-content/uploads/2021/10/picciafoco.jpg
END:VEVENT
BEGIN:VEVENT
DTSTART;TZID=Europe/Rome:20211022T190000
DTEND;TZID=Europe/Rome:20211022T190000
DTSTAMP:20260420T083353
CREATED:20211018T090621Z
LAST-MODIFIED:20211020T075016Z
UID:6732-1634929200-1634929200@backup.sistemamedcampania.it
SUMMARY:Associazione Area Arte-Convivio Armonico 2021. Nicolino\, da Napoli a Londra attraversando l' Europa
DESCRIPTION:L’ ensemble Le Musiche da Camera sarà protagonista del prossimo appuntamento di Convivio Armonico 2021 dell’ Associazione Area Arte con un percorso attorno alla figura del violinista compositore napoletano  Nicola Matteis  ed il suo tempo\, ed il suo viaggio da Napoli a Londra attraverso le musiche di N.Matteis\, A. Falconiero\, B. Strozzi\, Monteverdi\, G. Sances\, T. Balthazar\, Schoop\, J. Dowland\, D. Mell\,  J. Playford\, H. Purcell \n  \n Francesco Divito soprano\, \nRosa Montano mezzosoprano\, \nEgidio Mastrominico violino barocco di concerto\,   \nGiuseppe Copia chitarra barocca e arciliuto\, \nLeonardo Massa violoncello barocco\, \nDebora Capitanio clavicembalo. \n  \n  \nPrenotazione obbligatoria scrivendo a:  associazioneareaarte@libero.it   \nL’ingresso sarà consentito solo ai possessori di Green Pass \nPer Info: 347 2430342 – 345 8526889
URL:https://backup.sistemamedcampania.it/evento/associazione-area-arte-convivio-armonico-2021-nicolino-da-napoli-a-londra-attraversando-l-europa/
LOCATION:Basilica di S.Francesco di Paola\, Piazza del Plebiscito\, Napoli\, 80132\, Italia
CATEGORIES:Area Arte,Convivio Armonico 2021,Musica
ATTACH;FMTTYPE=image/jpeg:https://backup.sistemamedcampania.it/wp-content/uploads/2021/10/le-musiche-da-camera.jpg
END:VEVENT
BEGIN:VEVENT
DTSTART;TZID=Europe/Rome:20211017T190000
DTEND;TZID=Europe/Rome:20211017T190000
DTSTAMP:20260420T083353
CREATED:20211011T161719Z
LAST-MODIFIED:20211011T161719Z
UID:6724-1634497200-1634497200@backup.sistemamedcampania.it
SUMMARY:Associazione Area Arte-Convivio Armonico 2021. La voce dell’organo
DESCRIPTION:Convivio Armonico 2021 dell’ Associazione Area Arte prosegue con il ciclo “La voce dell’organo” con l’organista Vincenzo Di Ianni con un programma studiato per rinnovare il successo riscosso da quello on line dello scorso anno con musiche di N. Moretti\, M. Corrette\, A.Diana\, G. Morandi\, J.G. Walther\, V. Petrali\, A. Guilmant\, P. Wachs.  \nDi Ianni\, perfezionato presso il Pontificio Istituto di Musica Sacra di Roma\, tiene frequentemente concerti in Festival e Rassegne\, sia come solista che in formazioni Cameristico-Orchestrali. \n  \n  \nPrenotazione obbligatoria scrivendo a:  associazioneareaarte@libero.it   \nL’ingresso sarà consentito solo ai possessori di Green Pass \nPer Info: 347 2430342 – 345 8526889
URL:https://backup.sistemamedcampania.it/evento/associazione-area-arte-convivio-armonico-2021-la-voce-dellorgano/
LOCATION:Chiesa dell’Immacolata al Vomero\, Piazza Immacolata\, 13\, Napoli\, Italia
CATEGORIES:Area Arte,Convivio Armonico 2021,Musica
ATTACH;FMTTYPE=image/jpeg:https://backup.sistemamedcampania.it/wp-content/uploads/2021/10/di-ianni.jpg
END:VEVENT
BEGIN:VEVENT
DTSTART;TZID=Europe/Rome:20211016T190000
DTEND;TZID=Europe/Rome:20211016T190000
DTSTAMP:20260420T083353
CREATED:20211011T161528Z
LAST-MODIFIED:20211011T161528Z
UID:6721-1634410800-1634410800@backup.sistemamedcampania.it
SUMMARY:Associazione Area Arte-Convivio Armonico 2021. Nel Mezzo del Cammin di nostra vita
DESCRIPTION:Anche l’ Associazione Area Arte\, nell’ ambito della rassegna Convivio Armonico 2021 omaggia in quest’anno di celebrazioni il sommo Dante. “Nel Mezzo del Cammin di nostra vita”  è un prezioso incontro tra la lettura interpretata dei più noti canti tratti dall’Inferno Dantesco\, La Selva oscura\, Caronte\, Paolo e Francesca\, Ulisse\, il Conte Ugolino con la voce recitante dall’attrice Alessandra Calabrese che si alterna e s’intreccia all’improvvisazione e all’esecuzione di suggestive pagine musicali al flauto (Jakob Van Eyck – Der Fluyten Lust-hof) eseguite su strumenti dalle timbriche differenti da  Ubaldo Rosso ai flauti e viola da gamba. La ricerca di musiche caratterizzate da una forte affinità sensoriale con i versi di Dante potenzia la carica emotiva del testo. Un viaggio sensoriale tra poesia immortale e musica evocativa. \n  \nPrenotazione obbligatoria scrivendo a:  associazioneareaarte@libero.it   \nL’ingresso sarà consentito solo ai possessori di Green Pass \nPer Info: 347 2430342 – 345 8526889
URL:https://backup.sistemamedcampania.it/evento/associazione-area-arte-convivio-armonico-2021-nel-mezzo-del-cammin-di-nostra-vita/
LOCATION:Basilica di S.Francesco di Paola\, Piazza del Plebiscito\, Napoli\, 80132\, Italia
CATEGORIES:Area Arte,Convivio Armonico 2021,Musica
ATTACH;FMTTYPE=image/jpeg:https://backup.sistemamedcampania.it/wp-content/uploads/2021/10/calabrese-rosso.jpg
END:VEVENT
BEGIN:VEVENT
DTSTART;TZID=Europe/Rome:20211010T190000
DTEND;TZID=Europe/Rome:20211010T190000
DTSTAMP:20260420T083353
CREATED:20211005T110054Z
LAST-MODIFIED:20211005T110054Z
UID:6699-1633892400-1633892400@backup.sistemamedcampania.it
SUMMARY:Associazione Area Arte-Convivio Armonico 2021. Armonie antiche e moderne
DESCRIPTION:Convivio Armonico 2021 dell’ Associazione Area Arte prosegue con il ciclo “La voce dell’organo” con l’ organista e compositore Leonardo Antonio Di Chiara che con il concerto intitolato Armonie antiche e moderne ci offrirà un interessante viaggio nel repertorio organistico con un programma che spazia tra trecento anni di musica\, da J. Pachelbel a J.S. Bach da C.Binder a  C.Gounod \, da U. Giordano ai contemporanei J. Berthier\, F. Peeters ed i viventi   R. Lindsten e L.A. Di Chiara. \n  \n  \nPrenotazione obbligatoria scrivendo a:  associazioneareaarte@libero.it   \nL’ingresso sarà consentito solo ai possessori di Green Pass \nPer Info: 347 2430342 – 345 8526889
URL:https://backup.sistemamedcampania.it/evento/associazione-area-arte-convivio-armonico-2021-armonie-antiche-e-moderne/
LOCATION:Chiesa dell’Immacolata al Vomero\, Piazza Immacolata\, 13\, Napoli\, Italia
CATEGORIES:Area Arte,Convivio Armonico 2021,Musica
ATTACH;FMTTYPE=image/jpeg:https://backup.sistemamedcampania.it/wp-content/uploads/2021/10/di-chiara.jpg
END:VEVENT
BEGIN:VEVENT
DTSTART;TZID=Europe/Rome:20211009T190000
DTEND;TZID=Europe/Rome:20211009T190000
DTSTAMP:20260420T083353
CREATED:20211005T105737Z
LAST-MODIFIED:20211005T105737Z
UID:6695-1633806000-1633806000@backup.sistemamedcampania.it
SUMMARY:Associazione Area Arte-Convivio Armonico 2021. Al Tempo di Marcia
DESCRIPTION:Il prossimo appuntamento di Convivio Armonico 2021 dell’ Associazione Area Arte avrà sede in una nuova location dalla grande storia\, la Chiesa dell’Ecce Homo ai Banchi Nuovi nel pieno del centro storico di Napoli\, famosa sede dal 1766 sede di una congregazione di “professori di musica”\, e luogo di sepoltura tra gli altri di Nicola Porpora\, Fedele Fenaroli\, Giacomo Tritto\,  Niccolò Zingarelli. In questo luogo carico di storia musicale\, ora affidato all’associazione UnderNeaTheatre\, verrà proposto il concerto “Al Tempo di Marcia” interessante e pirotecnico  programma dedicato al mondo delle percussioni dal Seicento al Contemporaneo. \nMusiche di Philidor\, M. Bablon\, G.B.Lully\, Carter\, Vic Firth\, Torrebruno\, L. Marinaro\, E. Novotney.  \n  \nLaura Francesca Mastominico timpani  \nGiovanni CAIAZZA\, timpani e rullante  \nFabio ESPASIANO pianoforte  \n  \n  \nPrenotazione obbligatoria scrivendo a:  associazioneareaarte@libero.it   \nL’ingresso sarà consentito solo ai possessori di Green Pass \nPer Info: 347 2430342 – 345 8526889
URL:https://backup.sistemamedcampania.it/evento/associazione-area-arte-convivio-armonico-2021-al-tempo-di-marcia/
LOCATION:Chiesa dell’Ecce Homo\, Pendino Santa Barbara\, Napoli\, 80134\, Italia
CATEGORIES:Area Arte,Convivio Armonico 2021,Musica
ATTACH;FMTTYPE=image/jpeg:https://backup.sistemamedcampania.it/wp-content/uploads/2021/10/al-tempo-di-marcia.jpg
END:VEVENT
BEGIN:VEVENT
DTSTART;TZID=Europe/Rome:20211003T190000
DTEND;TZID=Europe/Rome:20211003T190000
DTSTAMP:20260420T083353
CREATED:20210928T103630Z
LAST-MODIFIED:20210928T103630Z
UID:6674-1633287600-1633287600@backup.sistemamedcampania.it
SUMMARY:Associazione Area Arte-Convivio Armonico 2021. La voce dell' Organo
DESCRIPTION:Il prossimo appuntamento di Convivio Armonico 2021 dell’ Associazione Area Arte è con il recital dell’organista Maurizio Maffezzoli; un viaggio tra la Germania di J.G. Walther alla Francia di P. Dumage e F.Chapelet\, l’Italia P.B. Bellinzani\, G.Quirici\, e la Spagna di  F.Pedero de Araujo\, A.F. Rojero \nQuesto concerto è il primo dei quattro appuntamenti previsti e realizzati in collaborazione con l’Ottobre Francescano della Comunità dei Frati Minori Conventuali e con la consulenza dell’Associazione Organistica “G.M. TRABACI” di Napoli che accompagneranno anche gli altri concerti nella stessa chiesa. \n  \nPrenotazione obbligatoria scrivendo a:  associazioneareaarte@libero.it   \nL’ingresso sarà consentito solo ai possessori di Green Pass \nPer Info: 347 2430342 – 345 8526889
URL:https://backup.sistemamedcampania.it/evento/associazione-area-arte-convivio-armonico-2021-la-voce-dell-organo/
LOCATION:Chiesa dell’Immacolata al Vomero\, Piazza Immacolata\, 13\, Napoli\, Italia
CATEGORIES:Area Arte,Convivio Armonico 2021,Musica
ATTACH;FMTTYPE=image/jpeg:https://backup.sistemamedcampania.it/wp-content/uploads/2021/09/maffezzoli.jpg
END:VEVENT
BEGIN:VEVENT
DTSTART;TZID=Europe/Rome:20211001T190000
DTEND;TZID=Europe/Rome:20211001T190000
DTSTAMP:20260420T083353
CREATED:20210928T103208Z
LAST-MODIFIED:20210928T103208Z
UID:6670-1633114800-1633114800@backup.sistemamedcampania.it
SUMMARY:Associazione Area Arte-Convivio Armonico 2021. A Violon Seul
DESCRIPTION:Parte l’ edizione autunnale di Convivio Armonico 2021 dell’ Associazione Area Arte con il progetto “La Scuola Violinistica Napoletana” con l’Ensemble  Hortensia Virtuosa in “A Violon Seul” . Il programma è un percorso intorno al compositore genovese di scuola napoletana Giovanni Antonio Guido del quale verranno eseguite tre delle Sonate che compongono il primo libro di Sonate stampate a Parigi nel 1726\, recentemente registrate dall’ensemble in prima registrazione assoluta per l’etichetta Da Vinci Classics. L’opera verrà presentata a Napoli in occasione di questo concerto.  Guido nato a Genova nel 1675 si trasferisce a Napoli nel 1683 e dopo qualche anno al servizio della Cappella Reale si trasferisce a Parigi intorno al 1702 al servizio del duca d’Orleans ebbe fama sia come violinista che come compositore. \n  \nGiovanni ROTA violino barocco e maestro di concerto\, \nRebeca FERRI al violoncello\, \nMichele CARRECA tiorba e chitarra barocca \nGilberto SCORDARI al clavicembalo \n  \n  \nPrenotazione obbligatoria scrivendo a:  associazioneareaarte@libero.it   \nL’ingresso sarà consentito solo ai possessori di Green Pass \nPer Info: 347 2430342 – 345 8526889
URL:https://backup.sistemamedcampania.it/evento/associazione-area-arte-convivio-armonico-2021-a-violon-seul/
LOCATION:Chiesa di Santa Caterina a Formiello\, Piazza Enrico de Nicola\, Napoli\, Italia
CATEGORIES:Area Arte,Convivio Armonico 2021,Musica
ATTACH;FMTTYPE=image/jpeg:https://backup.sistemamedcampania.it/wp-content/uploads/2021/09/hortensia.jpg
END:VEVENT
BEGIN:VEVENT
DTSTART;TZID=Europe/Rome:20210711T190000
DTEND;TZID=Europe/Rome:20210711T190000
DTSTAMP:20260420T083353
CREATED:20210708T161734Z
LAST-MODIFIED:20210708T161734Z
UID:6505-1626030000-1626030000@backup.sistemamedcampania.it
SUMMARY:Associazione Area Arte-Convivio Armonico 2021. IN AMOR…FURIE E TEMPESTE
DESCRIPTION:Chiude Convivio Armonico 2021 dell’ Associazione Area Arte\, l’Ensemble Le Musiche da Camera con“IN AMOR…FURIE E TEMPESTE” arie di bravura \, duetti e sonate da Napoli all’Europa un programma dedicato al repertorio virtuosistico vocale degli evirati cantori da Farinelli a Gizziello.   \n  \nmusiche di C. Giordano\, L.Vinci\, G\,F\, Haendel\, R. Broschi\, M\, Mascitti\, E. Barbella\, N. Porpora      \n  \nEnsemble Le Musiche da Camera con strumenti d’epoca  \ncon Francesco Divito soprano  \nRosa Montano mezzosoprano  \nRenata Cataldi traversiere  \nEgidio Mastronimico  violino barocco di concerto  \nGiuseppe Grieco violino barocco  \nLeonardo Massa violoncello barocco  \nDebora Capitanio clavicembalo \n  \n  \nPrenotazione obbligatoria:  ASSOCIAZIONEAREAARTE@LIBERO.IT \nPer Info: 347 2430342 – 345 8526889 \n                         
URL:https://backup.sistemamedcampania.it/evento/associazione-area-arte-convivio-armonico-2021-in-amorfurie-e-tempeste/
LOCATION:Basilica di S.Francesco di Paola\, Piazza del Plebiscito\, Napoli\, 80132\, Italia
CATEGORIES:Area Arte,Convivio Armonico 2021,Musica
ATTACH;FMTTYPE=image/jpeg:https://backup.sistemamedcampania.it/wp-content/uploads/2021/07/le-musiche-da-camera.jpg
END:VEVENT
BEGIN:VEVENT
DTSTART;TZID=Europe/Rome:20210710T190000
DTEND;TZID=Europe/Rome:20210710T193000
DTSTAMP:20260420T083353
CREATED:20210708T155515Z
LAST-MODIFIED:20210708T155616Z
UID:6495-1625943600-1625945400@backup.sistemamedcampania.it
SUMMARY:Associazione Area Arte-Convivio Armonico 2021. Ah mio Cor
DESCRIPTION:Il prossimo appuntamento con Convivio Armonico 2021 dell’ Associazione Area Arte è con l’Ensemble Le Armoniche  Stravaganze in “Ah Mio Cor” per il progetto “Vocalità barocca tra sacro e profano” . \nLucia Conte soprano \nFrancesco Scarcella clavicembalo \nmusiche di C. Monteverdi\, E. Purcell. A. Scarlatti\, F. Cavalli\, B. Strozzi\, G.F. Haendel\, A. Vivaldi  \n  \nPrenotazione obbligatoria:  ASSOCIAZIONEAREAARTE@LIBERO.IT \nPer Info: 347 2430342 – 345 8526889
URL:https://backup.sistemamedcampania.it/evento/associazione-area-arte-convivio-armonico-2021-ah-mio-cor/
LOCATION:Basilica di S.Francesco di Paola\, Piazza del Plebiscito\, Napoli\, 80132\, Italia
CATEGORIES:Area Arte,Convivio Armonico 2021,Musica
ATTACH;FMTTYPE=image/jpeg:https://backup.sistemamedcampania.it/wp-content/uploads/2021/07/armoniche-stravaganze.jpg
END:VEVENT
BEGIN:VEVENT
DTSTART;TZID=Europe/Rome:20210704T190000
DTEND;TZID=Europe/Rome:20210704T190000
DTSTAMP:20260420T083353
CREATED:20210701T094455Z
LAST-MODIFIED:20210701T094455Z
UID:6487-1625425200-1625425200@backup.sistemamedcampania.it
SUMMARY:Associazione Area Arte-Convivio Armonico 2021. A due Canti\, sonate in Trio da Napoli a Venezia
DESCRIPTION:Il prossimo appuntamento con Convivio Armonico 2021 dell’ Associazione Area Artec con il progetto “Percorsi Barocchi” e sarà la volta del trio formato da Egidio Mastronimico\,Vincenzo Corrado e Rosa Montano in “A due Canti – Sonate in Trio da Napoli a Venezia” un percorso nella forma della trio sonata con musiche da  Corelli a Marchitelli da Vivaldi e Albinoni a Barbella. \nEgidio Mastronimico\, Vincenzo Corrado violino barocco \nRosa Montano organo \n  \n  \nPrenotazione obbligatoria:  ASSOCIAZIONEAREAARTE@LIBERO.IT \nPer Info: 347 2430342 – 345 8526889
URL:https://backup.sistemamedcampania.it/evento/associazione-area-arte-convivio-armonico-2021-a-due-canti-sonate-in-trio-da-napoli-a-venezia/
LOCATION:Chiesa di Sant’ Orsola a Chiaia\, Via Chiaia\, 161\, Napoli\, 80121\, Italia
CATEGORIES:Area Arte,Convivio Armonico 2021,Musica
ATTACH;FMTTYPE=image/jpeg:https://backup.sistemamedcampania.it/wp-content/uploads/2021/07/a-due-canti.jpg
END:VEVENT
BEGIN:VEVENT
DTSTART;TZID=Europe/Rome:20210703T190000
DTEND;TZID=Europe/Rome:20210703T190000
DTSTAMP:20260420T083353
CREATED:20210701T092102Z
LAST-MODIFIED:20210701T092102Z
UID:6483-1625338800-1625338800@backup.sistemamedcampania.it
SUMMARY:Associazione Area Arte-Convivio Armonico 2021. Ester Facchini & Paola Ventrella
DESCRIPTION:Per il prossimo appuntamento con Convivio Armonico 2021 dell’ Associazione Area Arte si ritorna all’antico con il terzo e ultimo appuntamento del focus Pizzicar Galante. D’OGNI GRAZIA E D’OGNI AMORE… con musiche di  B. Castaldi\, F. Caccini\, G.G. Kapsberger\, P.A. Giramo è la proposta che vede impegnate il soprano Ester Facchini e la tiorbista Paola Ventrella. Arie e sonate sulla tiorba dedicate in particolare alla figura di Francesca Caccini e a Bellerofonte Castaldi virtuoso di tiorba e una delle figure più enigmatiche ed anticoformiste del seicento\,  al  quale di recente la Ventrella ha dedicato una pubblicazione “Ludebat Bellerofontes”. \n  \n  \n  \nPrenotazione obbligatoria:  ASSOCIAZIONEAREAARTE@LIBERO.IT \nPer Info: 347 2430342 – 345 8526889 \n 
URL:https://backup.sistemamedcampania.it/evento/associazione-area-arte-convivio-armonico-2021-ester-facchini-paola-ventrella/
LOCATION:Basilica di S.Francesco di Paola\, Piazza del Plebiscito\, Napoli\, 80132\, Italia
CATEGORIES:Area Arte,Convivio Armonico 2021,Musica
ATTACH;FMTTYPE=image/jpeg:https://backup.sistemamedcampania.it/wp-content/uploads/2021/07/facchini-ventrella.jpg
END:VEVENT
BEGIN:VEVENT
DTSTART;TZID=Europe/Rome:20210626T190000
DTEND;TZID=Europe/Rome:20210626T190000
DTSTAMP:20260420T083353
CREATED:20210623T161648Z
LAST-MODIFIED:20210623T161648Z
UID:6460-1624734000-1624734000@backup.sistemamedcampania.it
SUMMARY:Associazione Area Arte-Convivio Armonico 2021. Eleonora Perretta
DESCRIPTION:Il prossimo appuntamento con Convivio Armonico 2021 dell’ Associazione Area Arte è con la giovane  talentuosa e pluripremiata chitarrista Eleonora Perretta  con un programma che va da D.Scarlatti a L. Brouwer. Nel 2020 Peretta si aggiudica il Primo Premio al Festival Internazionale “Citta di Mottola”\, diventando Eurostrings Artist. \n  \nPrenotazione obbligatoria:  ASSOCIAZIONEAREAARTE@LIBERO.IT \nPer Info: 347 2430342 – 345 8526889  WWW.AREAARTE.EU  \n 
URL:https://backup.sistemamedcampania.it/evento/associazione-area-arte-convivio-armonico-2021-eleonora-perretta/
LOCATION:Basilica di S.Francesco di Paola\, Piazza del Plebiscito\, Napoli\, 80132\, Italia
CATEGORIES:Area Arte,Convivio Armonico 2021,Musica
ATTACH;FMTTYPE=image/jpeg:https://backup.sistemamedcampania.it/wp-content/uploads/2021/06/perretta.jpg
END:VEVENT
BEGIN:VEVENT
DTSTART;TZID=Europe/Rome:20210619T190000
DTEND;TZID=Europe/Rome:20210619T190000
DTSTAMP:20260420T083353
CREATED:20210616T150323Z
LAST-MODIFIED:20210616T151700Z
UID:6432-1624129200-1624129200@backup.sistemamedcampania.it
SUMMARY:Associazione Area Arte-Convivio Armonico 2021. Verde Barocco
DESCRIPTION:Il primo appuntamento con Convivio Armonico 2021 dell’ Associazione Area Arte è conVerde Barocco con Francesca Benetti;  un programma che spazia liberamente  dal repertorio rinascimentale da Frescobaldi a Piccinni a quello contemporaneo di L. Bartolo\, N. Cave\, eseguito con la tiorba\, la chitarra barocca\, il liuto e la voce. Il contesto è quello dei giardini o luoghi di interazione con il mondo naturale che diventano teatri indiscutibili di questo originale e personale percorso artistico. \nFrancesca Benetti specialista formata presso la Schola Cantorum Basiliensis\, abbina l’attività di strumentista a quella di cantante barocca nella singolare prassi storica del canto accompagnato. E’direttore artistico dell’ensemble Concerto di Margherita.  \nFrancesca Benetti Tiorba e Voce \nmusiche di G.G. Kapsberger \, B. Castaldi\, G. Frescobaldi\, T. Merula\, A. Gabrieli \, S. d’India\, R. Rontani \, C. Monteverdi  \n  \nPrenotazione obbligatoria:  ASSOCIAZIONEAREAARTE@LIBERO.IT \nPer Info: 347 2430342 – 345 8526889  WWW.AREAARTE.EU  \n  \n  \n 
URL:https://backup.sistemamedcampania.it/evento/associazione-area-arte-convivio-armonico-2021-verde-barocco/
LOCATION:A’mbasciata Palazzo Venezia\, Via B. Croce 25\, Napoli
CATEGORIES:Area Arte,Convivio Armonico 2021,Musica
ATTACH;FMTTYPE=image/jpeg:https://backup.sistemamedcampania.it/wp-content/uploads/2021/06/benetti.jpg
END:VEVENT
END:VCALENDAR