BEGIN:VCALENDAR
VERSION:2.0
PRODID:-//Sistema Med Campania - ECPv6.7.0//NONSGML v1.0//EN
CALSCALE:GREGORIAN
METHOD:PUBLISH
X-ORIGINAL-URL:https://backup.sistemamedcampania.it
X-WR-CALDESC:Eventi per Sistema Med Campania
REFRESH-INTERVAL;VALUE=DURATION:PT1H
X-Robots-Tag:noindex
X-PUBLISHED-TTL:PT1H
BEGIN:VTIMEZONE
TZID:Europe/Rome
BEGIN:DAYLIGHT
TZOFFSETFROM:+0100
TZOFFSETTO:+0200
TZNAME:CEST
DTSTART:20220327T010000
END:DAYLIGHT
BEGIN:STANDARD
TZOFFSETFROM:+0200
TZOFFSETTO:+0100
TZNAME:CET
DTSTART:20221030T010000
END:STANDARD
END:VTIMEZONE
BEGIN:VEVENT
DTSTART;TZID=Europe/Rome:20221009T193000
DTEND;TZID=Europe/Rome:20221009T193000
DTSTAMP:20260420T053750
CREATED:20220926T110754Z
LAST-MODIFIED:20220926T110754Z
UID:7606-1665343800-1665343800@backup.sistemamedcampania.it
SUMMARY:Associazione Area Arte. Convivio Armonico 2022- La voce dell' organo. Pasquale Riccio
DESCRIPTION:Per il progetto la Voce dell’ Organo di  Convivio Armonico 2022 dell’ Associazione Area Arte\,  Pasquale Riccio suonerà l’ organo della Chiesa dell’ Immacolata al Vomero. \nmusiche di W.Byrd\, B. Marcello\, D. Zipoli\, B. Galuppi\, R. Schumann\, C. Franck\, O. Ravanello\, E.Torres \n  \n  \nPer Info:  associazioneareaarte@libero.it –  3509273606
URL:https://backup.sistemamedcampania.it/evento/associazione-area-arte-convivio-armonico-2022-la-voce-dell-organo-pasquale-riccio/
LOCATION:Chiesa dell’Immacolata al Vomero\, Piazza Immacolata\, 13\, Napoli\, Italia
CATEGORIES:Area Arte,Convivio Armonico 2022,Musica
ATTACH;FMTTYPE=image/jpeg:https://backup.sistemamedcampania.it/wp-content/uploads/2022/09/riccio.jpg
END:VEVENT
BEGIN:VEVENT
DTSTART;TZID=Europe/Rome:20221002T193000
DTEND;TZID=Europe/Rome:20221002T193000
DTSTAMP:20260420T053750
CREATED:20220926T110300Z
LAST-MODIFIED:20220926T110300Z
UID:7602-1664739000-1664739000@backup.sistemamedcampania.it
SUMMARY:Associazione Area Arte. Convivio Armonico 2022- La voce dell' organo. Giuseppe Rigliaco
DESCRIPTION:Per il progetto la Voce dell’ Organo di  Convivio Armonico 2022 dell’ Associazione Area Arte\,  Giuseppe Rigliaco suonerà l’ organo della Chiesa dell’ Immacolata al Vomero. \nmusiche di J. S. Bach\, N.L. Clérambault\, V. Petrali\, M.E. Bossi \n  \n  \nPer Info:  associazioneareaarte@libero.it –  3509273606
URL:https://backup.sistemamedcampania.it/evento/associazione-area-arte-convivio-armonico-2022-la-voce-dell-organo-giuseppe-rigliaco/
LOCATION:Chiesa dell’Immacolata al Vomero\, Piazza Immacolata\, 13\, Napoli\, Italia
CATEGORIES:Area Arte,Convivio Armonico 2022,Musica
ATTACH;FMTTYPE=image/jpeg:https://backup.sistemamedcampania.it/wp-content/uploads/2022/09/rigliaco.jpg
END:VEVENT
BEGIN:VEVENT
DTSTART;TZID=Europe/Rome:20220625T190000
DTEND;TZID=Europe/Rome:20220625T190000
DTSTAMP:20260420T053750
CREATED:20220606T152243Z
LAST-MODIFIED:20220606T152243Z
UID:7467-1656183600-1656183600@backup.sistemamedcampania.it
SUMMARY:Associazione Area Arte. Convivio Armonico 2022-Barocco Sacro: Spagna e Italia a Confronto
DESCRIPTION:Convivio Armonico dell’ Associazione Area Arte si conclude con il secondo concerto dedicato agli organi storici\,  con lo storico organo De Martino del 1718. Il noto mezzosoprano Elisabetta Pallucchi e Maurizio Maffezzoli all’organo offriranno un programma dal titolo “Barocco Sacro: Spagna e Italia a Confronto”\, con opere di  A. De Cabezon\, F.Correa de Arauxo\, P. Bruna\, G. da Viadana\, G.Quirici. \n  \n  \n  \nPrenotazione obbligatoria scrivendo a:  associazioneareaarte@libero.it   \nPer Info: 347 2430342 – 345 8526889
URL:https://backup.sistemamedcampania.it/evento/associazione-area-arte-convivio-armonico-2022-barocco-sacro-spagna-e-italia-a-confronto/
LOCATION:Chiesa di Santa Caterina a Formiello\, Piazza Enrico de Nicola\, Napoli\, Italia
CATEGORIES:Area Arte,Convivio Armonico 2022,Musica
ATTACH;FMTTYPE=image/jpeg:https://backup.sistemamedcampania.it/wp-content/uploads/2022/06/25-giugno.jpg
END:VEVENT
BEGIN:VEVENT
DTSTART;TZID=Europe/Rome:20220612T203000
DTEND;TZID=Europe/Rome:20220612T203000
DTSTAMP:20260420T053750
CREATED:20220606T151332Z
LAST-MODIFIED:20220606T151332Z
UID:7464-1655065800-1655065800@backup.sistemamedcampania.it
SUMMARY:Associazione Area Arte. Convivio Armonico 2022-Visioni Sonore...Da Scarlatti A Piazzolla
DESCRIPTION:L’ Associazione Area Arte per Convivio Armonico ci offre il concerto “Visioni Sonore…Da Scarlatti A Piazzolla” con il Phoinikes Sax Quartet – vincitori del REATE Festival 2021 (Premio Speciale Città di Rieti) formato da Matteo Di Giuliani sax soprano\, Luigina Battisti sax alt\,  Danilo Coltella sax tenore\, Luca D’angeli sax baritono. Omaggio alla Scuola Napoletana con nuove trascrizioni per il quartetto di opere di Domenico Scarlatti e Domenico Cimarosa in un programma che si slancia poi nel contemporaneo con Iturralde\, Di Cosimo\, Stracchi\, Molinelli\, e Piazzolla. \n  \n  \nPrenotazione obbligatoria scrivendo a:  associazioneareaarte@libero.it   \nPer Info: 347 2430342 – 345 8526889 \n 
URL:https://backup.sistemamedcampania.it/evento/associazione-area-arte-convivio-armonico-2022-visioni-sonore-da-scarlatti-a-piazzolla/
LOCATION:Chiesa dell’Ecce Homo\, Pendino Santa Barbara\, Napoli\, 80134\, Italia
CATEGORIES:Area Arte,Convivio Armonico 2022,Musica
ATTACH;FMTTYPE=image/jpeg:https://backup.sistemamedcampania.it/wp-content/uploads/2022/06/12-giugno.jpg
END:VEVENT
BEGIN:VEVENT
DTSTART;TZID=Europe/Rome:20220605T193000
DTEND;TZID=Europe/Rome:20220605T193000
DTSTAMP:20260420T053750
CREATED:20220531T181500Z
LAST-MODIFIED:20220531T181500Z
UID:7461-1654457400-1654457400@backup.sistemamedcampania.it
SUMMARY:Associazione Area Arte. Convivio Armonico 2022- Quartetto dell’Ensemble Lirico Italiano
DESCRIPTION:L’ Associazione Area Arte per Convivio Armonico ospita il Quartetto dell’Ensemble Lirico Italiano\, formato da  Giuseppe Carotenuto\, Alessia Avagliano\, Francesco D’arcangelo e Luigi Lamberti . Il programma è incentrato sull’incontro della prima e ultima delle sonate a quattro di G. Rossini con la bellissima sonata per violino e violoncello di M. Ravel. \n  \nGiuseppe Carotenuto\, Alessia Avagliano violino \nFrancesco D’Arcangelo violoncello  \nLuigi Lamberti contrabasso \n  \nPrenotazione obbligatoria scrivendo a:  associazioneareaarte@libero.it   \nPer Info: 347 2430342 – 345 8526889 \n  \n 
URL:https://backup.sistemamedcampania.it/evento/associazione-area-arte-convivio-armonico-2022-quartetto-dellensemble-lirico-italiano/
LOCATION:Basilica di S.Francesco di Paola\, Piazza del Plebiscito\, Napoli\, 80132\, Italia
CATEGORIES:Area Arte,Convivio Armonico 2022,Musica
ATTACH;FMTTYPE=image/jpeg:https://backup.sistemamedcampania.it/wp-content/uploads/2022/05/5-giugno.jpg
END:VEVENT
BEGIN:VEVENT
DTSTART;TZID=Europe/Rome:20220528T193000
DTEND;TZID=Europe/Rome:20220528T193000
DTSTAMP:20260420T053750
CREATED:20220524T105639Z
LAST-MODIFIED:20220524T105639Z
UID:7446-1653766200-1653766200@backup.sistemamedcampania.it
SUMMARY:Associazione Area Arte. Convivio Armonico 2022- La Voce dell' Organo
DESCRIPTION:Per Convivio Armonico dell’Associazione Area Arte riascoltiamo la voce dello storico organo De Feo del 1853 affidato ad Andreana Pilotti all’ organo in duo con Alfredo De Francesco al sassofono per un programma di trascrizioni per il duo di opere di Vinci\, Bach\, Handel\, Telemann\, Marcello\, Galuppi\, Vecchiotti  \n  \nPrenotazione obbligatoria scrivendo a:  associazioneareaarte@libero.it   \nPer Info: 347 2430342 – 345 8526889 \n  \n 
URL:https://backup.sistemamedcampania.it/evento/associazione-area-arte-convivio-armonico-2022-la-voce-dell-organo/
LOCATION:Chiesa di Sant’ Orsola a Chiaia\, Via Chiaia\, 161\, Napoli\, 80121\, Italia
CATEGORIES:Area Arte,Convivio Armonico 2022,Musica
ATTACH;FMTTYPE=image/jpeg:https://backup.sistemamedcampania.it/wp-content/uploads/2022/05/28-maggio.jpg
END:VEVENT
BEGIN:VEVENT
DTSTART;TZID=Europe/Rome:20220521T203000
DTEND;TZID=Europe/Rome:20220521T203000
DTSTAMP:20260420T053750
CREATED:20220516T153254Z
LAST-MODIFIED:20220516T153254Z
UID:7409-1653165000-1653165000@backup.sistemamedcampania.it
SUMMARY:Associazione Area Arte. Convivio Armonico 2022- Corde parallele
DESCRIPTION:Il prossimo appuntamento con l’ Associazione Area Arte e con  Convivio Armonico vedrà protagonista un insolito accostamento timbrico di pianoforte e chitarra con il duo formato da Maria Giovanna Siciliano Iengo ed Enza De Stefano  con un programma che offre un percorso attraverso la musica popolare\, rielaborata per il duo dal giovane compositore napoletano Geminiano Mancusi\,  di grandi compositori – I. Albeniz\, E. Granados\, M. M. Ponce –  attivi fra il XIX e il XX secolo nella quale riecheggiano ritmi e melodie della tradizione iberica e latinoamericana. Come sempre non può mancare l’omaggio alla Scuola Napoletana con un brano del famoso chitarrista e compositore napoletano Ferdinando Carulli.  \n  \nMaria Giovanna Siciliano Iengo chitarra \nEnza De Stefano pianoforte \n  \nPrenotazione obbligatoria scrivendo a:  associazioneareaarte@libero.it   \nPer Info: 347 2430342 – 345 8526889 \n  \n  \n 
URL:https://backup.sistemamedcampania.it/evento/associazione-area-arte-convivio-armonico-2022-corde-parallele/
LOCATION:Domus Ars\, Via Santa Chiara\, 10\, Napoli\, Italia
CATEGORIES:Area Arte,Convivio Armonico 2022,Musica
ATTACH;FMTTYPE=image/jpeg:https://backup.sistemamedcampania.it/wp-content/uploads/2022/05/21-maggio.jpg
END:VEVENT
BEGIN:VEVENT
DTSTART;TZID=Europe/Rome:20220514T193000
DTEND;TZID=Europe/Rome:20220514T193000
DTSTAMP:20260420T053750
CREATED:20220511T170640Z
LAST-MODIFIED:20220511T171348Z
UID:7389-1652556600-1652556600@backup.sistemamedcampania.it
SUMMARY:Associazione Area Arte. Convivio Armonico 2022-Franziska Fleischanderl
DESCRIPTION:Convivio Armonico dell’ Associazione Area Arte prosegue con il primo dei due appuntamenti del ciclo “Pizzicar Galante” dedicato agli strumenti a pizzico tutto al femminile. Ospite di prestigio Franziska Fleischanderl conosciuta virtuosa e studiosa austriaca del Salterio\, che suona utilizzando tutte le tecniche di esecuzione d’epoca: pizzicato con le dita e pizzicato con i plettri e battuto con le bacchette. Il recital per solo Salterio proporrà musiche di F. Ubaldi\, M. Canales\, A. Vivaldi e di Scuola Napoletana. \n  \nPrenotazione obbligatoria scrivendo a:  associazioneareaarte@libero.it   \nPer Info: 347 2430342 – 345 8526889 \n  \n  \n  \n 
URL:https://backup.sistemamedcampania.it/evento/associazione-area-arte-convivio-armonico-2022-franziska-fleischanderl/
LOCATION:Basilica di S.Francesco di Paola\, Piazza del Plebiscito\, Napoli\, 80132\, Italia
CATEGORIES:Area Arte,Convivio Armonico 2022,Musica
ATTACH;FMTTYPE=image/jpeg:https://backup.sistemamedcampania.it/wp-content/uploads/2022/05/14-maggio.jpg
END:VEVENT
BEGIN:VEVENT
DTSTART;TZID=Europe/Rome:20220507T203000
DTEND;TZID=Europe/Rome:20220507T203000
DTSTAMP:20260420T053750
CREATED:20220502T095800Z
LAST-MODIFIED:20220502T095800Z
UID:7352-1651955400-1651955400@backup.sistemamedcampania.it
SUMMARY:Associazione Area Arte. Convivio Armonico 2022-Cohaere Ensemble
DESCRIPTION:Convivio Armonico dell’ Associazione Area Arte prosegue con il “Cohaere Ensemble”\, formato da tre giovani talenti della musica antica formati in Polonia\,  Marta Korbel\, Monika Anna Hartmann\, Natalia Magdalena Olczak impegnato in un ricercato recital nel repertorio violinistico da  J.F. Rebel\, A. Stradella\, J.H.Roman\, M. Corrette\, T. Albinoni\,  per finire con l’omaggio alla Scuola Violinistica Napoletana con la sonata in Passacaglia di M. Mascitti.  \nMarta Korbel Violino\, \nMonika Anna Hartmann Violoncello \nNatalia Magdalena Olczak Cembalo \n  \nPrenotazione obbligatoria scrivendo a:  associazioneareaarte@libero.it   \nPer Info: 347 2430342 – 345 8526889
URL:https://backup.sistemamedcampania.it/evento/associazione-area-arte-convivio-armonico-2022-cohaere-ensemble/
LOCATION:Domus Ars\, Via Santa Chiara\, 10\, Napoli\, Italia
CATEGORIES:Area Arte,Convivio Armonico 2022,Musica
ATTACH;FMTTYPE=image/jpeg:https://backup.sistemamedcampania.it/wp-content/uploads/2022/05/7-maggio.jpg
END:VEVENT
BEGIN:VEVENT
DTSTART;TZID=Europe/Rome:20220430T193000
DTEND;TZID=Europe/Rome:20220430T193000
DTSTAMP:20260420T053750
CREATED:20220426T143350Z
LAST-MODIFIED:20220426T143350Z
UID:7336-1651347000-1651347000@backup.sistemamedcampania.it
SUMMARY:Associazione Area Arte. Convivio Armonico 2022- Stabat Mater
DESCRIPTION:Il prossimo appuntamento di Convivio Armonico dell’ Associazione Area Arte è con l’Ensemble Barocco “Le Musiche Da Camera”\, che quest’anno celebra i suoi trent’anni di attività\, che eseguirà lo Stabat Mater di Alessandro Scarlatti e la Sinfonia dall’Oratorio S. Elena al Calvario di Leonardo Leo\, solisti Francesco Divito soprano e Rosa Montano mezzosoprano\,  Egidio Mastrominico violino barocco di concerto\, Giuseppe Grieco violino barocco\, Leonardo Massa violoncello barocco Michele Carreca tiorba\, Debora Capitanio clavicembalo \nLo Stabat opera tra le opere più innovative del grande maestro palermitano grazie a una scrittura brillante e virtuosistica\, che presenta tutte le caratteristiche dello “stile nuovo” operistico\, fu composta su commissione della Confraternita napoletana dei Cavalieri della Vergine dei Dolori di San Luigi al Palazzo\, espressamente per un piccolo organico di due voci e violini. Conta di 18 numeri e fu eseguita per anni venendo sostituita solo nel 1736 dallo Stabat che la stessa Confraternita commissionò a Giovan Battista Pergolesi\, che oltre allo stesso organico vanta con l’originale scarlattiano numerose analogie. \n  \nPrenotazione obbligatoria scrivendo a:  associazioneareaarte@libero.it   \nPer Info: 347 2430342 – 345 8526889
URL:https://backup.sistemamedcampania.it/evento/associazione-area-arte-convivio-armonico-2022-stabat-mater/
LOCATION:Basilica di S.Francesco di Paola\, Piazza del Plebiscito\, Napoli\, 80132\, Italia
CATEGORIES:Area Arte,Convivio Armonico 2022,Musica
ATTACH;FMTTYPE=image/jpeg:https://backup.sistemamedcampania.it/wp-content/uploads/2022/04/30-aprile.jpg
END:VEVENT
BEGIN:VEVENT
DTSTART;TZID=Europe/Rome:20220424T193000
DTEND;TZID=Europe/Rome:20220424T193000
DTSTAMP:20260420T053750
CREATED:20220420T115347Z
LAST-MODIFIED:20220420T115347Z
UID:7321-1650828600-1650828600@backup.sistemamedcampania.it
SUMMARY:Associazione Area Arte. Convivio Armonico 2022-Care Luci Del Mio Bene - Bononcini VS Handel
DESCRIPTION:Convivio Armonico dell’ Associazione Area Arte  ritorna con l’edizione 2022. Primo concerto  con l’Ensemble Barocco “Cenacolo Musicale” con Care Luci Del Mio Bene – Bononcini VS Handel un programma basato su un immaginario duello musicale\, prassi diffusa nel barocco\, tra Bononcini e Handel\, occasione di confronto tra le cifre espressive dei due compositori che si fronteggiarono – e spesso si imitarono – nella Londra del primo quarto di secolo del ‘700. Cantate e Sonate per l’ensemble\, recentemente protagonista di una serie di concerti registrati per RAI 5\, fondato  dalla cembalista e direttrice artistica dell’Associazione Barocco Europeo Donatella Busetto\, solista il contralto Francesca Biliotti\, specializzata nel repertorio barocco con Sara Mingardo e con collaborazioni con Gardiner\, Savall\, Bashmet. \n  \nFrancesca Biliotti Contralto \nFrancesco Lovato\, Leonardo Bellesini Violini \nElisa La Marca Tiorba \nMassimo Raccanelli Violoncello \nDonatella Busetto Cembalo \n  \n  \n  \nPrenotazione obbligatoria scrivendo a:  associazioneareaarte@libero.it   \nPer Info: 347 2430342 – 345 8526889 \n 
URL:https://backup.sistemamedcampania.it/evento/associazione-area-arte-convivio-armonico-2022-care-luci-del-mio-bene-bononcini-vs-handel/
LOCATION:Basilica di S.Francesco di Paola\, Piazza del Plebiscito\, Napoli\, 80132\, Italia
CATEGORIES:Area Arte,Convivio Armonico 2022,Musica
ATTACH;FMTTYPE=image/jpeg:https://backup.sistemamedcampania.it/wp-content/uploads/2022/04/24-aprile.jpg
END:VEVENT
END:VCALENDAR