BEGIN:VCALENDAR
VERSION:2.0
PRODID:-//Sistema Med Campania - ECPv6.7.0//NONSGML v1.0//EN
CALSCALE:GREGORIAN
METHOD:PUBLISH
X-WR-CALNAME:Sistema Med Campania
X-ORIGINAL-URL:https://backup.sistemamedcampania.it
X-WR-CALDESC:Eventi per Sistema Med Campania
REFRESH-INTERVAL;VALUE=DURATION:PT1H
X-Robots-Tag:noindex
X-PUBLISHED-TTL:PT1H
BEGIN:VTIMEZONE
TZID:Europe/Rome
BEGIN:DAYLIGHT
TZOFFSETFROM:+0100
TZOFFSETTO:+0200
TZNAME:CEST
DTSTART:20180325T010000
END:DAYLIGHT
BEGIN:STANDARD
TZOFFSETFROM:+0200
TZOFFSETTO:+0100
TZNAME:CET
DTSTART:20181028T010000
END:STANDARD
BEGIN:DAYLIGHT
TZOFFSETFROM:+0100
TZOFFSETTO:+0200
TZNAME:CEST
DTSTART:20190331T010000
END:DAYLIGHT
BEGIN:STANDARD
TZOFFSETFROM:+0200
TZOFFSETTO:+0100
TZNAME:CET
DTSTART:20191027T010000
END:STANDARD
BEGIN:DAYLIGHT
TZOFFSETFROM:+0100
TZOFFSETTO:+0200
TZNAME:CEST
DTSTART:20200329T010000
END:DAYLIGHT
BEGIN:STANDARD
TZOFFSETFROM:+0200
TZOFFSETTO:+0100
TZNAME:CET
DTSTART:20201025T010000
END:STANDARD
BEGIN:DAYLIGHT
TZOFFSETFROM:+0100
TZOFFSETTO:+0200
TZNAME:CEST
DTSTART:20210328T010000
END:DAYLIGHT
BEGIN:STANDARD
TZOFFSETFROM:+0200
TZOFFSETTO:+0100
TZNAME:CET
DTSTART:20211031T010000
END:STANDARD
END:VTIMEZONE
BEGIN:VEVENT
DTSTART;TZID=Europe/Rome:20211121T200000
DTEND;TZID=Europe/Rome:20211121T200000
DTSTAMP:20260419T222854
CREATED:20211119T105821Z
LAST-MODIFIED:20211119T105821Z
UID:6874-1637524800-1637524800@backup.sistemamedcampania.it
SUMMARY:ArtGarage. IMMAGI]NA Film Festival - Camera con vista interna
DESCRIPTION:Chiude la prima edizione dell’ IMMAGI]NA Film Festival ideato e promosso da ArtGarage\, una performance targata ARB Dance Company “Camera con vista interna” : \nDecido di abitare angoli che scelsi di tenere al buio.\nDalla stasi lo svelamento dell’oscuro diviene parte della luce.\nIl modo in cui percepisco il non visibile è ciò che mi definisce.\nIl buio non è assenza di qualcosa ma spazio da assorbire. Parentesi vuota.\nLa colgo\, la indago\, la svelo.\nRiesco persino a vedere ciò che aveva celato\, o che io avevo scelto di non vedere. \n  \nPerformers\nGinevra Cecere\, Glorianna Tartaglione \nConcept e regia collettiva\nGinevra Cecere\, Glorianna Tartaglione\, Martina Esposito \nCollaborazione\nFrancesco Roccasecca\, Davide Guerriero \n  \n Ingresso con green pass obbligatorio \nPer info: Immagina Film Festival \n 
URL:https://backup.sistemamedcampania.it/evento/artgarage-immagina-film-festival-camera-con-vista-interna/
LOCATION:Art Garage\, p.co Bognar 21\, Pozzuoli (NA)\, 80078\, Italia
CATEGORIES:Arabesque,Art Garage,Danza
ATTACH;FMTTYPE=image/jpeg:https://backup.sistemamedcampania.it/wp-content/uploads/2021/11/camera.jpg
END:VEVENT
BEGIN:VEVENT
DTSTART;TZID=Europe/Rome:20211119T203000
DTEND;TZID=Europe/Rome:20211119T203000
DTSTAMP:20260419T222854
CREATED:20211115T155437Z
LAST-MODIFIED:20230531T094502Z
UID:6854-1637353800-1637353800@backup.sistemamedcampania.it
SUMMARY:ArtGarage - Immagi]Na Film Festival
DESCRIPTION:Al via la prima edizione di “Immagi]Na Film Festival”  organizzato e promosso da ArtGarage\, centro coreografico di produzione delle arti performative contemporanee che da sempre si dedica alla diffusione delle arti visive in ogni sua forma attraverso l’organizzazione di mostre\, proiezioni\, incontri\, festival. Dopo anni di pausa\, dovuti all’intensa attività produttiva per la danza\, riparte\, vestito di nuova forma\, il festival solo per film sperimentali e video danza.\nIl festival si concentra sull’interazione tra la danza e le tecniche del cinema\, esplorando le possibilità e i confini di queste forme d’arte. \nLe serate saranno arricchite dalle proiezioni di una parte delle opere del progetto Dance Inside ideato e realizzato da Giuseppe Distefano\, giornalista\, critico e fotografo\, e da Lula Abicca\, autrice di articoli di danza e dalle proiezioni dei corti realizzati dal laboratorio con Simona lisi tenutosi nei giorni precedenti con HumanBodies program. \n-Durante la prima serata saranno proiettati alcuni dei video selezionati;  segue “L’ immagine in Movimento” con Giuseppe Borrone critico cinematografico che intervista Simona Lisi\, direttrice artistica del Festival Cinematica\, danzatrice\, attrice e coreografa. \n-La seconda serata si apre con Manuela Barbato curatrice stagione Teatro Bellini che incontra Sara Lupoli coreografa che indaga nelle nuove tecnologie. A seguire la proiezione dei video selezionati. \n-In apertura dell’ultima serata Massimiliano Craus critico di danza intervista Marilena Riccio ideatrice del Coreografo Elettronico tra i primi festival di video danza d’Europa. La serata prosegue con la proclamazione e la premiazione da parte di una giuria di esperti\, oltre una giuria popolare costituita da studenti e danzatori professionisti\, dei migliori video di questa edizione.\nChiude il festival  “Camera con vista interna” una performance a cura di ARB dance company \n  \n Ingresso con green pass obbligatorio \nPer info: Immagina Film Festival \n  \n  \n 
URL:https://backup.sistemamedcampania.it/evento/artgarage-immagina-film-festival/
LOCATION:Art Garage\, p.co Bognar 21\, Pozzuoli (NA)\, 80078\, Italia
CATEGORIES:Art Garage,Danza,Musica
ATTACH;FMTTYPE=image/jpeg:https://backup.sistemamedcampania.it/wp-content/uploads/2021/11/immagina.jpg
END:VEVENT
BEGIN:VEVENT
DTSTART;TZID=Europe/Rome:20200209T183000
DTEND;TZID=Europe/Rome:20200209T210000
DTSTAMP:20260419T222854
CREATED:20191204T112833Z
LAST-MODIFIED:20200124T125140Z
UID:5201-1581273000-1581282000@backup.sistemamedcampania.it
SUMMARY:Itinerarte.Oltre la Linea 2020-Silence.Music of Life
DESCRIPTION:Per Oltre la Linea\, la rassegna di teatro-danza organizzata da Itinerarte\, in scena Silence – Music of life\, performance di danza contemporanea e musica elettronica che prova a ridare dignità al rumore di fondo con il movimento nel “momento”. Il “silenzio” è qui\, quello del paesaggio sonoro circostante\, dei rumori della strada\, dei performer e degli spettatori. Il suono è modificato mediante elaborazione numerica del segnale con un sistema dinamico e interattivo tra suono\, corpo e movimento. I performer e il suono diventano parte di un unico processo creativo in bilico tra live-performance e installazione.  SILENCE – Music of Life diventa un’opera “ready-made”\, la coreografia e il suono si fondono come in un’opera\, dove ogni gesto del corpo e ogni gesto sonoro acquisiscono un nuovo carattere semantico nel mondo dell’immaginazione. \n\n“Il silenzio trasforma ogni spazio in un luogo. Il silenzio è la musica che circonda ogni momento della nostra quotidianità”\n\nConcept  Emma Cianchi – Dario Casillo \nCoreografia Emma Cianchi \nDanzatori  Maria Anzivino – Marcella Martusciello – Antonio Nicastro \nSound Eugenio Fabiani \n\n\ninfo: http://www.artgarage.it/\n\n 
URL:https://backup.sistemamedcampania.it/evento/itinerarte-oltre-la-linea-2019-silence-music-of-life/
LOCATION:Palazzo Fazio\, Via Seminario Campano\, 12\, Capua CE\, 81043
CATEGORIES:Art Garage,Danza,Itinerarte,Oltre la Linea 2019
ATTACH;FMTTYPE=image/jpeg:https://backup.sistemamedcampania.it/wp-content/uploads/2019/12/silence-music-of-life-per-oltre-la-linea.jpg
END:VEVENT
BEGIN:VEVENT
DTSTART;TZID=Europe/Rome:20191220T180000
DTEND;TZID=Europe/Rome:20191220T180000
DTSTAMP:20260419T222854
CREATED:20191219T121037Z
LAST-MODIFIED:20191219T121037Z
UID:5414-1576864800-1576864800@backup.sistemamedcampania.it
SUMMARY:Art Garage e Itinerarte- Didanza\, 7° edizione
DESCRIPTION:Art Garage e Itinerarte presentano la 7° edizione di ” DiDanza” con l’ intervento della compagnia francese Jeune Ballet Désoblique e la compagnia Megakles Ballet.
URL:https://backup.sistemamedcampania.it/evento/art-garage-e-itinerarte-didanza-7-edizione/
LOCATION:Teatro Mediterraneo della Mostra d’Oltremare\, Via Enrico Caruso\, Napoli\, Italia
CATEGORIES:Art Garage,Danza,Itinerarte
ATTACH;FMTTYPE=image/jpeg:https://backup.sistemamedcampania.it/wp-content/uploads/2019/12/didanza.jpg
END:VEVENT
BEGIN:VEVENT
DTSTART;TZID=Europe/Rome:20191209T230000
DTEND;TZID=Europe/Rome:20191209T230000
DTSTAMP:20260419T222854
CREATED:20191206T142742Z
LAST-MODIFIED:20191206T142954Z
UID:5317-1575932400-1575932400@backup.sistemamedcampania.it
SUMMARY:CDTM. Monday Dance 2019-Pulse. ArtGarage
DESCRIPTION:Chiude il Monday Dance  promosso dal Circuito della danza Campano “Pulse” (Primo Studio) \nQuesto progetto prende ispirazione dalla cruenta vicenda del 2016\, avvenuta nel locale Pulse di Orlando\, in Florida. La strage\, avvenuta in una serata gay-friendly e fu perpetrata da un uomo che faceva parte della comunità LGBT. In Pulse\, progetto ispirato anche al nome del locale\, si porta in scena una riflessione sul concetto di comunità oggi\, una messa in discussione dell’identità individuale\, circoscritta in un luogo al di fuori della realtà sociale quotidiana. I corpi sono dominati da un moto ripetuto e pulsante\, tendono ad un contatto che non si definisce mai\, creano gruppi che portano il singolo ad essere isolato o incluso. In questo breve studio si pone la questione del ruolo di una comunità oggi\, sospesa fra l’essere forte davanti ai cambiamenti della società o di ricreare una dimensione isolata e inaccessibile. L’unità salva dall’alienazione\, la coscienza del proprio essere ci protegge da un mondo che ci travolge con i suoi cambiamenti e le sue storture. \nCoreografia ed esecuzione: Andrea Zardi\, Giovanfrancesco Giannini\, Samuele Arisci                                                                                     Produzione: Art Garage\nIdeazione e regia: ZA | DanceWorks / Andrea Zardi\nDJ set/musica: Cecilia Stacchiotti \ninfo: http://www.teatronuovonapoli.it
URL:https://backup.sistemamedcampania.it/evento/cdtm-monday-dance-2019-pulse-artgarage/
LOCATION:Teatro Nuovo\, Via Montecalvario 16\, Napoli\, 80134\, Italia
CATEGORIES:Art Garage,CDTM Circuito Campano della Danza,Danza,Monday Dance 2019
ATTACH;FMTTYPE=image/jpeg:https://backup.sistemamedcampania.it/wp-content/uploads/2019/12/pulse.jpg
END:VEVENT
BEGIN:VEVENT
DTSTART;TZID=Europe/Rome:20191104T220000
DTEND;TZID=Europe/Rome:20191104T230000
DTSTAMP:20260419T222854
CREATED:20191028T124257Z
LAST-MODIFIED:20191028T124257Z
UID:4996-1572904800-1572908400@backup.sistemamedcampania.it
SUMMARY:CDTM. Monday Dance 2019 -BE ALICE.  Art Garage / Collettivo Trasversale
DESCRIPTION:Per il secondo appuntamento del Monday Dance  organizzato dal Teatro Pubblico Campano e dal Circuito Campano della danza\, Art Garage e Collettivo Trasversale presentano  BE ALICE una coreografia di Macia Del Prete. \nBE ALICE è un’istantanea autobiografica dell’atto di coraggio di una giovane e minuta donna che\, svestendo i panni di un’adolescenza introspettiva e solitaria\, dà inizio al processo di consapevolezza del proprio io più intimo. Una conflittualità che si esprime attraverso una lotta personale e silente vissuta e sviscerata nelle tele più profonde dell’animo dell’interprete\, vittima dell’incerto e di una forza personale tutta da cementare. \nCo produzione Art Garage / Collettivo Trasversale\nCoreografia Macia Del Prete \n  \ninfo: http://www.teatronuovonapoli.it
URL:https://backup.sistemamedcampania.it/evento/cdtm-monday-dance-2019-be-alice-art-garage-collettivo-trasversale/
LOCATION:Teatro Nuovo\, Via Montecalvario 16\, Napoli\, 80134\, Italia
CATEGORIES:Art Garage,CDTM Circuito Campano della Danza,Danza,Monday Dance 2019
ATTACH;FMTTYPE=image/jpeg:https://backup.sistemamedcampania.it/wp-content/uploads/2019/10/BE-ALICE.jpg
END:VEVENT
BEGIN:VEVENT
DTSTART;TZID=Europe/Rome:20190322T210000
DTEND;TZID=Europe/Rome:20190322T210000
DTSTAMP:20260419T222854
CREATED:20190322T091734Z
LAST-MODIFIED:20190322T091734Z
UID:4526-1553288400-1553288400@backup.sistemamedcampania.it
SUMMARY:CDTM. Quelli che la danza-Silence Music of Life
DESCRIPTION:CDTM riparte con l’ ottava edizione di “Quelli che la danza”. Primo appuntamento con una produzione ArtGarage “Silence Music of Life” una coreografia di Emma Cianchi.  \nLa danza contemporanea e la musica elettronica si fondono: i performer e il suono diventano parte di un unico processo creativo\, in bilico tra live-performance e installazione. Il silenzio trasforma ogni spazio in un luogo.\nIl silenzio è la musica che circonda ogni momento della nostra quotidianità. SILENCE – Music of life è una performance di danza contemporanea e e musica elettronica che prova a dare dignità al rumore di fondo con il movimento del ‘ momento ‘. \n  \ninfo: https://www.facebook.com/pg/CircuitoCampanoDellaDanza/events/?ref=page_internal
URL:https://backup.sistemamedcampania.it/evento/cdtm-quelli-che-la-danza-silence-music-of-life/
LOCATION:Teatro Sala Pasolini\, Lungomare Trieste\, 13\, Salerno\, Italia
CATEGORIES:Art Garage,CDTM Circuito Campano della Danza,Danza,Quelli che la danza 2019
ATTACH;FMTTYPE=image/jpeg:https://backup.sistemamedcampania.it/wp-content/uploads/2019/03/silence-music-of-life.jpg
END:VEVENT
BEGIN:VEVENT
DTSTART;TZID=Europe/Rome:20181204T210000
DTEND;TZID=Europe/Rome:20181204T210000
DTSTAMP:20260419T222854
CREATED:20181203T101440Z
LAST-MODIFIED:20230531T095414Z
UID:4190-1543957200-1543957200@backup.sistemamedcampania.it
SUMMARY:Art Garage e Körper - Cielo
DESCRIPTION:Una nuova produzione firmata Art Garage e Körper: Danza\, teatro\, musica\, videoproiezioni\, luce\, parole e interazione digitale danno vita ad uno spettacolo magico\, irrazionale\, razionale. Cielo. \nNello spazio apparantemente definito\, eppure immenso\, dove ogni cosa è intuibile e ma mai manifesta\, un luce soffusa svela il femminile e accompagna l’intreccio relazionale. Un disegno dinamico e ancestrale da cui si sprigionano movimenti dal ritmo crescente e che vede la sua genesi nell’estasi mistica fino alla connessione con l’infinito.\nL’universo e le sue leggi\, lo spazio e la sua potenza si confrontano con la matrice femminile che tutto crea. Ishtar con la sua stella a otto punte\, simbolo della femminiltà\, e prima Dea Madre ad essere venerata è la massima espressione del femminino nelle antiche civiltà. Dal suo mito derivano il culto di Iside\, di Venere\,fino a Maria. Un viaggio che attraverso una moltitudine di donne si connette con l’universo e racconta con proiezioni\, disegni e testi il potere immenso della donna e la sua capacità di collaborare\, di reagire\, di cambiare pur mantenendo la propria femminilità.\nCielo è un’incessante danza astratta\, forte e dinamica\, delicata e potente\, una danza che a tratti segue il movimento degli astri e ne svela il carattere magico e fisico in una dicotomia perfetta ma anche evocativa in uno spettacolo al limite del magico. “Cielo” è anche un percorso semantico che attraversa i millenni tra legenda\, scienza\, filosofia e pura immaginazione. \nDanzatori (in ordine di apparizione): Valentina Schisa\, Sara Lupoli\, Maria Anzivino\, Olimpia Graziosi\, Marianna Moccia\, Ilaria Punzo\, Giulia Iurza\, Rossella Iavarone\, Roberta Zavino\, Monica Cristiano\, Luisa Clemente\, Marcella Martusciello\, Claudia Crispino\, Ginevra Cecere; con Valeria D’Antonio e Vanessa Migliaccio \ncoreografia e regia Emma Cianchi \ninfo: http://www.teatrobellini.it
URL:https://backup.sistemamedcampania.it/evento/art-garage-e-korper-cielo/
LOCATION:Teatro Bellini\, Via Conte di Ruvo\, 14\, Napoli\, 80135\, Italia
CATEGORIES:Art Garage,Danza,Körper
ATTACH;FMTTYPE=image/jpeg:https://backup.sistemamedcampania.it/wp-content/uploads/2018/12/cielo.jpg
END:VEVENT
BEGIN:VEVENT
DTSTART;TZID=Europe/Rome:20181013T210000
DTEND;TZID=Europe/Rome:20181013T210000
DTSTAMP:20260419T222854
CREATED:20181010T100155Z
LAST-MODIFIED:20181010T100155Z
UID:3884-1539464400-1539464400@backup.sistemamedcampania.it
SUMMARY:Campania Danza. Incontri 2018 - Siuk\, ArtGarage
DESCRIPTION:Campania Danza torna con la sua rassegna Incontri; per il quinto appuntamento Artgarage presenta Siuk\, la coreografia è di Francesco Vecchione. In uno spazio non definito cinque personaggi mettono a nudo momenti della loro storia d’amore\, in un tira e molla di giochi ed emozioni. \n  \n  \ninfo: \nhttp://www.associazionecampaniadanza.com/
URL:https://backup.sistemamedcampania.it/evento/campania-danza-incontri-2018-siuk-artgarage/
LOCATION:Auditorium Centro Sociale di Salerno\, Via Guido Vestuti\, Salerno\, Italia
CATEGORIES:Art Garage,Associazione Campania Danza,Danza,Incontri 2018
ATTACH;FMTTYPE=image/jpeg:https://backup.sistemamedcampania.it/wp-content/uploads/2018/10/siuk.jpg
END:VEVENT
BEGIN:VEVENT
DTSTART;TZID=Europe/Rome:20180324T210000
DTEND;TZID=Europe/Rome:20180324T210000
DTSTAMP:20260419T222854
CREATED:20180323T101049Z
LAST-MODIFIED:20230531T094236Z
UID:3401-1521925200-1521925200@backup.sistemamedcampania.it
SUMMARY:Art Garage.  TOTO’ CROONER - Carmine Borrino.
DESCRIPTION:All’ Art Garage arriva TOTO’ CROONER  un Otello principe di Bisanzio secondo studio shakespereano di e con Carmine Borrino.\n\nAntonio de Curtis\, geloso come un Otello. Il copione shakespereano preso a pre-testo per “drammatizzare” quella passione fatale che il giovane Totò ebbe agli inizi della sua carriera con la sciantosa Liliana Castagnola: la morbosa gelosia\, le malelingue\, le incomprensioni\, la violenza di genere\, la tragica morte di una donna. Un racconto in prima persona\, in forma di crooner\, cantato e suonato dal vivo\, in un quasi studio radiofonico\, per una drammaturgia che mischia\, fonde\, confonde e sovrappone la grandissima poesia del bardo con i guizzi e i lazzi da teatro dell’assurdo dello “sconfinato” repertorio di Totò.\n\n\ninfo: \nhttps://www.facebook.com/events/130912230954219/
URL:https://backup.sistemamedcampania.it/evento/art-garage-toto-crooner-carmine-borrino/
LOCATION:Art Garage\, p.co Bognar 21\, Pozzuoli (NA)\, 80078\, Italia
CATEGORIES:Art Garage,Danza,Musica
ATTACH;FMTTYPE=image/jpeg:https://backup.sistemamedcampania.it/wp-content/uploads/2018/03/totò-cooner.jpg
END:VEVENT
END:VCALENDAR