BEGIN:VCALENDAR
VERSION:2.0
PRODID:-//Sistema Med Campania - ECPv6.7.0//NONSGML v1.0//EN
CALSCALE:GREGORIAN
METHOD:PUBLISH
X-ORIGINAL-URL:https://backup.sistemamedcampania.it
X-WR-CALDESC:Eventi per Sistema Med Campania
REFRESH-INTERVAL;VALUE=DURATION:PT1H
X-Robots-Tag:noindex
X-PUBLISHED-TTL:PT1H
BEGIN:VTIMEZONE
TZID:Europe/Rome
BEGIN:DAYLIGHT
TZOFFSETFROM:+0100
TZOFFSETTO:+0200
TZNAME:CEST
DTSTART:20190331T010000
END:DAYLIGHT
BEGIN:STANDARD
TZOFFSETFROM:+0200
TZOFFSETTO:+0100
TZNAME:CET
DTSTART:20191027T010000
END:STANDARD
END:VTIMEZONE
BEGIN:VEVENT
DTSTART;TZID=Europe/Rome:20190611T190000
DTEND;TZID=Europe/Rome:20190611T190000
DTSTAMP:20260419T223029
CREATED:20190605T115744Z
LAST-MODIFIED:20230531T095313Z
UID:4686-1560279600-1560279600@backup.sistemamedcampania.it
SUMMARY:Associazione Ad Alta Voce-That's Napoli Live Show
DESCRIPTION:L’ Associazione Ad Alta Voce torna in scena con “Il That’s Napoli Live Show” uno spettacolo fatto di voci\, emozioni e straordinarie melodie. \n22 cantanti e 4 musicisti\, che avranno come unico scopo quello quello di diffondere energia e buonumore attraverso la musica:  ‘O Sarracino\, Tu vuò fa’ l’americano\, ’O surdato ’nnammurato\, Napul’è e tante altre melodie trasportano lo spettatore in un’atmosfera magica e suggestiva\, lo coinvolgono e lo rendono protagonista del concerto. \n  \ninfo: https://www.facebook.com/AssAdAltaVoce/?epa=SEARCH_BOX \n 
URL:https://backup.sistemamedcampania.it/evento/associazione-ad-alta-voce-thats-napoli-live-show-2/
LOCATION:Teatro Tasso\, Piazza Sant'Antonino\, 25\, Sorrento (NA)\, 80067\, Italia
CATEGORIES:Associazione Ad Alta Voce,Musica
ATTACH;FMTTYPE=image/jpeg:https://backup.sistemamedcampania.it/wp-content/uploads/2019/06/Thats-Napoli-Live-Show.jpg
END:VEVENT
BEGIN:VEVENT
DTSTART;TZID=Europe/Rome:20190609T190000
DTEND;TZID=Europe/Rome:20190609T190000
DTSTAMP:20260419T223029
CREATED:20190605T115311Z
LAST-MODIFIED:20230531T095318Z
UID:4665-1560106800-1560106800@backup.sistemamedcampania.it
SUMMARY:Associazione Ad Alta Voce-That's Napoli Live Show
DESCRIPTION:L’ Associazione Ad Alta Voce torna in scena con “Il That’s Napoli Live Show” uno spettacolo fatto di voci\, emozioni e straordinarie melodie. \n22 cantanti e 4 musicisti\, che avranno come unico scopo quello quello di diffondere energia e buonumore attraverso la musica:  ‘O Sarracino\, Tu vuò fa’ l’americano\, ’O surdato ’nnammurato\, Napul’è e tante altre melodie trasportano lo spettatore in un’atmosfera magica e suggestiva\, lo coinvolgono e lo rendono protagonista del concerto. \n  \nhttps://www.facebook.com/AssAdAltaVoce/?epa=SEARCH_BOX \n  \n 
URL:https://backup.sistemamedcampania.it/evento/associazione-ad-alta-voce-thats-napoli-live-show/
LOCATION:Chiesa di San Potito\, Via Salvatore Tommasi\, 65\, Napoli\, italia\, 80135
CATEGORIES:Associazione Ad Alta Voce,Musica
ATTACH;FMTTYPE=image/jpeg:https://backup.sistemamedcampania.it/wp-content/uploads/2019/06/Thats-Napoli-Live-Show.jpg
END:VEVENT
END:VCALENDAR