BEGIN:VCALENDAR
VERSION:2.0
PRODID:-//Sistema Med Campania - ECPv6.7.0//NONSGML v1.0//EN
CALSCALE:GREGORIAN
METHOD:PUBLISH
X-WR-CALNAME:Sistema Med Campania
X-ORIGINAL-URL:https://backup.sistemamedcampania.it
X-WR-CALDESC:Eventi per Sistema Med Campania
REFRESH-INTERVAL;VALUE=DURATION:PT1H
X-Robots-Tag:noindex
X-PUBLISHED-TTL:PT1H
BEGIN:VTIMEZONE
TZID:Europe/Rome
BEGIN:DAYLIGHT
TZOFFSETFROM:+0100
TZOFFSETTO:+0200
TZNAME:CEST
DTSTART:20230326T010000
END:DAYLIGHT
BEGIN:STANDARD
TZOFFSETFROM:+0200
TZOFFSETTO:+0100
TZNAME:CET
DTSTART:20231029T010000
END:STANDARD
BEGIN:DAYLIGHT
TZOFFSETFROM:+0100
TZOFFSETTO:+0200
TZNAME:CEST
DTSTART:20240331T010000
END:DAYLIGHT
BEGIN:STANDARD
TZOFFSETFROM:+0200
TZOFFSETTO:+0100
TZNAME:CET
DTSTART:20241027T010000
END:STANDARD
BEGIN:DAYLIGHT
TZOFFSETFROM:+0100
TZOFFSETTO:+0200
TZNAME:CEST
DTSTART:20250330T010000
END:DAYLIGHT
BEGIN:STANDARD
TZOFFSETFROM:+0200
TZOFFSETTO:+0100
TZNAME:CET
DTSTART:20251026T010000
END:STANDARD
END:VTIMEZONE
BEGIN:VEVENT
DTSTART;TZID=Europe/Rome:20250725T200000
DTEND;TZID=Europe/Rome:20250725T200000
DTSTAMP:20260419T194129
CREATED:20250717T174510Z
LAST-MODIFIED:20250717T174510Z
UID:9200-1753473600-1753473600@backup.sistemamedcampania.it
SUMMARY:Ass. Giuseppe Martucci - Neapolis Sax Quartett
DESCRIPTION:Venerdì 25 luglio 2025 alle ore 20\, nella suggestiva cornice del Complesso Monumentale S. Tommaso d’Aquino di Piedimonte Matese\, l’Associazione Giuseppe Martucci porta un concerto dedicato al sax\, Neapolis Sax Quartett. \nLa serata vede protagonisti i sassofonisti Alessio Anastasio (Sax alto)\, Mario Dinuzzi (Sax soprano)\, Mario Savarese (Sax tenore) e Federico Siciliani (Sax baritono). \nINGRESSO LIBERO \nPer maggiori info www.associazionemusicalegiuseppemartucci.it
URL:https://backup.sistemamedcampania.it/evento/ass-giuseppe-martucci-neapolis-sax-quartett/
LOCATION:Complesso monumetale San Tommaso D’Aquino\, Piemonte Matese\, Caserta\, Caserta\, 81016\, Italy
CATEGORIES:Associazione Alessandro Scarlatti,Musica
ATTACH;FMTTYPE=image/jpeg:https://backup.sistemamedcampania.it/wp-content/uploads/2025/07/ass-giuseppe-martucci.jpg
END:VEVENT
BEGIN:VEVENT
DTSTART;TZID=Europe/Rome:20230413T203000
DTEND;TZID=Europe/Rome:20230413T203000
DTSTAMP:20260419T194129
CREATED:20230321T225450Z
LAST-MODIFIED:20230321T225450Z
UID:7933-1681417800-1681417800@backup.sistemamedcampania.it
SUMMARY:Associazione A. Scarlatti - Morricone Stories
DESCRIPTION:Uno speciale omaggio dal sassofonista Stefano Di Battista al compositore e Premio Oscar Ennio Morricone\, al quale era legato da una sincera amicizia e diverse collaborazioni. \nLa musica di Morricone significa esaltazione di tracce melodiche spesso fortemente emozionali in una trama di armonie intelligenti ed è proprio quello che fa il jazz\, e ancora di più quello che fa uno come Di Battista. \nSTEFANO DI BATTISTA\, sax \nDANIELE SORRENTINO\, contrabbasso \nANDREA REA\, pianoforte \nLUIGI DEL PRETE\, batteria \nInfo e biglietti: : 081 406011; info@associazionescarlatti.it; www.azzurroservice.net
URL:https://backup.sistemamedcampania.it/evento/associazione-a-scarlatti-morricone-stories/
LOCATION:Teatro Sannazaro\, Via Chiaia\, 157\, Napoli\, 80121\, Italia
CATEGORIES:Associazione Alessandro Scarlatti,Musica
ATTACH;FMTTYPE=image/png:https://backup.sistemamedcampania.it/wp-content/uploads/2023/03/associazione-a-scarlatti-morricone-stories.png
END:VEVENT
BEGIN:VEVENT
DTSTART;TZID=Europe/Rome:20230406T203000
DTEND;TZID=Europe/Rome:20230406T203000
DTSTAMP:20260419T194129
CREATED:20230320T223815Z
LAST-MODIFIED:20230320T223815Z
UID:7924-1680813000-1680813000@backup.sistemamedcampania.it
SUMMARY:Associazione Alessandro Scarlatti - Trio Amatis
DESCRIPTION:Debutto napoletano per il Trio Amatis\, giovane gruppo vincitore del Premio New Generation Artist della BBC. Il trio si è rivelato fin da subito come una delle principali formazioni cameristiche della nuova generazione: dopo sole tre settimane dalla sua costituzione\, avvenuta nel 2014\, ha ottenuto il Premio del Pubblico alla Grachtenfestival Competition di Amsterdam. \nTRIO AMATIS \nLea Hausmann\, violino \nSamuel Shepherd\, violoncello \nMengjie Han \, pianoforte \nPROGRAMMA:  \nLudwig van Beethoven – Trio in si bemolle maggiore op. 11 Gassenhauer; Dmitrij Šostakovič – Trio n. 1 op. 8; Franz Schubert – Trio in mi bemolle maggiore op. 100 \nInfo:  081 406 011; info@associazionescarlatti.it
URL:https://backup.sistemamedcampania.it/evento/associazione-alessandro-scarlatti-trio-amatis/
LOCATION:Teatro Sannazaro\, Via Chiaia\, 157\, Napoli\, 80121\, Italia
CATEGORIES:Associazione Alessandro Scarlatti,Musica
ATTACH;FMTTYPE=image/png:https://backup.sistemamedcampania.it/wp-content/uploads/2023/03/associazione-a-scarlatti-trio-amatis.png
END:VEVENT
END:VCALENDAR