BEGIN:VCALENDAR
VERSION:2.0
PRODID:-//Sistema Med Campania - ECPv6.7.0//NONSGML v1.0//EN
CALSCALE:GREGORIAN
METHOD:PUBLISH
X-ORIGINAL-URL:https://backup.sistemamedcampania.it
X-WR-CALDESC:Eventi per Sistema Med Campania
REFRESH-INTERVAL;VALUE=DURATION:PT1H
X-Robots-Tag:noindex
X-PUBLISHED-TTL:PT1H
BEGIN:VTIMEZONE
TZID:Europe/Rome
BEGIN:DAYLIGHT
TZOFFSETFROM:+0100
TZOFFSETTO:+0200
TZNAME:CEST
DTSTART:20190331T010000
END:DAYLIGHT
BEGIN:STANDARD
TZOFFSETFROM:+0200
TZOFFSETTO:+0100
TZNAME:CET
DTSTART:20191027T010000
END:STANDARD
END:VTIMEZONE
BEGIN:VEVENT
DTSTART;TZID=Europe/Rome:20190514T203000
DTEND;TZID=Europe/Rome:20190514T203000
DTSTAMP:20260419T211353
CREATED:20190513T111258Z
LAST-MODIFIED:20190513T111258Z
UID:4615-1557865800-1557865800@backup.sistemamedcampania.it
SUMMARY:Associazione Scarlatti. 100 anni di musica ininterrotta. Salvatore Accardo & Michele Campanella
DESCRIPTION:A chiusura della rassegna“100 anni di musica ininterrotta”\, dedicata a celebrare i 100 anni della Associazione Alessandro Scarlatti\, sul palco del  Teatro Mercadante due grandi interpreti come Salvatore Accardo al violino e Michele Campanella al pianoforte. \nSalvatore Accardo è stato per la prima volta ospite della Associazione Alessandro Scarlatti il 26 aprile 1960\, a soli 19 anni. Da allora\, soprattutto tra gli anni ’70 e gli anni ’90\, ha intrecciato la sua prestigiosa carriera artistica con quella dell’ Associazione\, tornando spessissimo nelle stagione concertistiche e dando vita\, nel 1971 \, accanto a Gianni Eminente\, alla Settimana di Musica d’Insieme\, della quale è stato leader ed animatore artistico\, diventando poi Direttore Artistico del Festival Settimane Musicali Internazionali  fino al 1989. Un ritorno con questo concerto dopo una lunga pausa che durava dal 2002. \nNon molto dissimile il rapporto tra la Associazione Scarlatti e Michele Campanella\, che ha ha tenuto il suo primo concerto nella stagione concertistica 1969/1970  a 23 anni. Oltre a numerosi concerti nel corso degli anni\, da ricordare il suo approfondimento sulla “forma/sonata”  in sette concerti  tra il 1998 e il 2000\, che ha portato anche a una pubblicazione a sua firma. \n“Ci siamo conosciuti da  ragazzi al Conservatorio di Napoli – ricorda Accardo in un’intervista – Poi\, abbiamo suonato insieme tante volte all’epoca delle “Settimane musicali”. Un’esperienza fantastica\, un’atmosfera magica”.  “Un periodo  entusiasmante\, pieno di emozioni – ricorda Campanella  –  Io e Salvatore abbiamo fatto concerti bellissimi e non solo in duo. Abbiamo la stessa visione della musica\, improntata sul pieno rispetto della musica e dell’autore” \nQuesto concerto intende quindi celebrare l’attività di due musicisti che sono stati tra i protagonisti della storia recente dell’Associazione Scarlatti\, attraverso una presenza costante nelle stagioni concertistiche\, ma anche e soprattutto due virtuosi\, due strumentisti che dominano la tecnica in maniera assoluta e incarnavano l’arte\, la storia\, la tradizione musicale di una città : il meglio di Napoli. \n  \n  \nProgramma: \n  \nLudwig van Beethoven  – Sonata per violino e pianoforte in do minore op. 30 n. 2 \nCésar Franck  – Sonata per violino e pianoforte in la maggiore \n  \ninfo: https://www.associazionescarlatti.it
URL:https://backup.sistemamedcampania.it/evento/associazione-scarlatti-100-anni-di-musica-ininterrotta-salvatore-accardo-michele-campanella/
LOCATION:Teatro Mercadante\, Piazza Municipio\, Napoli\, Italia
CATEGORIES:100 anni di musica ininterrotta 2019,Associazione Alessandro Scarlatti.,Musica
ATTACH;FMTTYPE=image/jpeg:https://backup.sistemamedcampania.it/wp-content/uploads/2019/05/accardo.campanella.jpg
END:VEVENT
END:VCALENDAR