BEGIN:VCALENDAR
VERSION:2.0
PRODID:-//Sistema Med Campania - ECPv6.7.0//NONSGML v1.0//EN
CALSCALE:GREGORIAN
METHOD:PUBLISH
X-ORIGINAL-URL:https://backup.sistemamedcampania.it
X-WR-CALDESC:Eventi per Sistema Med Campania
REFRESH-INTERVAL;VALUE=DURATION:PT1H
X-Robots-Tag:noindex
X-PUBLISHED-TTL:PT1H
BEGIN:VTIMEZONE
TZID:Europe/Rome
BEGIN:DAYLIGHT
TZOFFSETFROM:+0100
TZOFFSETTO:+0200
TZNAME:CEST
DTSTART:20210328T010000
END:DAYLIGHT
BEGIN:STANDARD
TZOFFSETFROM:+0200
TZOFFSETTO:+0100
TZNAME:CET
DTSTART:20211031T010000
END:STANDARD
END:VTIMEZONE
BEGIN:VEVENT
DTSTART;TZID=Europe/Rome:20210213T180000
DTEND;TZID=Europe/Rome:20210213T180000
DTSTAMP:20260420T085440
CREATED:20210128T135834Z
LAST-MODIFIED:20230531T094754Z
UID:6295-1613239200-1613239200@backup.sistemamedcampania.it
SUMMARY:Associazione Alessandro Scarlatti.Live in streaming-Capella Neapolitana. Agar e Ismaele
DESCRIPTION:Prosegue il “Live in Streaming” dell’ Associazione Alessandro Scarlatti con la Cappella Neapolitana di Antonio Florio\, che ad un anno di distanza dall’ esecuzione de La Giuditta di Alessandro Scarlatti\,  prosegue con l’oratorio Agar e Ismaele e la ricognizione dei gioielli del repertorio sacro di un compositore ingiustamente poco conosciuto\, del quale l’ Associazione Alessandro Scarlatti si onora di portare il nome. Apre il concerto una guida all’ ascolto a cura di Dinko Fabris \n  \nProgramma: \nAlessandro Scarlatti – Agar e Ismaele esiliati\, oratorio a 5 voci \n  \n  \nIl concerto sarà trasmesso in differita sul sito  www.ilteatroinrete.it
URL:https://backup.sistemamedcampania.it/evento/associazione-alessandro-scarlatti-live-in-streaming-capella-neapolitana-agar-e-ismaele/
CATEGORIES:Associazione Alessandro Scarlatti.,Associazione Alessandro Scarlatti.Live in streaming,Cappella Neapolitana,Musica
ATTACH;FMTTYPE=image/jpeg:https://backup.sistemamedcampania.it/wp-content/uploads/2021/01/cappella-neapolitana.jpg
END:VEVENT
BEGIN:VEVENT
DTSTART;TZID=Europe/Rome:20210206T180000
DTEND;TZID=Europe/Rome:20210206T180000
DTSTAMP:20260420T085440
CREATED:20210128T135032Z
LAST-MODIFIED:20230531T094811Z
UID:6289-1612634400-1612634400@backup.sistemamedcampania.it
SUMMARY:Associazione Alessandro Scarlatti.Live in streaming-Federico Colli
DESCRIPTION:Per il prossimo appuntamento con “Live in Streaming” dell’ Associazione Alessandro Scarlatti\, il talento del pianoforte Federico Colli\, di cui sono apprezzati gli approcci virtuosistici e al contempo meditativi ai brani eseguiti\, divenuto famoso dopo aver vinto il Concorso Mozart di Salisburgo nel 2011 e la Medaglia d’oro al The Leeds International Piano Competition nel 2012. \n  \nProgramma: \nDomenico Scarlatti – Sonate K19\, K430\, K32\, K87\, K40\, K431\, K1\, K95 \nWolfgang Amadeus Mozart – Fantasia in do minore K 475 \nLudwig van Beethoven  – Sonata  quasi una fantasia in do diesis minore op. 27 n. 2 Al chiaro di luna \n  \n 
URL:https://backup.sistemamedcampania.it/evento/associazione-alessandro-scarlatti-live-in-streaming-federico-colli/
CATEGORIES:Associazione Alessandro Scarlatti.,Associazione Alessandro Scarlatti.Live in streaming,Musica
ATTACH;FMTTYPE=image/jpeg:https://backup.sistemamedcampania.it/wp-content/uploads/2021/01/federico-colli.jpg
END:VEVENT
BEGIN:VEVENT
DTSTART;TZID=Europe/Rome:20210130T180000
DTEND;TZID=Europe/Rome:20210130T180000
DTSTAMP:20260420T085440
CREATED:20210128T134053Z
LAST-MODIFIED:20210128T134053Z
UID:6286-1612029600-1612029600@backup.sistemamedcampania.it
SUMMARY:Associazione Alessandro Scarlatti.Live in streaming-Ilya Gringolts\, Peter Laul-Integrale delle Sonate per violino e pianoforte
DESCRIPTION:Quarta puntata dell’ Integrale delle Sonate per volino e pianoforte di Beethoven eseguite da Ilya Gringolts e Peter Laul introdotte da una presentazione curata da Stefano Valanzuolo per il “Live in Streaming” dell’ Associazione Alessandro Scarlatti. \n  \nIlya Gringolts \, Violino \nPeter Laul\, Pianoforte   \n  \nProgramma: \nLudwig van Beethoven – Integrale delle Sonate per violino e pianoforte\, quarto concerto; Sonata in re maggiore op. 12 n. 1; Sonata in la minore op. 23;  Sonata in sol maggiore op. 30 n. 3 \n  \nIl concerto sarà trasmesso in differita sul sito  www.ilteatroinrete.it \n  \n 
URL:https://backup.sistemamedcampania.it/evento/associazione-alessandro-scarlatti-live-in-streaming-ilya-gringolts-peter-laul-integrale-delle-sonate-per-violino-e-pianoforte-4/
CATEGORIES:Associazione Alessandro Scarlatti.,Associazione Alessandro Scarlatti.Live in streaming,Musica
ATTACH;FMTTYPE=image/jpeg:https://backup.sistemamedcampania.it/wp-content/uploads/2021/01/gringolts-laul-4.jpg
END:VEVENT
BEGIN:VEVENT
DTSTART;TZID=Europe/Rome:20210123T180000
DTEND;TZID=Europe/Rome:20210123T180000
DTSTAMP:20260420T085440
CREATED:20201218T115330Z
LAST-MODIFIED:20201218T115330Z
UID:6244-1611424800-1611424800@backup.sistemamedcampania.it
SUMMARY:Associazione Alessandro Scarlatti.Live in streaming-Ilya Gringolts\, Peter Laul-Integrale delle Sonate per violino e pianoforte
DESCRIPTION:Ultima delle 4 puntate dell’ Integrale delle Sonate per volino e pianoforte eseguite da Ilya Gringolts e Peter Laul introdotte da una presentazione curata da Stefano Valanzuolo per il “Live in Streaming” dell’ Associazione Alessandro Scarlatti. \n  \nIlya Gringolts \, Violino \nPeter Laul\, Pianoforte   \n  \nProgramma: \nLudwig van Beethoven – Integrale delle Sonate per violino e pianoforte\, terzo concerto; Sonata in la maggiore op. 12 n. 2; Sonata in do minore op. 30 n. 2; Sonata in sol maggiore op. 96 \n  \nIl concerto sarà trasmesso in differita sul sito  www.ilteatroinrete.it
URL:https://backup.sistemamedcampania.it/evento/associazione-alessandro-scarlatti-live-in-streaming-ilya-gringolts-peter-laul-integrale-delle-sonate-per-violino-e-pianoforte-3/
CATEGORIES:Associazione Alessandro Scarlatti.,Associazione Alessandro Scarlatti.Live in streaming,Musica
ATTACH;FMTTYPE=image/jpeg:https://backup.sistemamedcampania.it/wp-content/uploads/2020/12/gringolts-laul-3.jpg
END:VEVENT
BEGIN:VEVENT
DTSTART;TZID=Europe/Rome:20210116T180000
DTEND;TZID=Europe/Rome:20210116T180000
DTSTAMP:20260420T085440
CREATED:20201218T114844Z
LAST-MODIFIED:20201218T114844Z
UID:6241-1610820000-1610820000@backup.sistemamedcampania.it
SUMMARY:Associazione Alessandro Scarlatti.Live in streaming-Ilya Gringolts\, Peter Laul-Integrale delle Sonate per violino e pianoforte
DESCRIPTION:La proposta artistica che compone il cartellone dei concerti per il “Live in Streaming” dell’ Associazione Alessandro Scarlatti  pone al centro la volontà di celebrare Ludwig van Beethoven\, il cui 250° anniversario dalla nascita è rimasto vittima del continuo stop and go ai concerti dal vivo\, con una prestigiosa Integrale delle Sonate per volino e pianoforte eseguite da Ilya Gringolts e Peter Laul in 4 puntate introdotte da una presentazione curata da Stefano Valanzuolo. \n  \nIlya Gringolts \, Violino \nPeter Laul\, Pianoforte   \n  \nProgramma: \nLudwig van Beethoven –  Integrale delle Sonate per violino e pianoforte\, secondo concerto; Sonata in mi bemolle maggiore op. 12 n. 3; Sonata in la maggiore op. 30 n.1; Sonata in fa maggiore op. 24 La primavera \n  \nIl concerto sarà trasmesso in differita sul sito  www.ilteatroinrete.it
URL:https://backup.sistemamedcampania.it/evento/associazione-alessandro-scarlatti-live-in-streaming-ilya-gringolts-peter-laul-integrale-delle-sonate-per-violino-e-pianoforte-2/
CATEGORIES:Associazione Alessandro Scarlatti.,Associazione Alessandro Scarlatti.Live in streaming,Musica
ATTACH;FMTTYPE=image/jpeg:https://backup.sistemamedcampania.it/wp-content/uploads/2020/12/gringolts-laul-2.jpg
END:VEVENT
BEGIN:VEVENT
DTSTART;TZID=Europe/Rome:20210110T180000
DTEND;TZID=Europe/Rome:20210110T180000
DTSTAMP:20260420T085440
CREATED:20201218T115846Z
LAST-MODIFIED:20201218T115846Z
UID:6247-1610301600-1610301600@backup.sistemamedcampania.it
SUMMARY:Associazione Alessandro Scarlatti.Live in streaming-Passeggiate amorose da Napoli a Parigi tra il XVIII e il XIX secolo
DESCRIPTION:Il secondo appuntamento del cartellone dei concerti per il “Live in Streaming” dell’ Associazione Alessandro Scarlatti vede Maria Grazia Schiavo – considerata tra i soprani italiani di riferimento nel repertorio belcantistico e barocco e grande specialista del repertorio napoletano – e il pianista Maurizio Iaccarino nel programma di romanze “da salotto” intitolato “Passeggiate amorose da Napoli a Parigi tra il XVIII e il XIX secolo”. Questo concerto fa parte del progetto “Silenzio in sala a tempo di musica”\, la prima stagione concertistica online realizzata dal Comitato nazionale Amur del quale la Associazione Alessandro Scarlatti fa parte al fianco di 12 tra le più prestigiose istituzioni cameristiche italiane. \n  \nMaria Grazia Schiavo\, soprano \nMaurizio Iaccarino\, pianoforte \n                                                                                                                 \nIl concerto sarà trasmesso in differita sul sito  www.ilteatroinrete.it
URL:https://backup.sistemamedcampania.it/evento/associazione-alessandro-scarlatti-live-in-streaming-passeggiate-amorose-da-napoli-a-parigi-tra-il-xviii-e-il-xix-secolo/
CATEGORIES:Associazione Alessandro Scarlatti.,Associazione Alessandro Scarlatti.Live in streaming,Musica
ATTACH;FMTTYPE=image/jpeg:https://backup.sistemamedcampania.it/wp-content/uploads/2020/12/passeggiate-amorose.jpg
END:VEVENT
BEGIN:VEVENT
DTSTART;TZID=Europe/Rome:20210103T180000
DTEND;TZID=Europe/Rome:20210103T180000
DTSTAMP:20260420T085440
CREATED:20201218T112251Z
LAST-MODIFIED:20201218T112251Z
UID:6238-1609696800-1609696800@backup.sistemamedcampania.it
SUMMARY:Associazione Alessandro Scarlatti.Live in streaming-Ilya Gringolts\, Peter Laul-Integrale delle Sonate per violino e pianoforte
DESCRIPTION:La proposta artistica che compone il cartellone dei concerti per il “Live in Streaming” dell’ Associazione Alessandro Scarlatti  pone al centro la volontà di celebrare Ludwig van Beethoven\, il cui 250° anniversario dalla nascita è rimasto vittima del continuo stop and go ai concerti dal vivo\, con una prestigiosa Integrale delle Sonate per volino e pianoforte eseguite da Ilya Gringolts e Peter Laul in 4 puntate introdotte da una presentazione curata da Stefano Valanzuolo. \n  \nIlya Gringolts \, Violino \nPeter Laul\, Pianoforte   \n  \nProgramma: \nLudwig van Beethoven – Integrale delle Sonate per violino e pianoforte\, primo concerto; Sonata in la maggiore op. 47 a Kreutzer \n  \nIl concerto sarà trasmesso in differita sul sito  www.ilteatroinrete.it
URL:https://backup.sistemamedcampania.it/evento/associazione-alessandro-scarlatti-live-in-streaming-ilya-gringolts-peter-laul-integrale-delle-sonate-per-violino-e-pianoforte/
CATEGORIES:Associazione Alessandro Scarlatti.,Associazione Alessandro Scarlatti.Live in streaming,Musica
ATTACH;FMTTYPE=image/jpeg:https://backup.sistemamedcampania.it/wp-content/uploads/2020/12/gringoltslaul.jpg
END:VEVENT
END:VCALENDAR