BEGIN:VCALENDAR
VERSION:2.0
PRODID:-//Sistema Med Campania - ECPv6.7.0//NONSGML v1.0//EN
CALSCALE:GREGORIAN
METHOD:PUBLISH
X-WR-CALNAME:Sistema Med Campania
X-ORIGINAL-URL:https://backup.sistemamedcampania.it
X-WR-CALDESC:Eventi per Sistema Med Campania
REFRESH-INTERVAL;VALUE=DURATION:PT1H
X-Robots-Tag:noindex
X-PUBLISHED-TTL:PT1H
BEGIN:VTIMEZONE
TZID:Europe/Rome
BEGIN:DAYLIGHT
TZOFFSETFROM:+0100
TZOFFSETTO:+0200
TZNAME:CEST
DTSTART:20190331T010000
END:DAYLIGHT
BEGIN:STANDARD
TZOFFSETFROM:+0200
TZOFFSETTO:+0100
TZNAME:CET
DTSTART:20191027T010000
END:STANDARD
END:VTIMEZONE
BEGIN:VEVENT
DTSTART;TZID=Europe/Rome:20191022T193000
DTEND;TZID=Europe/Rome:20191022T193000
DTSTAMP:20260419T211120
CREATED:20191021T090707Z
LAST-MODIFIED:20191021T090707Z
UID:4942-1571772600-1571772600@backup.sistemamedcampania.it
SUMMARY:Associazione Alessandro Scarlatti-Lo Sguardo e il Suono.Suona Traversi!
DESCRIPTION:L’ ultimo appuntamento dello Sguardo e il Suono dell’ Associazione Alessandro Scarlatti vedrà protagonista l’ opera di Gaspare Traversi\, Il concerto del 1755-1760 ca\n \nPier Luigi Ciapparelli commenterà l’opera; la parte musicale sarà a cura di Tommaso Rossi al flauto traversiere e  Angelo Trancone al  clavicembalo. Musiche di Hotteterre\, Händel\, Valentine\, Ricupero. \n  \ninfo: http://www.associazionescarlatti.it/ \n  \n 
URL:https://backup.sistemamedcampania.it/evento/associazione-alessandro-scarlatti-lo-sguardo-e-il-suono-suona-traversi/
LOCATION:Palazzo Zevallos\, Via Toledo 185\, Napoli
CATEGORIES:Associazione Alessandro Scarlatti.,Lo sguardo e il suono,Musica
ATTACH;FMTTYPE=image/jpeg:https://backup.sistemamedcampania.it/wp-content/uploads/2019/10/suona-traversi.jpg
END:VEVENT
BEGIN:VEVENT
DTSTART;TZID=Europe/Rome:20191008T193000
DTEND;TZID=Europe/Rome:20191008T193000
DTSTAMP:20260419T211120
CREATED:20190930T130547Z
LAST-MODIFIED:20190930T130547Z
UID:4905-1570563000-1570563000@backup.sistemamedcampania.it
SUMMARY:Associazione Alessandro Scarlatti-Lo Sguardo e il Suono.Viaggio in Spagna
DESCRIPTION:Per il prossimo appuntamento dello Sguardo e il Suono dell’ Associazione Alessandro Scarlatti vedrà protagonista l’ opera di Giuseppe Recco\, Natura morta con pane\, biscotti e fiori.  \nFabrizio Mangoni di Santo Stefano commenterà l’opera. La parte musicale sarà dedicata alla Spagna con il chitarrista Nicola Montella. Un viaggio tra le musiche di Scarlatti\, Sor\, Llobet\, Albeniz\, Tarrega  \n  \n  \n  \ninfo: http://www.associazionescarlatti.it/
URL:https://backup.sistemamedcampania.it/evento/associazione-alessandro-scarlatti-lo-sguardo-e-il-suono-viaggio-in-spagna/
LOCATION:Palazzo Zevallos\, Via Toledo 185\, Napoli
CATEGORIES:Associazione Alessandro Scarlatti - Stagione 2018-2019,Lo sguardo e il suono,Musica
ATTACH;FMTTYPE=image/jpeg:https://backup.sistemamedcampania.it/wp-content/uploads/2019/09/viaggio-in-spagna.jpg
END:VEVENT
BEGIN:VEVENT
DTSTART;TZID=Europe/Rome:20190924T193000
DTEND;TZID=Europe/Rome:20190924T193000
DTSTAMP:20260419T211120
CREATED:20190918T133704Z
LAST-MODIFIED:20190918T133704Z
UID:4897-1569353400-1569353400@backup.sistemamedcampania.it
SUMMARY:Associazione Alessandro Scarlatti-Lo Sguardo e il Suono. All’ombra del Vesuvio
DESCRIPTION:Secondo appuntamento dopo la pausa estiva con Lo Sguardo e il Suono\,  dell’ Associazione Alessandro Scarlatti.\n \nLuisa Martorelli commenterà l’opera di Domenico Morelli\, Dama col ventaglio datata 1873. La parte musicale sarà dedicata alla canzone napoletanma di fine 800 a cura del tenore Vincenzo Tremante accompagnato al pianoforte da Angelo Gazzaneo. \n  \n  \n  \n  \ninfo: http://www.associazionescarlatti.it/ \n 
URL:https://backup.sistemamedcampania.it/evento/associazione-alessandro-scarlatti-lo-sguardo-e-il-suono-allombra-del-vesuvio/
LOCATION:Palazzo Zevallos\, Via Toledo 185\, Napoli
CATEGORIES:Associazione Alessandro Scarlatti.,Lo sguardo e il suono,Musica
ATTACH;FMTTYPE=image/jpeg:https://backup.sistemamedcampania.it/wp-content/uploads/2019/09/All’ombra-del-Vesuvio.jpg
END:VEVENT
BEGIN:VEVENT
DTSTART;TZID=Europe/Rome:20190618T193000
DTEND;TZID=Europe/Rome:20190618T193000
DTSTAMP:20260419T211120
CREATED:20190522T100222Z
LAST-MODIFIED:20190617T125308Z
UID:4636-1560886200-1560886200@backup.sistemamedcampania.it
SUMMARY:Associazione Alessandro Scarlatti-Lo Sguardo e il Suono. Musica a casa Fleetwood
DESCRIPTION:Quarto\, appuntamento con Lo Sguardo e il Suono\,  dell’ Associazione Alessandro Scarlatti.  \nLeonardo Di Mauro  commenterà l’opera di Gaspar Van Wittel\, Veduta di Napoli con il borgo di Chiaia da Pizzofalcone\, inizio del XVIII secolo. La parte musicale sarà affidata a Tommaso Rossi\, flauto dolce\, Ugo Di Giovanni\, arciliuto e Manuela Albano al violoncello \n  \nProgramma: \nAnonimo del XVII secolo – Tarantella \nAlessandro Scarlatti – Sonata in sol maggiore per flauto e basso\, Sonata in sol minore \nLeonardo Leo – Sonata VII per flauto e basso continuo \nNicola Fiorenza – Sonata a Flauto solo del Sig. Fiorenza \nFrancesco Mancini – Sonata IV in la minore per flauto dolce e basso continuo \n  \nLa rassegna riprenderà a settembre con gli ultimi 4 appuntamenti. \ninfo: http://www.associazionescarlatti.it/ \n 
URL:https://backup.sistemamedcampania.it/evento/associazione-alessandro-scarlatti-lo-sguardo-e-il-suono-musica-a-casa-fleetwood/
LOCATION:Palazzo Zevallos\, Via Toledo 185\, Napoli
CATEGORIES:Associazione Alessandro Scarlatti.,Lo sguardo e il suono,Musica
ATTACH;FMTTYPE=image/jpeg:https://backup.sistemamedcampania.it/wp-content/uploads/2019/05/veduta-di-napoli-con-il-borgo-di-chiaia-da-pizzofalcone.jpg
END:VEVENT
BEGIN:VEVENT
DTSTART;TZID=Europe/Rome:20190604T193000
DTEND;TZID=Europe/Rome:20190604T193000
DTSTAMP:20260419T211120
CREATED:20190522T085955Z
LAST-MODIFIED:20190522T105112Z
UID:4632-1559676600-1559676600@backup.sistemamedcampania.it
SUMMARY:Associazione Alessandro Scarlatti-Lo Sguardo e il Suono. La pausa dal dolore
DESCRIPTION:Terzo appuntamento con Lo Sguardo e il Suono\,  dell’ Associazione Alessandro Scarlatti che vedrà protagonisti Alessandro Schiano  Moriello\,  al pianoforte e Renato Ruotolo come relatore. L’opera ispiratrice della serata è del 1886\, Taverna a Posillipo\, di Vincenzo Migliaro. \n  \nProgramma: \nSigismund Thalberg – Les soirées de Pausilippe (Hommage à Rossini)\,op. 75\, 7\, 3\, 17\, 19\, 23\, 5 \nJohannes Brahms – Intermezzo in la maggiore op. 118 n. 2 \nFranz Liszt – Vallée d’Obermann da Années de pèlerinage \nAleksandr Skrjabin – Preludio e Notturno op. 9\, per sola mano sinistra \nSergej Prokofiev  – Toccata in re minore  op. 11 \n  \ninfo: http://www.associazionescarlatti.it/
URL:https://backup.sistemamedcampania.it/evento/associazione-alessandro-scarlatti-lo-sguardo-e-il-suono-la-pausa-dal-dolore/
LOCATION:Palazzo Zevallos\, Via Toledo 185\, Napoli
CATEGORIES:Associazione Alessandro Scarlatti.,Lo sguardo e il suono,Musica
ATTACH;FMTTYPE=image/jpeg:https://backup.sistemamedcampania.it/wp-content/uploads/2019/05/taverna-a-posillipo.jpg
END:VEVENT
BEGIN:VEVENT
DTSTART;TZID=Europe/Rome:20190528T193000
DTEND;TZID=Europe/Rome:20190528T193000
DTSTAMP:20260419T211120
CREATED:20190520T095033Z
LAST-MODIFIED:20190522T105129Z
UID:4628-1559071800-1559071800@backup.sistemamedcampania.it
SUMMARY:Associazione Alessandro Scarlatti-Lo Sguardo e il Suono. Il suono del mistero
DESCRIPTION:Secondo appuntamento con Lo Sguardo e il Suono\,  dell’ Associazione Alessandro Scarlatti.  \nUgo Dovere commenterà l’opera di Domenico Battaglia\, Il coro della chiesa di Santa Maria Donnaregina Nuova  della seconda metà del XIX secolo. Al pianoforte Aldo Alberto Pessolano. \n  \nProgramma: \nJohann Sebastian  Bach \, Wilhelm  Kempff – Siciliano  dalla Sonata per flauto n. 2 No. 2 BWV 1031 \nJohann Sebastian  Bach \,Franz  Liszt – Preludio e fuga in la minore BWV 543 \nCésar  Franck \, Harold Bauer –  Prélude\, fugue et variation op. 18 \nFranz  Liszt- Recueillement S.204 \nOlivier Messiaen – Regard de l’Eglise d’amour \, da Vingt Regard sur l’Enfant-Jésus \n  \ninfo: http://www.associazionescarlatti.it/ \n  \n 
URL:https://backup.sistemamedcampania.it/evento/associazione-alessandro-scarlatti-lo-sguardo-e-il-suono-il-suono-del-mistero/
LOCATION:Palazzo Zevallos\, Via Toledo 185\, Napoli
CATEGORIES:Associazione Alessandro Scarlatti.,Lo sguardo e il suono,Musica
ATTACH;FMTTYPE=image/jpeg:https://backup.sistemamedcampania.it/wp-content/uploads/2019/05/coro-della-chiesa-di-s.m.-donnaregina.jpg
END:VEVENT
BEGIN:VEVENT
DTSTART;TZID=Europe/Rome:20190521T193000
DTEND;TZID=Europe/Rome:20190521T193000
DTSTAMP:20260419T211120
CREATED:20190515T095338Z
LAST-MODIFIED:20190522T103746Z
UID:4625-1558467000-1558467000@backup.sistemamedcampania.it
SUMMARY:Associazione Alessandro Scarlatti-Lo Sguardo e il Suono. Napoli\, 1610
DESCRIPTION:L’ Associazione Alessandro Scarlatti in occasione dei 100 anni di attività presenta una nuova rassegna musicale: Lo Sguardo e il Suono. 8 concerti ispirati a 8 opere d’arte di Palazzo Zevallos Stigliano. Il Primo concerto è affidato all’ arpa di Mara Galassi  ispirata dal dipinto di Caravaggio “Il Martirio di Sant’Orsola” che sarà narrato da  Antonio De Nunzio.\n \n  \nProgramma: \nFabrizio Dentice – Fantasia\, Gagliarda Bella (Siena Lutebook Ms28B39) \nAntonio Valente – Il Ballo dell’Intorcia (Intavolatura de’ Cimbalo\, Napoli\, 1576) \nLouis Maymon – Fantasia (Codice Barberino\, olim Berlin 40032\, Biblioteca Jagellonska\, Cracovia) \nGiovan Leonardo dell’Arpa – Galliarda (Ms 4.6.3\, Conservatorio di San Pietro à Maiella\, Napoli) \nAscanio Mayone – Ricercare Primo\, Partite sopra Fidele (Diversi Capricci\, Libro 1\, Napoli\, 1603)\, Toccata IV per il Cimbalo Cromatico (Secondo Libro di Diversi Capricci per sonare\, Napoli\, 1609) \nGiovanni Maria Trabaci – Partite artificiose sopra il Tenor di Zefiro\, Toccata Seconda et Ligature a 4\, per l’Arpa\, Ancidetemi pur\, per l’Arpa (Il secondo Libro de Ricercate & altri varij Capricci) \n  \ninfo: http://www.associazionescarlatti.it/ \n 
URL:https://backup.sistemamedcampania.it/evento/associazione-alessandro-scarlatti-lo-sguardo-e-il-suono-napoli-1610/
LOCATION:Palazzo Zevallos\, Via Toledo 185\, Napoli
CATEGORIES:Associazione Alessandro Scarlatti.,Lo sguardo e il suono,Musica
ATTACH;FMTTYPE=image/jpeg:https://backup.sistemamedcampania.it/wp-content/uploads/2019/05/martirio-di-santorsola.jpg
END:VEVENT
END:VCALENDAR