BEGIN:VCALENDAR
VERSION:2.0
PRODID:-//Sistema Med Campania - ECPv6.7.0//NONSGML v1.0//EN
CALSCALE:GREGORIAN
METHOD:PUBLISH
X-WR-CALNAME:Sistema Med Campania
X-ORIGINAL-URL:https://backup.sistemamedcampania.it
X-WR-CALDESC:Eventi per Sistema Med Campania
REFRESH-INTERVAL;VALUE=DURATION:PT1H
X-Robots-Tag:noindex
X-PUBLISHED-TTL:PT1H
BEGIN:VTIMEZONE
TZID:Europe/Rome
BEGIN:DAYLIGHT
TZOFFSETFROM:+0100
TZOFFSETTO:+0200
TZNAME:CEST
DTSTART:20180325T010000
END:DAYLIGHT
BEGIN:STANDARD
TZOFFSETFROM:+0200
TZOFFSETTO:+0100
TZNAME:CET
DTSTART:20181028T010000
END:STANDARD
END:VTIMEZONE
BEGIN:VEVENT
DTSTART;TZID=Europe/Rome:20180705T200000
DTEND;TZID=Europe/Rome:20180705T200000
DTSTAMP:20260419T211313
CREATED:20180702T105502Z
LAST-MODIFIED:20180702T105632Z
UID:3737-1530820800-1530820800@backup.sistemamedcampania.it
SUMMARY:Miti di Musica 2018. Il Mito di Roma
DESCRIPTION:L’Associazione Alessandro Scarlatti torna con l’edizione 2018 di Miti di Musica. \nUltimo appuntamento con la ScarlattiLab barocco nella sala del Toro Farnese del Museo Archeologico di Napoli con il concerto Cantate per i Cardinali al tempo di Bernardo Pasquini. \nScalattiLab barocco: \nAngelo Trancone cembalo\nUgo di Giovanni\, tiorba\nFederica Altomare\, Olga Cafiero\, Ester Facchini\, Giuseppina Perna\, soprani\nLeopoldo Punziano\, tenore\nRoberto Gaudino\, basso\nMarco Piantoni\, Giuseppe Guida\, Giuseppe Grieco\, violini\nChiara Mallozzi\, violoncello\nGuido Mandaglio\, fagotto \nDirezione musicale di Antonio Florio\nDirezione artistica di Antonio Florio e Dinko Fabris\nIn collaborazione con il Dipartimento di Musica Antica del Conservatorio San Pietro a Majella di Napoli. \n  \nProgramma:\n \nArcangelo Corelli \nSonata op. 1 n.10 per 2 violini e basso continuo\nBernardo Pasquini\nS’apriro i cieli cantata per soprano\, 3 violini e basso continuo \ninfo: \nhttp://www.associazionescarlatti.it/miti-di-musica-201718/ \n  \nFoto: Giancarlo De Luca
URL:https://backup.sistemamedcampania.it/evento/miti-di-musica-2018-il-mito-di-roma/
LOCATION:Museo Archeologico nazionale di Napoli\, Piazza Museo\, 19\, Napoli\, 80135\, Italia
CATEGORIES:Associazione Alessandro Scarlatti.,Miti di Musica 2018,Musica
ATTACH;FMTTYPE=image/jpeg:https://backup.sistemamedcampania.it/wp-content/uploads/2018/07/il-mito-di-roma.jpg
END:VEVENT
BEGIN:VEVENT
DTSTART;TZID=Europe/Rome:20180628T200000
DTEND;TZID=Europe/Rome:20180628T200000
DTSTAMP:20260419T211313
CREATED:20180625T133357Z
LAST-MODIFIED:20180625T133357Z
UID:3728-1530216000-1530216000@backup.sistemamedcampania.it
SUMMARY:Miti di Musica 2018. Il Mito della Notte
DESCRIPTION:L’Associazione Alessandro Scarlatti torna con l’edizione 2018 di Miti di Musica. \nSecondo appuntamento dei concerti al Museo con il Coro Polifonico di Napoli Joseph Grima nella Sala del Toro Farnese del Museo Archeologico di Napoli\, Sala del Toro Farnese. Il Coro sarà accompagnato al pianoforte da Maurizio Iaccarino e sarà diretto da Lugi Grima. \nprogramma: \nJohannes Brahms\nQuattro quartetti vocali op 92\nCamille Saint-Saëns \nCalme des nuits\nGabriel Faurè \nMadrigal\, Op. 35\nEriks Esenvalds \nStars\nMorten Lauridsen\nNocturnes\nGaetano Panariello\nCosì è la notte\nAntonello Paliotti\nCanticum \n  \ninfo: \nhttp://www.associazionescarlatti.it/miti-di-musica-201718/
URL:https://backup.sistemamedcampania.it/evento/miti-di-musica-2018-il-mito-della-notte/
LOCATION:Museo Archeologico nazionale di Napoli\, Piazza Museo\, 19\, Napoli\, 80135\, Italia
CATEGORIES:Associazione Alessandro Scarlatti.,Miti di Musica 2018,Musica
ATTACH;FMTTYPE=image/jpeg:https://backup.sistemamedcampania.it/wp-content/uploads/2018/06/il-mito-della-notte.jpg
END:VEVENT
BEGIN:VEVENT
DTSTART;TZID=Europe/Rome:20180614T200000
DTEND;TZID=Europe/Rome:20180614T200000
DTSTAMP:20260419T211313
CREATED:20180613T094605Z
LAST-MODIFIED:20180613T094605Z
UID:3688-1529006400-1529006400@backup.sistemamedcampania.it
SUMMARY:Miti di Musica 2018. Ritmi del Mito piccole drammaturgie sonore per percussionisti-attori
DESCRIPTION:L’Associazione Alessandro Scarlatti torna con l’edizione 2018 di Miti di Musica \nPrimo appuntamento nel Cortile delle fontane del Museo Archeologico di Napoli con Ars Ludi e le loro magnifiche  percussioni a organico variabile. \nAntonio Caggiano\, Rodolfo Rossi\, Gianluca Ruggeri\, Luca Giacobbe\, Gianfranco Vozza\, Jamil Zidan\, percussioni \n  \nProgramma: \nGiorgio Battistelli\nMarx Lenin Mao Tse Tung per 3 performers\nSalvatore Sciarrino\nIl legno e la parola per marimbone\nGiorgio Battistelli\nOrazi e Curiazi per 2 performers\nSteve Reich\nDrumming per 4 coppie di bongos\nGiorgio Battistelli\nPsycopompos per 6 performers \n  \ninfo: \nhttp://www.associazionescarlatti.it/miti-di-musica-201718/ \n 
URL:https://backup.sistemamedcampania.it/evento/miti-di-musica-2018-ritmi-del-mito-piccole-drammaturgie-sonore-per-percussionisti-attori/
LOCATION:Museo Archeologico nazionale di Napoli\, Piazza Museo\, 19\, Napoli\, 80135\, Italia
CATEGORIES:Associazione Alessandro Scarlatti.,Miti di Musica 2018,Musica
ATTACH;FMTTYPE=image/jpeg:https://backup.sistemamedcampania.it/wp-content/uploads/2018/06/ars-ludi.jpg
END:VEVENT
END:VCALENDAR