BEGIN:VCALENDAR
VERSION:2.0
PRODID:-//Sistema Med Campania - ECPv6.7.0//NONSGML v1.0//EN
CALSCALE:GREGORIAN
METHOD:PUBLISH
X-WR-CALNAME:Sistema Med Campania
X-ORIGINAL-URL:https://backup.sistemamedcampania.it
X-WR-CALDESC:Eventi per Sistema Med Campania
REFRESH-INTERVAL;VALUE=DURATION:PT1H
X-Robots-Tag:noindex
X-PUBLISHED-TTL:PT1H
BEGIN:VTIMEZONE
TZID:Europe/Rome
BEGIN:DAYLIGHT
TZOFFSETFROM:+0100
TZOFFSETTO:+0200
TZNAME:CEST
DTSTART:20190331T010000
END:DAYLIGHT
BEGIN:STANDARD
TZOFFSETFROM:+0200
TZOFFSETTO:+0100
TZNAME:CET
DTSTART:20191027T010000
END:STANDARD
END:VTIMEZONE
BEGIN:VEVENT
DTSTART;TZID=Europe/Rome:20190704T200000
DTEND;TZID=Europe/Rome:20190704T200000
DTSTAMP:20260419T211231
CREATED:20190619T131955Z
LAST-MODIFIED:20190619T131955Z
UID:4771-1562270400-1562270400@backup.sistemamedcampania.it
SUMMARY:Associazione Alessandro Scarlatti-Miti Di Musica 2019.Miti di celluloide
DESCRIPTION:Torna la rassegna Miti di Musica\, dell’Associazione Scarlatti al Museo Archeologico Nazionale. \nQuinto appuntamento con  il Duo Passo 15 in Miti di celluloide- Elvira Notari \nPresentazione a cura di Anna Masecchia e Simona Frasca \n  \nAntonella Monetti \, voce e fisarmonica \nMichele Signore\, chitarra e mandolino \n  \n  \n  \nProgramma: \n  \nFantasia ‘e Surdate (1927\, Elvira Notari) \n  \n  \ninfo: http://www.associazionescarlatti.it/
URL:https://backup.sistemamedcampania.it/evento/associazione-alessandro-scarlatti-miti-di-musica-2019-miti-di-celluloide/
LOCATION:Museo Archeologico nazionale di Napoli\, Piazza Museo\, 19\, Napoli\, 80135\, Italia
CATEGORIES:Associazione Alessandro Scarlatti.,Miti di Musica2019,Musica
ATTACH;FMTTYPE=image/jpeg:https://backup.sistemamedcampania.it/wp-content/uploads/2019/06/passo15duo.jpg
END:VEVENT
BEGIN:VEVENT
DTSTART;TZID=Europe/Rome:20190627T200000
DTEND;TZID=Europe/Rome:20190627T200000
DTSTAMP:20260419T211231
CREATED:20190617T121705Z
LAST-MODIFIED:20190617T121938Z
UID:4742-1561665600-1561665600@backup.sistemamedcampania.it
SUMMARY:Associazione Alessandro Scarlatti-Miti Di Musica 2019. Il Mito di Roma
DESCRIPTION:Torna la rassegna Miti di Musica\, dell’Associazione Scarlatti al Museo Archeologico Nazionale. \nQuarto appuntamento con  ScarlattiLab Barocco in Il Mito di Roma  – Alessandro Melani nella Roma della fine ‘600 \nFrancesco Divito\, Valeria La Grotta – soprani \nAurelio Schiavoni – alto \nLeopodo Punziano – tenore \nRoberto Gaudino – basso \nAngelo Trancone – organo e direzione \nPierluigi Ciapparelli-  tiorba \nDirezione musicale di Antonio Florio \n  \nProgramma: \nAlessandro Melani – Concerti spirituali a 2\, 3\, e 5 voci \nDerelinquat impius\, mottetto per Alto\, tenore e basso e b.c.; Salve Mater\, mottetto per 2 soprani e b.c.; O Felix Anima\, mottetto per alto\, basso e b.c. \nAlessandro Scarlatti  – Toccata per organo (m.scritto Coimbra\, Portogallo) \nAlessandro Melani – Date Voces Pueri\, mottetto per 2 soprani\, tenore e b.c. \nIustus ut Palma\, mottetto per soprano e alto e b.c.¸Recolite memoriam\, mottetto per 2 soprani\, alto\, tenore\, basso e b.c. \n  \ninfo: http://www.associazionescarlatti.it/ \n  \nfoto di copertina: Giancarlo De Luca
URL:https://backup.sistemamedcampania.it/evento/associazione-alessandro-scarlatti-miti-di-musica-2019-il-mito-di-roma/
LOCATION:Museo Archeologico nazionale di Napoli\, Piazza Museo\, 19\, Napoli\, 80135\, Italia
CATEGORIES:Associazione Alessandro Scarlatti.,Miti di Musica2019,Musica
ATTACH;FMTTYPE=image/jpeg:https://backup.sistemamedcampania.it/wp-content/uploads/2019/06/scarlatti-lab-barocco.jpg
END:VEVENT
BEGIN:VEVENT
DTSTART;TZID=Europe/Rome:20190620T200000
DTEND;TZID=Europe/Rome:20190620T200000
DTSTAMP:20260419T211231
CREATED:20190617T115523Z
LAST-MODIFIED:20190617T115523Z
UID:4739-1561060800-1561060800@backup.sistemamedcampania.it
SUMMARY:Associazione Alessandro Scarlatti-Miti Di Musica 2019. Miti del Barocco
DESCRIPTION:Terzo concerto della rassegna Miti di Musica\, dell’Associazione Scarlatti al Museo Archeologico Nazionale. \nNella sala del Toro Farnese si esibirà la Rotary Youth Chamber Orchestra  diretta da Luca Signorini con  i violini solisti Riccardo Zamuner e Alessandro Di Giacomo violino solista. \n  \n Programma: \nGiovanni Battista Pergolesi  – Ouverture da Lo Frate ‘nnamurato \nAntonio Vivaldi – Concerto per 2 violini in la minore RV 523; Concerto per violoncello in si minore RV 424 \nFrancesco Durante – Concerto n. 6 in la maggiore per archi \nJohann Sebastian Bach  – Concerto per 2 violini in re minore BWV 1043 \n  \n  \ninfo: http://www.associazionescarlatti.it/
URL:https://backup.sistemamedcampania.it/evento/associazione-alessandro-scarlatti-miti-di-musica-2019-miti-del-barocco/
LOCATION:Museo Archeologico nazionale di Napoli\, Piazza Museo\, 19\, Napoli\, 80135\, Italia
CATEGORIES:Associazione Alessandro Scarlatti.,Miti di Musica2019,Musica
ATTACH;FMTTYPE=image/jpeg:https://backup.sistemamedcampania.it/wp-content/uploads/2019/06/rotoray-per-ass.scarlatti.jpg
END:VEVENT
BEGIN:VEVENT
DTSTART;TZID=Europe/Rome:20190613T200000
DTEND;TZID=Europe/Rome:20190613T200000
DTSTAMP:20260419T211231
CREATED:20190605T141717Z
LAST-MODIFIED:20190605T141717Z
UID:4708-1560456000-1560456000@backup.sistemamedcampania.it
SUMMARY:Associazione Alessandro Scarlatti-Miti Di Musica 2019. Coro Mysterium Vocis
DESCRIPTION:Torna la rassegna Miti di Musica\, dell’Associazione Scarlatti al Museo Archeologico Nazionale. \nSecondo appuntamento con il Coro Mysterium Vocis diretto da Rosario Totaro impegnato in percorsi polifonici tra Mito e Devozione. \n  \nMusiche di: George Fenton\, Jacobus Gallus\, Diogo Dias. Melgás\, Orlando Di Lasso\, Niccolò Jommelli\, Giacomo Vitale\, Mario Pilati\, Francisco Antonio  de Almeida \n  \n  \ninfo: http://www.associazionescarlatti.it/
URL:https://backup.sistemamedcampania.it/evento/associazione-alessandro-scarlatti-miti-di-musica-2019-coro-mysterium-vocis/
LOCATION:Museo Archeologico nazionale di Napoli\, Piazza Museo\, 19\, Napoli\, 80135\, Italia
CATEGORIES:Associazione Alessandro Scarlatti.,Miti di Musica2019,Musica
ATTACH;FMTTYPE=image/jpeg:https://backup.sistemamedcampania.it/wp-content/uploads/2019/06/coro-mysterium-vocis.jpg
END:VEVENT
BEGIN:VEVENT
DTSTART;TZID=Europe/Rome:20190606T200000
DTEND;TZID=Europe/Rome:20190606T200000
DTSTAMP:20260419T211231
CREATED:20190531T134428Z
LAST-MODIFIED:20190531T134428Z
UID:4661-1559851200-1559851200@backup.sistemamedcampania.it
SUMMARY:Associazione Alessandro Scarlatti-Miti Di Musica 2019. Quartetto Mitja
DESCRIPTION:Dopo il successo delle prime due edizioni\, l’Associazione Scarlatti torna al Museo Archeologico Nazionale per la terza edizione della rassegna Miti di Musica\, all’insegna della varietà dei linguaggi musicali\, e della volontà di contribuire con produzioni musicali originali alla fase attuale di apertura che caratterizza il MANN nei confronti di tutti i linguaggi artistici. Il primo dei 5 concerti vedrà protagonista il  Quartetto Mitja nato nel 2008 da quattro musicisti provenienti da Napoli\, Salerno\, Potenza e La Serena (Cile). Mitja\, piccolo Dmitrij\, è il dolce diminutivo che usava la madre di Shostakovich per chiamare suo figlio\, ed è attraverso il suo nome che questo grande compositore ci ricorda di guardare con coraggio al futuro per creare senza limiti. \nGiorgiana Strazzullo\, violino \nSergio Martinoli\, violino \nCarmine Caniani\, viola \nVeronica Fabbri Valenzuela\, violoncello \n  \nProgramma: \n  \nFranz Josef Haydn –  Quartetto op.33 n.3 in do maggiore “Der Vogel” \nLudwig van Beethoven –  dal Quartetto op.18 n.1 in fa maggiore\, – adagio affettuoso ed appassionato\, quartetto op. 74 in mi bemolle maggiore “Le Arpe” \n  \ninfo: http://www.associazionescarlatti.it/ \n  \n 
URL:https://backup.sistemamedcampania.it/evento/associazione-alessandro-scarlatti-miti-di-musica-2019-quartetto-mitja/
LOCATION:Museo Archeologico nazionale di Napoli\, Piazza Museo\, 19\, Napoli\, 80135\, Italia
CATEGORIES:Associazione Alessandro Scarlatti.,Miti di Musica2019,Musica
ATTACH;FMTTYPE=image/jpeg:https://backup.sistemamedcampania.it/wp-content/uploads/2019/05/Quartetto-Mitja.jpg
END:VEVENT
END:VCALENDAR