BEGIN:VCALENDAR
VERSION:2.0
PRODID:-//Sistema Med Campania - ECPv6.7.0//NONSGML v1.0//EN
CALSCALE:GREGORIAN
METHOD:PUBLISH
X-ORIGINAL-URL:https://backup.sistemamedcampania.it
X-WR-CALDESC:Eventi per Sistema Med Campania
REFRESH-INTERVAL;VALUE=DURATION:PT1H
X-Robots-Tag:noindex
X-PUBLISHED-TTL:PT1H
BEGIN:VTIMEZONE
TZID:Europe/Rome
BEGIN:DAYLIGHT
TZOFFSETFROM:+0100
TZOFFSETTO:+0200
TZNAME:CEST
DTSTART:20200329T010000
END:DAYLIGHT
BEGIN:STANDARD
TZOFFSETFROM:+0200
TZOFFSETTO:+0100
TZNAME:CET
DTSTART:20201025T010000
END:STANDARD
END:VTIMEZONE
BEGIN:VEVENT
DTSTART;TZID=Europe/Rome:20200731T190000
DTEND;TZID=Europe/Rome:20200731T200000
DTSTAMP:20260419T211439
CREATED:20200721T092154Z
LAST-MODIFIED:20230531T094954Z
UID:5906-1596222000-1596225600@backup.sistemamedcampania.it
SUMMARY:Associazione Alessandro Scarlatti. Musica sotto le stelle-Viaggi Impossibili.Ciro Longobardi
DESCRIPTION:Per Musica sotto le stelle dell’ Associazione Alessandro Scarlatti\, Ciro Longobardi ci accompagnerà\, con il suo pianoforte in Viaggi Impossibili tra le composizioni di Olivier Messiaen e Claude Debussy. \n  \nProgramma: \nOlivier Messiaen  – da Catalogue d’Oiseaux : L’Alouette Lulu\, Le Traquet Stapazin\, Le Merle Bleu;  \nClaude Debussy – Estampes \n  \nFoto di copertina: Pietro Previti \n  \nInfo: http://www.associazionescarlatti.it
URL:https://backup.sistemamedcampania.it/evento/associazione-alessandro-scarlatti-musica-sotto-le-stelle-viaggi-impossibili-ciro-longobardi/
LOCATION:Villa Pignatelli\, Riviera di Chiaia\, 200\, Napoli\, 80121\, Italia
CATEGORIES:Associazione Alessandro Scarlatti.,Musica,Musica sotto le stelle a Villa Pignatelli
ATTACH;FMTTYPE=image/jpeg:https://backup.sistemamedcampania.it/wp-content/uploads/2020/07/ciro-longobardi.jpg
END:VEVENT
BEGIN:VEVENT
DTSTART;TZID=Europe/Rome:20200728T190000
DTEND;TZID=Europe/Rome:20200728T200000
DTSTAMP:20260419T211439
CREATED:20200721T091120Z
LAST-MODIFIED:20230531T095001Z
UID:5901-1595962800-1595966400@backup.sistemamedcampania.it
SUMMARY:Associazione Alessandro Scarlatti. Musica sotto le stelle-Piano Solo. Stefania Tallini
DESCRIPTION:Il prossimo appuntamento con l’ Associazione Alessandro Scarlatti vedrà protagonista Stefania Tallini considerata tra le più importanti pianiste e compositrici jazz\, presenta la sua musica in Piano Solo: dimensione che le è molto congeniale e nella quale esprime al meglio il suo peculiare mondo compositivo\, oggi sempre più maturo e personale. Un caleidoscopio di sonorità diverse che si sono nutrite del jazz\, della musica classica\, della musica brasiliana e che la pianista ha saputo far confluire in un suo linguaggio originale\, che la rende una delle più interessanti ed affermate realtà musicali di oggi. \n  \n  \nInfo: http://www.associazionescarlatti.it
URL:https://backup.sistemamedcampania.it/evento/associazione-alessandro-scarlatti-musica-sotto-le-stelle-piano-solo-stefania-tallini/
LOCATION:Villa Pignatelli\, Riviera di Chiaia\, 200\, Napoli\, 80121\, Italia
CATEGORIES:Associazione Alessandro Scarlatti.,Musica,Musica sotto le stelle a Villa Pignatelli
ATTACH;FMTTYPE=image/jpeg:https://backup.sistemamedcampania.it/wp-content/uploads/2020/07/stefania-tallini.jpg
END:VEVENT
BEGIN:VEVENT
DTSTART;TZID=Europe/Rome:20200724T190000
DTEND;TZID=Europe/Rome:20200724T200000
DTSTAMP:20260419T211439
CREATED:20200721T084342Z
LAST-MODIFIED:20230531T095009Z
UID:5897-1595617200-1595620800@backup.sistemamedcampania.it
SUMMARY:Associazione Alessandro Scarlatti. Musica sotto le stelle-Giuseppe Gibboni e Fabio Silevestro
DESCRIPTION:Giuseppe Gibboni e Fabio Silevestro saranno i protagonisti del prossimo appuntamento di Musica sotto le Stelle dell’ Associazione Alessandro Scarlatti. Pianoforte e violino impegnati tra i capricci di Paganini\, e le sonate di Beethoven e Ysaÿe per concludere con le variazioni di Wieniawski.  \n  \n  \nProgramma: \nNiccolò Paganini – Capricci n.1 e n. 24; \nEugène Ysaÿe  – Sonata in mi maggiore n. 6 per violino solo; \nLudwig van Beethoven – Sonata per violino e pianoforte n. 5 in fa maggiore\, op. 24 “La Primavera”; \nHenryk Wieniawski – Variations on an original theme op.15 \n  \n  \nInfo: http://www.associazionescarlatti.it
URL:https://backup.sistemamedcampania.it/evento/associazione-alessandro-scarlatti-musica-sotto-le-stelle-giuseppe-gibboni-e-fabio-silevestro/
LOCATION:Villa Pignatelli\, Riviera di Chiaia\, 200\, Napoli\, 80121\, Italia
CATEGORIES:Associazione Alessandro Scarlatti.,Musica,Musica sotto le stelle a Villa Pignatelli
ATTACH;FMTTYPE=image/jpeg:https://backup.sistemamedcampania.it/wp-content/uploads/2020/07/gibboni-silvestro.jpg
END:VEVENT
BEGIN:VEVENT
DTSTART;TZID=Europe/Rome:20200721T190000
DTEND;TZID=Europe/Rome:20200721T200000
DTSTAMP:20260419T211439
CREATED:20200713T150733Z
LAST-MODIFIED:20230531T095017Z
UID:5891-1595358000-1595361600@backup.sistemamedcampania.it
SUMMARY:Associazione Alessandro Scarlatti. Musica sotto le stelle-Riflessi dall’Oriente
DESCRIPTION:Per il prossimo appuntamento con Musica sotto le Stelle dell’ Associazione Alessandro Scarlatti\, Riflessi dall’Oriente un viaggio con il duo pianistico formato da Maria Libera Cerchia e Antonello Cannavale \nAccettare limitazioni al proprio pianismo\, dividere la tastiera\, l’uso dei pedali\, lo spazio corporeo in nome di altra dimensione pianistica\, non votata al personalismo e all’esteriorità\, diventa un credo quando il repertorio cameristico lo richiede. La fusione tra i due pianisti si completa con il pubblico coinvolto in una sfera intima e raccolta\, peculiarità della musica da camera. \n  \nProgramma: \nRobert Schumann – Bilder aus  Osten –  Sei improvvisazioni per pianoforte a quattro man; \nJohannes Brahms  – Liebeslieder Walzer op.52a;  \nAntonìn  Dvořák – da Slovanské tance Op.72 :n.1O dzemek \,  n.8 Sousedská. \n  \nFoto di copertina di Giancarlo De Luca \nInfo: http://www.associazionescarlatti.it
URL:https://backup.sistemamedcampania.it/evento/associazione-alessandro-scarlatti-musica-sotto-le-stelle-riflessi-dalloriente/
LOCATION:Villa Pignatelli\, Riviera di Chiaia\, 200\, Napoli\, 80121\, Italia
CATEGORIES:Associazione Alessandro Scarlatti.,Musica,Musica sotto le stelle a Villa Pignatelli
ATTACH;FMTTYPE=image/jpeg:https://backup.sistemamedcampania.it/wp-content/uploads/2020/07/cerchia-cannavale.jpg
END:VEVENT
BEGIN:VEVENT
DTSTART;TZID=Europe/Rome:20200717T190000
DTEND;TZID=Europe/Rome:20200717T190000
DTSTAMP:20260419T211439
CREATED:20200707T102330Z
LAST-MODIFIED:20230531T095022Z
UID:5861-1595012400-1595012400@backup.sistemamedcampania.it
SUMMARY:Associazione Alessandro Scarlatti. Musica sotto le stelle-Canto di ringraziamento.Sandro Cappelletto&Quartetto Savinio 
DESCRIPTION:L’ Associazione Alessandro Scarlatti presenta Canto di ringraziamento un racconto di Sandro Cappelletto  accompagnato dal Quartetto Savinio sull’ Op.132 di Ludwig van Beethoven in memoria di Piero Farulli nel centenario della nascita. \n  \nQUARTETTO SAVINIO \nAlberto Maria Ruta\, Rossella Bertucci\, violini \nEdoardo Rosadini \, viola \nLorenzo Ceriani\, violoncello \n  \nCon il sostegno di Goethe-Institut Napoli \nInfo: http://www.associazionescarlatti.it
URL:https://backup.sistemamedcampania.it/evento/associazione-alessandro-scarlatti-musica-sotto-le-stelle-canto-di-ringraziamento-sandro-cappellettoquartetto-savinio/
LOCATION:Villa Pignatelli\, Riviera di Chiaia\, 200\, Napoli\, 80121\, Italia
CATEGORIES:Associazione Alessandro Scarlatti.,Musica,Musica sotto le stelle a Villa Pignatelli
ATTACH;FMTTYPE=image/jpeg:https://backup.sistemamedcampania.it/wp-content/uploads/2020/07/savinio-cappelletto.jpg
END:VEVENT
BEGIN:VEVENT
DTSTART;TZID=Europe/Rome:20200714T190000
DTEND;TZID=Europe/Rome:20200714T190000
DTSTAMP:20260419T211439
CREATED:20200707T101143Z
LAST-MODIFIED:20230531T095027Z
UID:5857-1594753200-1594753200@backup.sistemamedcampania.it
SUMMARY:Associazione Alessandro Scarlatti. Musica sotto le stelle-1770: Mozart a Napoli.Dario Candela
DESCRIPTION:Terzo appuntamento con Musica sotto le stelle a Villa Pignatelli dell’ Associazione Alessandro Scarlatti: protagonista l’eclettico pianista Dario Candela.  \n  \nProgramma: \nWolfgang Amadeus Mozart – Sonata K 330 in do maggiore\, Sonata K 283 in sol maggiore; \nDomenico  Cimarosa  – Sonata C 55 in la minore\, Sonata C 47 in la maggiore\, Sonata C79 in re minore\, Sonata C. 88 in do maggiore; \nDomenico Scarlatti  – Sonata K 146 in sol maggiore\, Sonata K 498 in si minore\, Sonate K 225 in do maggiore \n  \nInfo: http://www.associazionescarlatti.it
URL:https://backup.sistemamedcampania.it/evento/associazione-alessandro-scarlatti-musica-sotto-le-stelle-1770-mozart-a-napoli-dario-candela/
LOCATION:Villa Pignatelli\, Riviera di Chiaia\, 200\, Napoli\, 80121\, Italia
CATEGORIES:Associazione Alessandro Scarlatti.,Musica,Musica sotto le stelle a Villa Pignatelli
ATTACH;FMTTYPE=image/jpeg:https://backup.sistemamedcampania.it/wp-content/uploads/2020/07/candela.jpg
END:VEVENT
BEGIN:VEVENT
DTSTART;TZID=Europe/Rome:20200710T190000
DTEND;TZID=Europe/Rome:20200710T200000
DTSTAMP:20260419T211439
CREATED:20200702T174630Z
LAST-MODIFIED:20230531T095033Z
UID:5850-1594407600-1594411200@backup.sistemamedcampania.it
SUMMARY:Associazione Alessandro Scarlatti. Musica sotto le stelle-Benedetto Ferrari e il suo Tempo
DESCRIPTION:Per il secondo appuntamento di “Musica sotto le stelle” dell” Associazione Alessandro Scarlatti lo Scarlattilab Barocco presenta Benedetto Ferrari e il suo Tempo un progetto che vede la direzione musicologia di Dinko Fabris \nScarlattiLab Barocco nato nel 2011 è progetto innovativo ed unico in Italia\,  che  raccoglie le iniziative della  Associazione Alessandro Scarlatti – Ente Morale dedicate ai giovani cantanti\, compositori  e strumentisti di I° e II° livello dei Conservatori del Sud che si affacciano alla carriera professionale.   \n  \nProgramma: \nBenedetto Ferrari – Pur ti miro\, pur ti godo\, duetto da L’incoronazione di Poppea ;  Amanti\, io vi so dire. Ciaccona da Musiche varie a voce sola…\, Libro III; \nIl più fido di me da Musiche varie a voce sola…\, Libro III; \nDonna t’inganni da Musiche varie a voce sola…\, Libro II; \nFrancesco Cavalli  – Amor chi ha senno in se’\, duetto di Licco e Paggio da Ercole amante; \nMarco Uccellini – Sonata XI\, opera 7; Benedetto Ferrari – Lingua di donna da Musiche varie a voce sola…\, Libro II \, Amar io ti consiglio\, Lidia e Fileno. Dialogo da Musiche varie a voce sola…\, Libro III; \nMarco Uccellini  – Aria V\, opera 4; Francesco Cavalli   Pera\, mora l’indegno!aria di Clerica da Ercole amante; Giovanni Felice Sances  – Lagrimosa beltà. Cantada a doi voci. In Ciacona \n  \nGiulia Lepore\, soprano \nCristina D’Alessandro contralto \nDonato Lillo-Tarì tenore \nUgo Di Giovanni\, Pierluigi Ciapparelli\, tiorbe \nLuigi Trivisano cembalo \nDomenico Passarelli flauto dritto \nAntonio Florio direttore musicale \n  \nInfo: http://www.associazionescarlatti.it \n 
URL:https://backup.sistemamedcampania.it/evento/associazione-alessandro-scarlatti-musica-sotto-le-stelle-benedetto-ferrari-e-il-suo-tempo/
LOCATION:Villa Pignatelli\, Riviera di Chiaia\, 200\, Napoli\, 80121\, Italia
CATEGORIES:Associazione Alessandro Scarlatti.,Musica,Musica sotto le stelle a Villa Pignatelli
ATTACH;FMTTYPE=image/jpeg:https://backup.sistemamedcampania.it/wp-content/uploads/2020/07/scarlatti-lab-barocco.jpg
END:VEVENT
BEGIN:VEVENT
DTSTART;TZID=Europe/Rome:20200707T210000
DTEND;TZID=Europe/Rome:20200707T210000
DTSTAMP:20260419T211439
CREATED:20200702T171104Z
LAST-MODIFIED:20200703T164356Z
UID:5847-1594155600-1594155600@backup.sistemamedcampania.it
SUMMARY:Associazione Alessandro Scarlatti. Musica sotto le stelle-Cinematografo Viviani .Canzoni e Film
DESCRIPTION:Ripartire con la musica. Ripartire sotto le stelle. L’ Associazione Alessandro Scarlatti riparte con la rassegna musicale a Villa Pignatelli. Antonella Monetti e Michele Signore protagonisti del primo appuntamento. \nSonorizzazione dei film: \nScarpetta e l’americana ( 1908) con Vincenzo Scarpetta \nMusiche di Raffaele Viviani\, Mario Pasquale Costa\, Antonio De Curtis \nUn amore selvaggio (1912) con Raffaele Viviani e Luisella Viviani \nMusiche di Raffaele Viviani e Michele Signore \n  \nAntonella Monetti voce e fisarmonica \nMichele Signore violino\, mandolino e mandoloncello \nPresentazione di Anna Masecchia \nUn progetto a cura di Simona Frasca \n  \nIn collaborazione con Eye FilmmuseumAmsterdam\, Cineteca di Bologna e Cattedra di Storia del Cinema Università “Federico II” di Napoli \n  \nInfo: http://www.associazionescarlatti.it
URL:https://backup.sistemamedcampania.it/evento/associazione-alessandro-scarlatti-musica-sotto-le-stelle-cinematografo-viviani-canzoni-e-film/
LOCATION:Villa Pignatelli\, Riviera di Chiaia\, 200\, Napoli\, 80121\, Italia
CATEGORIES:Associazione Alessandro Scarlatti.,Musica,Musica sotto le stelle a Villa Pignatelli
ATTACH;FMTTYPE=image/jpeg:https://backup.sistemamedcampania.it/wp-content/uploads/2020/07/amonetti-msignore.jpg
END:VEVENT
END:VCALENDAR