BEGIN:VCALENDAR
VERSION:2.0
PRODID:-//Sistema Med Campania - ECPv6.7.0//NONSGML v1.0//EN
CALSCALE:GREGORIAN
METHOD:PUBLISH
X-ORIGINAL-URL:https://backup.sistemamedcampania.it
X-WR-CALDESC:Eventi per Sistema Med Campania
REFRESH-INTERVAL;VALUE=DURATION:PT1H
X-Robots-Tag:noindex
X-PUBLISHED-TTL:PT1H
BEGIN:VTIMEZONE
TZID:Europe/Rome
BEGIN:DAYLIGHT
TZOFFSETFROM:+0100
TZOFFSETTO:+0200
TZNAME:CEST
DTSTART:20220327T010000
END:DAYLIGHT
BEGIN:STANDARD
TZOFFSETFROM:+0200
TZOFFSETTO:+0100
TZNAME:CET
DTSTART:20221030T010000
END:STANDARD
END:VTIMEZONE
BEGIN:VEVENT
DTSTART;TZID=Europe/Rome:20220513T173000
DTEND;TZID=Europe/Rome:20220513T173000
DTSTAMP:20260420T011912
CREATED:20220427T153604Z
LAST-MODIFIED:20220427T153604Z
UID:7346-1652463000-1652463000@backup.sistemamedcampania.it
SUMMARY:Associazione Amici dello Spettacolo - Diciassette & Trenta Classica. Orchestra Da Camera Accademia Di Santa Sofia
DESCRIPTION:Il prossimo appuntamento di “Diciassette & Trenta Classica\,”  dell’ Associazione Amici dello Spettacolo è con l’Orchestra da Camera Accademia di Santa Sofia in un programma dedicato a Mozart e Čajkovskij \n  \nPer info: diana@teatrodiana.it  tel.  081 5567527 / 081 5784978 \n  \n 
URL:https://backup.sistemamedcampania.it/evento/associazione-amici-dello-spettacolo-diciassette-trenta-classica-orchestra-da-camera-accademia-di-santa-sofia-3/
LOCATION:Teatro Diana\, Via Luca Giordano 64\, Napoli\, Italia
CATEGORIES:Associazione Amici dello Spettacolo,Diciassette & Trenta classica 2022,Musica
ATTACH;FMTTYPE=image/jpeg:https://backup.sistemamedcampania.it/wp-content/uploads/2022/03/santa-sofia-2.jpg
END:VEVENT
BEGIN:VEVENT
DTSTART;TZID=Europe/Rome:20220422T173000
DTEND;TZID=Europe/Rome:20220422T173000
DTSTAMP:20260420T011912
CREATED:20220412T105813Z
LAST-MODIFIED:20220412T105813Z
UID:7299-1650648600-1650648600@backup.sistemamedcampania.it
SUMMARY:Amici dello Spettacolo. Diciasette & Trenta classica 2020-Maria Gabriella Mariani
DESCRIPTION:Per la rassegna di concerti Diciassette & Trenta Classica dell’ Associazione Amici dello Spettacolo al Teatro Diana\, Maria Gabriella Mariani artista poliedrica e creativa\,si esibirà in  “il Sogno la Memoria la Follia” \nIl programma  è un omaggio alla memoria e all’immagine che essa evoca: partendo dalle atmosfere impressioniste di Claude Debussy (Children’s Corner)\, attraverso  gli sfondi inquietanti di Prokofiev (Sonata p. 14. n. 2)\, approda ai suoi brani “Ologramma: tema\, variazioni\, finale ed improvvisazione” e “Nenè Waltz”. Questo omaggio alla memoria non può prescindere da un riferimento all’Ucraina\, da cui la scelta di Prokofiev\, compositore russo nato a Soncovka (Ucraina)\, e si conclude con un tuffo nel passato della stessa autrice\, attraverso la storia della sua Nenè\, giovane musicista morta a 13 anni nel 1923. \n  \nMaria Gabriella Mariani pianoforte \nMusiche di Debussy\, Prokofiev\, Mariani. \n  \ninfo: http://www.teatrodiana.it/ \n  \n 
URL:https://backup.sistemamedcampania.it/evento/amici-dello-spettacolo-diciasette-trenta-classica-2020-maria-gabriella-mariani/
LOCATION:Teatro Diana\, Via Luca Giordano 64\, Napoli\, Italia
CATEGORIES:Associazione Amici dello Spettacolo,Diciassette & Trenta classica 2022,Musica
ATTACH;FMTTYPE=image/jpeg:https://backup.sistemamedcampania.it/wp-content/uploads/2022/04/diciasette-e-trenta.jpg
END:VEVENT
BEGIN:VEVENT
DTSTART;TZID=Europe/Rome:20220408T173000
DTEND;TZID=Europe/Rome:20220408T173000
DTSTAMP:20260420T011912
CREATED:20220321T164102Z
LAST-MODIFIED:20220321T164102Z
UID:7226-1649439000-1649439000@backup.sistemamedcampania.it
SUMMARY:Associazione Amici dello Spettacolo - Diciassette & Trenta Classica. Orchestra Da Camera Accademia Di Santa Sofia
DESCRIPTION:Il prossimo appuntamento di “Diciassette & Trenta Classica\,”  dell’ Associazione Amici dello Spettacolo è con l’Orchestra da Camera Accademia di Santa Sofia in un programma dedicato a J. Haydn \n  \nPer info: diana@teatrodiana.it  tel.  081 5567527 / 081 5784978 \n 
URL:https://backup.sistemamedcampania.it/evento/associazione-amici-dello-spettacolo-diciassette-trenta-classica-orchestra-da-camera-accademia-di-santa-sofia-2/
LOCATION:Teatro Diana\, Via Luca Giordano 64\, Napoli\, Italia
CATEGORIES:Associazione Amici dello Spettacolo,Diciassette & Trenta classica 2022,Musica
ATTACH;FMTTYPE=image/jpeg:https://backup.sistemamedcampania.it/wp-content/uploads/2022/03/santa-sofia-2.jpg
END:VEVENT
BEGIN:VEVENT
DTSTART;TZID=Europe/Rome:20220401T173000
DTEND;TZID=Europe/Rome:20220401T173000
DTSTAMP:20260420T011912
CREATED:20220321T155950Z
LAST-MODIFIED:20220321T155950Z
UID:7223-1648834200-1648834200@backup.sistemamedcampania.it
SUMMARY:Associazione Amici dello Spettacolo - Diciassette & Trenta Classica.
DESCRIPTION:Prosegue “Diciassette & Trenta Classica\,” dell’ Associazione Amici dello Spettacolo con Giuseppe Gagliano\, Luca Scognamiglio\, Valeria Lambiase e Antonio Gomena al pianoforte e Marco Musco alla viola. \n  \nMusiche di Johannes Brahms\, Franz Schubert\, Fryderyk Chopin \n  \nAcquista il tuo biglietto https://www.azzurroservice.net \nPer info: diana@teatrodiana.it  tel.  081 5567527 / 081 5784978 \n  \n  \n 
URL:https://backup.sistemamedcampania.it/evento/associazione-amici-dello-spettacolo-diciassette-trenta-classica/
LOCATION:Teatro Diana\, Via Luca Giordano 64\, Napoli\, Italia
CATEGORIES:Associazione Amici dello Spettacolo,Diciassette & Trenta classica 2022,Musica
ATTACH;FMTTYPE=image/jpeg:https://backup.sistemamedcampania.it/wp-content/uploads/2022/03/1-aprile.jpg
END:VEVENT
BEGIN:VEVENT
DTSTART;TZID=Europe/Rome:20220325T173000
DTEND;TZID=Europe/Rome:20220325T173000
DTSTAMP:20260420T011912
CREATED:20220314T104905Z
LAST-MODIFIED:20220314T104905Z
UID:7209-1648229400-1648229400@backup.sistemamedcampania.it
SUMMARY:Associazione Amici dello Spettacolo - Diciassette & Trenta Classica. Davide Alogna
DESCRIPTION:Ospite del prossimo appuntamento di “Diciassette & Trenta Classica\,” dell’ Associazione Amici dello Spettacolo il violinista internazionale Davide Alogna che  terrà un originale e affascinante recital: “Dall’ Elba al Rio de la Plata  – Viaggio per violino solo”  \nSuonerà e racconterà il violino dal Barocco ai giorni nostri passando per i grandi capolavori di Telemann\, Bach\, Paganini\, Kreisler\, Ysaye\, Piazzolla. \n  \nAcquista il tuo biglietto https://www.azzurroservice.net/ \nPer info: diana@teatrodiana.it  tel.  081 5567527 / 081 5784978 \n 
URL:https://backup.sistemamedcampania.it/evento/associazione-amici-dello-spettacolo-diciassette-trenta-classica-davide-alogna/
LOCATION:Teatro Diana\, Via Luca Giordano 64\, Napoli\, Italia
CATEGORIES:Associazione Amici dello Spettacolo,Diciassette & Trenta classica 2022,Musica
ATTACH;FMTTYPE=image/jpeg:https://backup.sistemamedcampania.it/wp-content/uploads/2022/03/alogna.jpg
END:VEVENT
BEGIN:VEVENT
DTSTART;TZID=Europe/Rome:20220318T173000
DTEND;TZID=Europe/Rome:20220318T173000
DTSTAMP:20260420T011913
CREATED:20220307T145743Z
LAST-MODIFIED:20220307T145743Z
UID:7190-1647624600-1647624600@backup.sistemamedcampania.it
SUMMARY:Associazione Amici dello Spettacolo - Diciassette & Trenta Classica. Orchestra Da Camera Accademia Di Santa Sofia
DESCRIPTION:Il prossimo appuntamento di “Diciassette & Trenta Classica\,”  dell’ Associazione Amici dello Spettacolo è con l’Orchestra da Camera Accademia di Santa Sofia in un programma dedicato a N. Rota\, E. Morricone. \n  \nAcquista il tuo biglietto https://www.azzurroservice.net \nPer info: diana@teatrodiana.it  tel.  081 5567527 / 081 5784978 \n  \n 
URL:https://backup.sistemamedcampania.it/evento/associazione-amici-dello-spettacolo-diciassette-trenta-classica-orchestra-da-camera-accademia-di-santa-sofia/
CATEGORIES:Associazione Amici dello Spettacolo,Diciassette & Trenta classica 2022,Musica
ATTACH;FMTTYPE=image/jpeg:https://backup.sistemamedcampania.it/wp-content/uploads/2022/03/santa-sofia-1.jpg
END:VEVENT
BEGIN:VEVENT
DTSTART;TZID=Europe/Rome:20220304T173000
DTEND;TZID=Europe/Rome:20220304T173000
DTSTAMP:20260420T011913
CREATED:20220303T164506Z
LAST-MODIFIED:20220303T164506Z
UID:7178-1646415000-1646415000@backup.sistemamedcampania.it
SUMMARY:Associazione Amici dello Spettacolo - Diciassette & Trenta Classica. Ragione e sentimento
DESCRIPTION:Per l’ edizione 2022 di “Diciassette & Trenta Classica\,”  la storica rassegna dell’ Associazione Amici dello Spettacolo un concerto firmato dal “Trio”. Il sodalizio artistico fra Gabriele Pieranunzi\, Laura Gorna e Francesco Fiore\, eredi della grande scuola d’archi italiana di Salvatore Accardo e Bruno Giuranna\, nasce dalla volontà di riscoprire un repertorio di grandi capolavori della musica da camera dall’organico insolito. Il programma “Ragione e sentimento – Sogni alla conquista di un nuovo mondo” accompagna il pubblico in un caleidoscopio musicale passando da momenti intimi a sonorità abbaglianti\, attraversando tre secoli di storia della musica\, da Mozart a Prokofiev. \nLaura Gorna\, Violino \n\nGabriele Pieranunzi\, Violino \nFrancesco Fiore\, Viola \n\n  \nProgramma: \n\nA. Dvořák  – Suite Miniature per 2 violini e viola (4 Pezzi Romantici)\, Op. 75; Terzetto per 2 violini e viola\, Op. 74 \nW. A. Mozart – Duo per violino e viola No.1\, KV 423 \nS. Prokof’ev –  Sonata per 2 violini\, Op. 56 \n\n  \nAcquista il tuo biglietto https://www.azzurroservice.net \nPer info: diana@teatrodiana.it  tel.  081 5567527 / 081 5784978
URL:https://backup.sistemamedcampania.it/evento/associazione-amici-dello-spettacolo-diciassette-trenta-classica-ragione-e-sentimento/
LOCATION:Teatro Diana\, Via Luca Giordano 64\, Napoli\, Italia
CATEGORIES:Associazione Amici dello Spettacolo,Diciassette & Trenta classica 2022,Musica
ATTACH;FMTTYPE=image/jpeg:https://backup.sistemamedcampania.it/wp-content/uploads/2022/03/trio.jpg
END:VEVENT
END:VCALENDAR