BEGIN:VCALENDAR
VERSION:2.0
PRODID:-//Sistema Med Campania - ECPv6.7.0//NONSGML v1.0//EN
CALSCALE:GREGORIAN
METHOD:PUBLISH
X-ORIGINAL-URL:https://backup.sistemamedcampania.it
X-WR-CALDESC:Eventi per Sistema Med Campania
REFRESH-INTERVAL;VALUE=DURATION:PT1H
X-Robots-Tag:noindex
X-PUBLISHED-TTL:PT1H
BEGIN:VTIMEZONE
TZID:Europe/Rome
BEGIN:DAYLIGHT
TZOFFSETFROM:+0100
TZOFFSETTO:+0200
TZNAME:CEST
DTSTART:20190331T010000
END:DAYLIGHT
BEGIN:STANDARD
TZOFFSETFROM:+0200
TZOFFSETTO:+0100
TZNAME:CET
DTSTART:20191027T010000
END:STANDARD
END:VTIMEZONE
BEGIN:VEVENT
DTSTART;TZID=Europe/Rome:20190313T210000
DTEND;TZID=Europe/Rome:20190313T210000
DTSTAMP:20260419T211225
CREATED:20190308T115450Z
LAST-MODIFIED:20190308T115450Z
UID:4496-1552510800-1552510800@backup.sistemamedcampania.it
SUMMARY:Opera Talk Show-Macbeth. Riccardo Canessa
DESCRIPTION:L’Associazione Amici dello Spettacolo inaugura per il secondo anno la  mini rassegna “Opera Talk Show” a cura del Maestro Riccardo Canessa. Un percorso di avvicinamento all’opera lirica attraverso arie\, recitativi e aneddoti legati a 5 capolavori della lirica. Terzo appuntamento con Macbeth di Giuseppe Verdi \nL’incontro tra William Shakespeare e Giuseppe Verdi avviene nel 1847\, per la prima versione del Macbeth\, rifatto poi nel 1865 per Parigi. La prerogativa di questo capolavoro è quella di analizzare come Giuseppe Verdi rispetti al massimo le ambientazioni drammaturgiche di un mistero rappresentato dalle streghe e\, soprattutto\, dall’inquietante personaggio della Lady\, portando lentamente la vicenda musicale dall’ispirazione Scespiriana alla consacrazione del sinfonismo tipicamente verdiano. \n  \ninfo: \nhttp://www.teatrodiana.it
URL:https://backup.sistemamedcampania.it/evento/opera-talk-show-macbeth-riccardo-canessa/
LOCATION:Teatro Diana\, Via Luca Giordano 64\, Napoli\, Italia
CATEGORIES:Associazione Amici dello Spettacolo,Musica,Opera Talk Show 2019
ATTACH;FMTTYPE=image/jpeg:https://backup.sistemamedcampania.it/wp-content/uploads/2019/03/canessa-macbeth.jpg
END:VEVENT
BEGIN:VEVENT
DTSTART;TZID=Europe/Rome:20190221T100000
DTEND;TZID=Europe/Rome:20190221T170000
DTSTAMP:20260419T211225
CREATED:20190219T143354Z
LAST-MODIFIED:20190219T144541Z
UID:4432-1550743200-1550768400@backup.sistemamedcampania.it
SUMMARY:Opera Talk Show-La Boheme. Riccardo Canessa
DESCRIPTION:L’Associazione Amici dello Spettacolo inaugura per il secondo anno la  mini rassegna “Opera Talk Show” a cura del Maestro Riccardo Canessa. Un percorso di avvicinamento all’opera lirica attraverso arie\, recitativi e aneddoti legati a 5 capolavori della lirica. Secondo appuntamento con La Boheme il primo grande successo di Giacomo Puccini. È una storia di giovani che passano dalla spensieratezza al ritrovarsi improvvisamente nell’età adulta con il sacrificio della giovane che muore\ndi tisi nella loro soffitta. Anche in questo caso le romanze sono conosciutissime ma è interessante sviscerare tutta l’analisi musicale come corre parallela al libretto e alla storia stessa. \n  \ninfo: \nhttp://www.teatrodiana.it
URL:https://backup.sistemamedcampania.it/evento/opera-talk-show-la-boheme-riccardo-canessa/
CATEGORIES:Associazione Amici dello Spettacolo,Musica,Opera Talk Show 2019
ATTACH;FMTTYPE=image/jpeg:https://backup.sistemamedcampania.it/wp-content/uploads/2019/02/Canessa-boheme.jpg
END:VEVENT
BEGIN:VEVENT
DTSTART;TZID=Europe/Rome:20190123T210000
DTEND;TZID=Europe/Rome:20190123T210000
DTSTAMP:20260419T211225
CREATED:20190118T112551Z
LAST-MODIFIED:20190118T112551Z
UID:4362-1548277200-1548277200@backup.sistemamedcampania.it
SUMMARY:Opera Talk Show - Traviata. Riccardo Canessa
DESCRIPTION:L’Associazione Amici dello Spettacolo inaugura per il secondo anno la  mini rassegna “Opera Talk Show” a cura del Maestro Riccardo Canessa. Un percorso di avvicinamento all’opera lirica attraverso arie\, recitativi e aneddoti legati a 5 capolavori della lirica. Debutto con il capolavoro dei capolavori “La Traviata” . \n  \ninfo: \nhttp://www.teatrodiana.it
URL:https://backup.sistemamedcampania.it/evento/opera-talk-show-traviata-riccardo-canessa/
LOCATION:Teatro Diana\, Via Luca Giordano 64\, Napoli\, Italia
CATEGORIES:Associazione Amici dello Spettacolo,Musica,Opera Talk Show 2019
ATTACH;FMTTYPE=image/jpeg:https://backup.sistemamedcampania.it/wp-content/uploads/2019/01/canessa-traviata.jpg
END:VEVENT
END:VCALENDAR