BEGIN:VCALENDAR
VERSION:2.0
PRODID:-//Sistema Med Campania - ECPv6.7.0//NONSGML v1.0//EN
CALSCALE:GREGORIAN
METHOD:PUBLISH
X-WR-CALNAME:Sistema Med Campania
X-ORIGINAL-URL:https://backup.sistemamedcampania.it
X-WR-CALDESC:Eventi per Sistema Med Campania
REFRESH-INTERVAL;VALUE=DURATION:PT1H
X-Robots-Tag:noindex
X-PUBLISHED-TTL:PT1H
BEGIN:VTIMEZONE
TZID:Europe/Rome
BEGIN:DAYLIGHT
TZOFFSETFROM:+0100
TZOFFSETTO:+0200
TZNAME:CEST
DTSTART:20180325T010000
END:DAYLIGHT
BEGIN:STANDARD
TZOFFSETFROM:+0200
TZOFFSETTO:+0100
TZNAME:CET
DTSTART:20181028T010000
END:STANDARD
BEGIN:DAYLIGHT
TZOFFSETFROM:+0100
TZOFFSETTO:+0200
TZNAME:CEST
DTSTART:20190331T010000
END:DAYLIGHT
BEGIN:STANDARD
TZOFFSETFROM:+0200
TZOFFSETTO:+0100
TZNAME:CET
DTSTART:20191027T010000
END:STANDARD
END:VTIMEZONE
BEGIN:VEVENT
DTSTART;TZID=Europe/Rome:20190215T173000
DTEND;TZID=Europe/Rome:20190215T173000
DTSTAMP:20260420T102207
CREATED:20190211T110214Z
LAST-MODIFIED:20190211T110214Z
UID:4418-1550251800-1550251800@backup.sistemamedcampania.it
SUMMARY:Amici dello Spettacolo. Diciasette & Trenta classica 2019-Orchestra da Camera di Santa Sofia
DESCRIPTION:Per la stagione Diciassette & Trenta Classica 2019 di concerti dell’ Associazione Amici dello Spettacolo del  Teatro Diana un concerto che mette in luce i più grandi nomi del periodo che dal barocco perviene al classicismo.                                 Da Mozart a Bach a Beethoven una carrellata di grandi pagine strumentali proposto dall’ Orchestra da Camera di Santa Sofia. \nMarco Serino\, Giuseppe Carotenuto (violini)\nGianluca Gigante (violoncello)\n \nMusiche di W. A. Mozart  J. S. Bach\, L. v. Beethoven \n  \ninfo: http://www.teatrodiana.it/
URL:https://backup.sistemamedcampania.it/evento/amici-dello-spettacolo-diciasette-trenta-classica-2019-orchestra-da-camera-di-santa-sofia/
LOCATION:Teatro Diana\, Via Luca Giordano 64\, Napoli\, Italia
CATEGORIES:Accademia di Santa Sofia,Associazione Amici dello Spettacolo,Diciassette & Trenta Classica 2019,Musica
ATTACH;FMTTYPE=image/jpeg:https://backup.sistemamedcampania.it/wp-content/uploads/2019/02/santa-sofia-15-febbraio.jpg
END:VEVENT
BEGIN:VEVENT
DTSTART;TZID=Europe/Rome:20190208T173000
DTEND;TZID=Europe/Rome:20190208T173000
DTSTAMP:20260420T102207
CREATED:20190204T141030Z
LAST-MODIFIED:20190204T141030Z
UID:4407-1549647000-1549647000@backup.sistemamedcampania.it
SUMMARY:Amici dello Spettacolo. Diciasette & Trenta classica 2019- Luciano e Daniele Boidi
DESCRIPTION:Riparte la stagione Diciassette & Trenta Classica 2019 di concerti dell’ Associazione Amici dello Spettacolo del  Teatro Diana di Napoli giunta alla XXII edizione. primo appuntamento con la musica da camera\, i fratelli Luciano e Daniele Boidi\, giovanissima formazione\, proporrà un ricco programma in cui spicca la “Rapsodia in blu” di George Gershwin per pianoforte a quattro mani. \ninfo: http://www.teatrodiana.it/diana/referer/1/idPage/50/Stagione+di+musica+classica.html \n 
URL:https://backup.sistemamedcampania.it/evento/amici-dello-spettacolo-diciasette-trenta-classica-2019-luciano-e-daniele-boidi/
LOCATION:Teatro Diana\, Via Luca Giordano 64\, Napoli\, Italia
CATEGORIES:Associazione Amici dello Spettacolo,Diciassette & Trenta Classica 2019,Musica
ATTACH;FMTTYPE=image/jpeg:https://backup.sistemamedcampania.it/wp-content/uploads/2019/02/duo-boidi.jpg
END:VEVENT
BEGIN:VEVENT
DTSTART;TZID=Europe/Rome:20190123T210000
DTEND;TZID=Europe/Rome:20190123T210000
DTSTAMP:20260420T102207
CREATED:20190118T112551Z
LAST-MODIFIED:20190118T112551Z
UID:4362-1548277200-1548277200@backup.sistemamedcampania.it
SUMMARY:Opera Talk Show - Traviata. Riccardo Canessa
DESCRIPTION:L’Associazione Amici dello Spettacolo inaugura per il secondo anno la  mini rassegna “Opera Talk Show” a cura del Maestro Riccardo Canessa. Un percorso di avvicinamento all’opera lirica attraverso arie\, recitativi e aneddoti legati a 5 capolavori della lirica. Debutto con il capolavoro dei capolavori “La Traviata” . \n  \ninfo: \nhttp://www.teatrodiana.it
URL:https://backup.sistemamedcampania.it/evento/opera-talk-show-traviata-riccardo-canessa/
LOCATION:Teatro Diana\, Via Luca Giordano 64\, Napoli\, Italia
CATEGORIES:Associazione Amici dello Spettacolo,Musica,Opera Talk Show 2019
ATTACH;FMTTYPE=image/jpeg:https://backup.sistemamedcampania.it/wp-content/uploads/2019/01/canessa-traviata.jpg
END:VEVENT
BEGIN:VEVENT
DTSTART;TZID=Europe/Rome:20190118T173000
DTEND;TZID=Europe/Rome:20190118T173000
DTSTAMP:20260420T102207
CREATED:20190114T143150Z
LAST-MODIFIED:20190114T143150Z
UID:4358-1547832600-1547832600@backup.sistemamedcampania.it
SUMMARY:Amici dello Spettacolo. Diciasette & Trenta classica 2019-Valzer della Famiglia Strauss
DESCRIPTION:Riparte la stagione Diciassette & Trenta Classica 2019 di concerti dell’ Associazione Amici dello Spettacolo del  Teatro Diana di Napoli giunta alla XXII edizione. Continua la collaborazione\, per il terzo anno consecutivo\, con l’Accademia di Santa Sofia\, una “Orchestra da camera” stabile\, con la Direzione Artistica di Filippo Zigante\, che ha trovato al Teatro Diana il luogo ideale per il suo percorso costante di crescita\, e che inaugurano la stagione con un concerto interamente dedicato ai “Valzer della Famiglia Strauss” \n“E’ da poco trascorso il periodo vacanziero ed il ricordo delle festività è ancora vivo. Abbiamo deciso di far ascoltare ancora una ultima eco della magica notte di Capodanno con una carrellata nel mondo del valzer viennese. Naturalmente il nostro organico non ci consente le ampie sonorità della grande orchestra straussiana ma la maggior parte delle trascrizioni che adoperiamo in questo programma recano firme illustri\, tutte della scuola viennese\, da Shoenberg a Webern a Berg. Un concerto senz’altro romantico e di facile ascolto ma\, allo stesso tempo\, una pagina di storia della musica e del costume.” \n  \ninfo: http://www.teatrodiana.it/diana/referer/1/idPage/50/Stagione+di+musica+classica.html \n 
URL:https://backup.sistemamedcampania.it/evento/amici-dello-spettacolo-diciasette-trenta-classica-2019-valzer-della-famiglia-strauss/
LOCATION:Teatro Diana\, Via Luca Giordano 64\, Napoli\, Italia
CATEGORIES:Associazione Amici dello Spettacolo,Diciassette & Trenta Classica 2019,Musica
ATTACH;FMTTYPE=image/jpeg:https://backup.sistemamedcampania.it/wp-content/uploads/2019/01/Accademia-santa-sofia.jpg
END:VEVENT
BEGIN:VEVENT
DTSTART;TZID=Europe/Rome:20180619T210000
DTEND;TZID=Europe/Rome:20180619T210000
DTSTAMP:20260420T102207
CREATED:20180613T133041Z
LAST-MODIFIED:20180613T133041Z
UID:3711-1529442000-1529442000@backup.sistemamedcampania.it
SUMMARY:La Voix Humaine. Leona Peleskova & Monica Leone
DESCRIPTION:L’associazione Amici dello Spettacolo presenta La Voix Humaine nell’ambito di Napoli Teatro Festival  un originale allestimento della tragedia lirica in un atto composta da Francis Poulenc nel 1958\, derivata dalla piece omonima di Jean Cocteau\, che ne firma il libretto. \nA interpretare la protagonista il soprano Leona Peleskova accompagnata al pianoforte da Monica Leone. La regia è di Riccardo Canessa. \n  \ninfo: \nhttp://www.teatrodiana.it/ \n  \n  \n  \n 
URL:https://backup.sistemamedcampania.it/evento/la-voix-humaine-leona-peleskova-monica-leone/
LOCATION:Teatro Diana\, Via Luca Giordano 64\, Napoli\, Italia
CATEGORIES:Associazione Amici dello Spettacolo,Musica
ATTACH;FMTTYPE=image/jpeg:https://backup.sistemamedcampania.it/wp-content/uploads/2018/06/la-voix-humane.jpg
END:VEVENT
BEGIN:VEVENT
DTSTART;TZID=Europe/Rome:20180518T173000
DTEND;TZID=Europe/Rome:20180518T173000
DTSTAMP:20260420T102207
CREATED:20180511T130137Z
LAST-MODIFIED:20180511T131632Z
UID:3576-1526664600-1526664600@backup.sistemamedcampania.it
SUMMARY:Diciasette & Trenta Classica. Il Novecento Inglese. Orchestra da Camera di Santa Sofia
DESCRIPTION:L’ Associazione Amici dello Spettacolo ripropone come ogni anno la Stagione Diciasette e Trenta Classica. \nUltimo appuntamento con l’ Orchestra da Camera di Santa Sofia con un repertorio sul novecento inglese. \nMusiche di E. Elgar\, R.V. Williams\, B. Britten \ninfo: \nhttp://www.teatrodiana.it/diana/referer/50/idPage/50/Stagione+di+musica+classica.html
URL:https://backup.sistemamedcampania.it/evento/diciasette-trenta-classica-il-novecento-inglese-orchestra-da-camera-di-santa-sofia/
LOCATION:Teatro Diana\, Via Luca Giordano 64\, Napoli\, Italia
CATEGORIES:Associazione Amici dello Spettacolo,Diciasette&Trenta Classica 2018,Musica
ATTACH;FMTTYPE=image/jpeg:https://backup.sistemamedcampania.it/wp-content/uploads/2018/05/Accademia-santa-sofia.jpg
END:VEVENT
BEGIN:VEVENT
DTSTART;TZID=Europe/Rome:20180516T210000
DTEND;TZID=Europe/Rome:20180516T210000
DTSTAMP:20260420T102207
CREATED:20180511T130822Z
LAST-MODIFIED:20180511T131008Z
UID:3580-1526504400-1526504400@backup.sistemamedcampania.it
SUMMARY:Opera Talk Show - Rigoletto. Riccardo Canessa
DESCRIPTION:L’Associazione Amici dello Spettacolo inaugura Opera Talk Show a cura di Riccardo Canessa : un percorso di avvicinamento all’opera lirica attraverso arie\, recitativi e aneddoti legati a 4 capolavori della lirica. \nQuarto appuntamento con Rigoletto di Giuseppe Verdi \ninfo: \nhttp://www.teatrodiana.it
URL:https://backup.sistemamedcampania.it/evento/opera-talk-show-rigoletto-riccardo-canessa/
LOCATION:Teatro Diana\, Via Luca Giordano 64\, Napoli\, Italia
CATEGORIES:Associazione Amici dello Spettacolo,Musica
ATTACH;FMTTYPE=image/jpeg:https://backup.sistemamedcampania.it/wp-content/uploads/2018/05/canessa.rigoletto.jpg
END:VEVENT
BEGIN:VEVENT
DTSTART;TZID=Europe/Rome:20180510T173000
DTEND;TZID=Europe/Rome:20180510T173000
DTSTAMP:20260420T102207
CREATED:20180427T122522Z
LAST-MODIFIED:20180427T122522Z
UID:3527-1525973400-1525973400@backup.sistemamedcampania.it
SUMMARY:Diciasette & Trenta Classica. Camerata RCO
DESCRIPTION:L’ Associazione Amici dello Spettacolo ripropone come ogni anno la Stagione Diciasette e Trenta Classica. \nProssimo appuntamento con la Camerata RCO l’ ensemble cameristico\, formato da prime parti e membri della prestigiosa Orchestra del Royal Concertgebouw\, così chiamata per la celeberrima sala da concerti di Amsterdam.Il desiderio di fondare un Ensemble cameristico è nato dalla volontà dei musicisti di estendere la loro condivisa e consolidata esperienza di professori d’orchestra anche al campo della musica da camera. La straordinaria flessibilità degli organici con cui la Camerata RCO si propone\, permette di esplorare l’intera gamma della letteratura musicale\, dal Barocco alla musica contemporanea. \nAnnebeth Webb\, Violino \nJoanna Westers\, Violino \nNicolas Van Poucke\, Pianoforte \nMusiche di R. Schumann\, C. Franck\, P. De Sarasate \n  \ninfo: \nhttp://www.teatrodiana.it/diana/referer/50/idPage/50/Stagione+di+musica+classica.html
URL:https://backup.sistemamedcampania.it/evento/diciasette-trenta-classica-camerata-rco/
LOCATION:Teatro Diana\, Via Luca Giordano 64\, Napoli\, Italia
CATEGORIES:Associazione Amici dello Spettacolo,Diciasette&Trenta Classica 2018,Musica
ATTACH;FMTTYPE=image/jpeg:https://backup.sistemamedcampania.it/wp-content/uploads/2018/04/camerata-rco.jpg
END:VEVENT
BEGIN:VEVENT
DTSTART;TZID=Europe/Rome:20180504T173000
DTEND;TZID=Europe/Rome:20180504T173000
DTSTAMP:20260420T102207
CREATED:20180427T103729Z
LAST-MODIFIED:20180427T103729Z
UID:3523-1525455000-1525455000@backup.sistemamedcampania.it
SUMMARY:Diciasette & Trenta Classica. Cosimo Antitomaso & Gianluca D'alessandro
DESCRIPTION:L’ Associazione Amici dello Spettacolo ripropone come ogni anno la Stagione Diciasette e Trenta Classica. \nProssimo appuntamento con la chitarra di Cosimo Antitomaso e Gianluca D’alessandro \nMusiche di I.Albéniz\, A. Piazzolla\, M. De Falla \n  \ninfo: \nhttp://www.teatrodiana.it/diana/referer/50/idPage/50/Stagione+di+musica+classica.html
URL:https://backup.sistemamedcampania.it/evento/diciasette-trenta-classica-cosimo-antitomaso-gianluca-dalessandro/
LOCATION:Teatro Diana\, Via Luca Giordano 64\, Napoli\, Italia
CATEGORIES:Associazione Amici dello Spettacolo,Diciasette&Trenta Classica 2018,Musica
ATTACH;FMTTYPE=image/jpeg:https://backup.sistemamedcampania.it/wp-content/uploads/2018/04/antitomaso.dalessandro.jpg
END:VEVENT
BEGIN:VEVENT
DTSTART;TZID=Europe/Rome:20180426T173000
DTEND;TZID=Europe/Rome:20180426T173000
DTSTAMP:20260420T102207
CREATED:20180420T102804Z
LAST-MODIFIED:20180424T135048Z
UID:3508-1524763800-1524763800@backup.sistemamedcampania.it
SUMMARY:Diciasette & Trenta Classica. Erica Piccotti & Roberto Arosio
DESCRIPTION:L’ Associazione Amici dello Spettacolo ripropone come ogni anno la Stagione Diciasette e Trenta Classica. \nProssimo appuntamento con il Violoncello di Erica Piccotti accompagnata al pianoforte da Roberto Arosio. \nMusiche di J. Bramhs\, C. Debussy. \n  \ninfo: \nhttp://www.teatrodiana.it/diana/referer/50/idPage/50/Stagione+di+musica+classica.html
URL:https://backup.sistemamedcampania.it/evento/diciasette-trenta-classica-erica-piccotti-roberto-arosio/
LOCATION:Teatro Diana\, Via Luca Giordano 64\, Napoli\, Italia
CATEGORIES:Associazione Amici dello Spettacolo,Diciasette&Trenta Classica 2018,Musica
ATTACH;FMTTYPE=image/jpeg:https://backup.sistemamedcampania.it/wp-content/uploads/2018/04/erica-piccotti.roberto-arosio.jpg
END:VEVENT
BEGIN:VEVENT
DTSTART;TZID=Europe/Rome:20180420T173000
DTEND;TZID=Europe/Rome:20180420T173000
DTSTAMP:20260420T102207
CREATED:20180416T132000Z
LAST-MODIFIED:20180416T132114Z
UID:3497-1524245400-1524245400@backup.sistemamedcampania.it
SUMMARY:Diciasette & Trenta Classica. Gli Albori del Virtuosismo - Orchestra da Camera di Santa Sofia
DESCRIPTION:L’ Associazione Amici dello Spettacolo ripropone come ogni anno la Stagione Diciasette e Trenta Classica. \nProssimo appuntamento con l’Orchestra da Camera di Santa Sofia e le musiche di I.H. Holzbauer\, N. Paganini e F. Geminiani. \n  \ninfo: \nhttp://www.teatrodiana.it/diana/referer/50/idPage/50/Stagione+di+musica+classica.html
URL:https://backup.sistemamedcampania.it/evento/diciasette-trenta-classica-gli-albori-del-virtuosismo-orchestra-camera-santa-sofia/
LOCATION:Teatro Diana\, Via Luca Giordano 64\, Napoli\, Italia
CATEGORIES:Associazione Amici dello Spettacolo,Diciasette&Trenta Classica 2018,Musica
ATTACH;FMTTYPE=image/jpeg:https://backup.sistemamedcampania.it/wp-content/uploads/2018/04/santa-sofia-3.jpg
END:VEVENT
BEGIN:VEVENT
DTSTART;TZID=Europe/Rome:20180411T210000
DTEND;TZID=Europe/Rome:20180411T210000
DTSTAMP:20260420T102207
CREATED:20180330T091904Z
LAST-MODIFIED:20180330T091904Z
UID:3452-1523480400-1523480400@backup.sistemamedcampania.it
SUMMARY:Opera Talk Show - Vedova Allegra. Riccardo Canessa
DESCRIPTION:L’Associazione Amici dello Spettacolo inaugura Opera Talk Show a cura di Riccardo Canessa : un percorso di avvicinamento all’opera lirica attraverso arie\, recitativi e aneddoti legati a 5 capolavori della lirica. \nTerzo appuntamento con Vedova Allegra di Franz Lehar \ninfo: \nhttp://www.teatrodiana.it
URL:https://backup.sistemamedcampania.it/evento/opera-talk-show-vedova-allegra-riccardo-canessa/
LOCATION:Teatro Diana\, Via Luca Giordano 64\, Napoli\, Italia
CATEGORIES:Associazione Amici dello Spettacolo,Musica
ATTACH;FMTTYPE=image/jpeg:https://backup.sistemamedcampania.it/wp-content/uploads/2018/03/vedova-allegra.jpg
END:VEVENT
BEGIN:VEVENT
DTSTART;TZID=Europe/Rome:20180405T173000
DTEND;TZID=Europe/Rome:20180405T173000
DTSTAMP:20260420T102207
CREATED:20180330T091027Z
LAST-MODIFIED:20180330T091027Z
UID:3448-1522949400-1522949400@backup.sistemamedcampania.it
SUMMARY:Diciasette & Trenta Classica. Petrushka e Dintorni - Nuno Lucas
DESCRIPTION:L’ Associazione Amici dello Spettacolo ripropone come ogni anno la Stagione Diciasette e Trenta Classica. \nProssimo appuntamento con il pianista Nuno Lucas e le musiche di Villa-Lobos\,  Haydn\, Liszt e Stravinsky. \ninfo: \nhttp://www.teatrodiana.it/diana/referer/50/idPage/50/Stagione+di+musica+classica.html
URL:https://backup.sistemamedcampania.it/evento/diciasette-trenta-classica-petrushka-dintorni-nuno-lucas/
LOCATION:Teatro Diana\, Via Luca Giordano 64\, Napoli\, Italia
CATEGORIES:Associazione Amici dello Spettacolo,Diciasette&Trenta Classica 2018,Musica
ATTACH;FMTTYPE=image/jpeg:https://backup.sistemamedcampania.it/wp-content/uploads/2018/03/nuno-lucas.jpg
END:VEVENT
BEGIN:VEVENT
DTSTART;TZID=Europe/Rome:20180316T210000
DTEND;TZID=Europe/Rome:20180316T210000
DTSTAMP:20260420T102207
CREATED:20180316T122257Z
LAST-MODIFIED:20180316T122257Z
UID:3373-1521234000-1521234000@backup.sistemamedcampania.it
SUMMARY:Opera Talk Show - Carmen. Riccardo Canessa
DESCRIPTION:L’Associazione Amici dello Spettacolo inaugura Opera Talk Show a cura di Riccardo Canessa : un percorso di avvicinamento all’opera lirica attraverso arie\, recitativi e aneddoti legati a 5 capolavori della lirica. \nSecondo appuntamento con la Carmen di Georges Bizet \ninfo: \nhttp://www.teatrodiana.it \n 
URL:https://backup.sistemamedcampania.it/evento/opera-talk-show-carmen-riccardo-canessa/
LOCATION:Teatro Diana\, Via Luca Giordano 64\, Napoli\, Italia
CATEGORIES:Associazione Amici dello Spettacolo,Musica
ATTACH;FMTTYPE=image/jpeg:https://backup.sistemamedcampania.it/wp-content/uploads/2018/03/carmen.jpg
END:VEVENT
BEGIN:VEVENT
DTSTART;TZID=Europe/Rome:20180316T173000
DTEND;TZID=Europe/Rome:20180316T173000
DTSTAMP:20260420T102207
CREATED:20180309T150201Z
LAST-MODIFIED:20180330T090851Z
UID:3350-1521221400-1521221400@backup.sistemamedcampania.it
SUMMARY:Diciasette & Trenta Classica. Concerti e Sinfonie- Orchestra da Camera Accademia di Santa Sofia
DESCRIPTION:L’ Associazione Amici dello Spettacolo ripropone come ogni anno la Stagione Diciasette e Trenta Classica. \nSi conferma la collaborazione con l’Accademia di Santa Sofia per il secondo anno consecutivo\, una “Orchestra da camera” stabile\, con la Direzione Artistica di Filippo Zigante\, che ha trovato al Teatro Diana il luogo ideale per il suo percorso costante di crescita. \nL’ Orchestra ci proporrà un concerto con le musiche di J. S. Bach e F. Mendelssohn. \ninfo: \nhttp://www.teatrodiana.it/diana/referer/50/idPage/50/Stagione+di+musica+classica.html
URL:https://backup.sistemamedcampania.it/evento/diciasette-trenta-classica-concerti-sinfonie-orchestra-camera-accademia-santa-sofia/
LOCATION:Teatro Diana\, Via Luca Giordano 64\, Napoli\, Italia
CATEGORIES:Associazione Amici dello Spettacolo,Diciasette&Trenta Classica 2018,Musica
ATTACH;FMTTYPE=image/jpeg:https://backup.sistemamedcampania.it/wp-content/uploads/2018/03/santa-sofia2.jpg
END:VEVENT
BEGIN:VEVENT
DTSTART;TZID=Europe/Rome:20180308T173000
DTEND;TZID=Europe/Rome:20180308T173000
DTSTAMP:20260420T102207
CREATED:20180228T113359Z
LAST-MODIFIED:20180302T094151Z
UID:3314-1520530200-1520530200@backup.sistemamedcampania.it
SUMMARY:Diciasette & Trenta Classica. Il Mondo di Pauline Viardot.  Leona Peleškova\, Mirouslava  Yordanova \, Julian Smith.
DESCRIPTION:L’ Associazione Amici dello Spettacolo ripropone come ogni anno la Stagione Diciasette e Trenta Classica. \nQuest’anno il Teatro Diana celebrerà  la Festa delle Donne con un concerto speciale\, dedicato ad una delle più grandi cantanti d’opera\, nonché compositrici dell’ottocento: Pauline Viardot. \nIn prima esecuzione assoluta per Napoli\,  saranno raccontati la vita e gli amori della Viardot\, in un viaggio narrativo e musicale\, che prevede l’esecuzione di canzoni\, duetti  e di brani originali della stessa Pauline. \nGli interpreti  saranno il soprano ceco Leona Peleskova\, la mezzosoprano bulgara Mirouslava Yordanova ed al pianoforte il direttore d’orchestra inglese\, M° Julian Smith. \nUn omaggio alla Viardot\, alla diva\, moglie\, amante e compositrice\, che porta alla ribalta la carriera\, la vita e le doti di una delle più grandi donne del 19 ° secolo. \n  \nmusiche di P. Viardot\, C. Gounod\, L. Arditi \ninfo: \nhttp://www.teatrodiana.it/diana/referer/50/idPage/50/Stagione+di+musica+classica.html
URL:https://backup.sistemamedcampania.it/evento/diciasette-trenta-classica-mondo-pauline-viardot-leona-peleskova-mirouslava-yordanova-julian-smith/
LOCATION:Teatro Diana\, Via Luca Giordano 64\, Napoli\, Italia
CATEGORIES:Associazione Amici dello Spettacolo,Diciasette&Trenta Classica 2018,Musica
ATTACH;FMTTYPE=image/jpeg:https://backup.sistemamedcampania.it/wp-content/uploads/2018/02/pauline-viardot.jpg
END:VEVENT
BEGIN:VEVENT
DTSTART;TZID=Europe/Rome:20180216T173000
DTEND;TZID=Europe/Rome:20180216T173000
DTSTAMP:20260420T102207
CREATED:20180209T113906Z
LAST-MODIFIED:20180209T114753Z
UID:3242-1518802200-1518802200@backup.sistemamedcampania.it
SUMMARY:Diciasette & Trenta Classica. Il Novecento Inglese - Orchestra da Camera Accademia di Santa Sofia
DESCRIPTION:L’ Associazione Amici dello Spettacolo ripropone come ogni anno la Stagione Diciasette e Trenta Classica. \nSi conferma la collaborazione con l’Accademia di Santa Sofia per il secondo anno consecutivo\, una “Orchestra da camera” stabile\, con la Direzione Artistica di Filippo Zigante\, che ha trovato al Teatro Diana il luogo ideale per il suo percorso costante di crescita. \nL’ Orchestra ci condurrà in un viaggio nel novcento inglese con le musiche di E. Elgar\, R. V. Williams\, B. Britten. \ninfo: \nhttp://www.teatrodiana.it/diana/referer/50/idPage/50/Stagione+di+musica+classica.html
URL:https://backup.sistemamedcampania.it/evento/diciasette-trenta-classica-novecento-inglese-orchestra-camera-accademia-santa-sofia/
LOCATION:Teatro Diana\, Via Luca Giordano 64\, Napoli\, Italia
CATEGORIES:Associazione Amici dello Spettacolo,Diciasette&Trenta Classica 2018,Musica
ATTACH;FMTTYPE=image/jpeg:https://backup.sistemamedcampania.it/wp-content/uploads/2018/02/Accademia-santa-sofia.jpg
END:VEVENT
BEGIN:VEVENT
DTSTART;TZID=Europe/Rome:20180214T210000
DTEND;TZID=Europe/Rome:20180214T210000
DTSTAMP:20260420T102207
CREATED:20180209T111502Z
LAST-MODIFIED:20180209T111502Z
UID:3239-1518642000-1518642000@backup.sistemamedcampania.it
SUMMARY:Opera Talk Show - Serenate e Amori.  Riccardo Canessa
DESCRIPTION:Secondo appuntamento con Opera Talk Show degli Amici dello Spettacolo a cura di Riccardo Canessa: un percorso di avvicinamento all’opera lirica attraverso arie\, recitativi e aneddoti legati a 5 capolavori della lirica. \ninfo: \nhttp://www.teatrodiana.it
URL:https://backup.sistemamedcampania.it/evento/opera-talk-show-serenate-amori-riccardo-canessa/
LOCATION:Teatro Diana\, Via Luca Giordano 64\, Napoli\, Italia
CATEGORIES:Associazione Amici dello Spettacolo,Musica
ATTACH;FMTTYPE=image/jpeg:https://backup.sistemamedcampania.it/wp-content/uploads/2018/02/Canessa.jpg
END:VEVENT
BEGIN:VEVENT
DTSTART;TZID=Europe/Rome:20180208T173000
DTEND;TZID=Europe/Rome:20180208T173000
DTSTAMP:20260420T102207
CREATED:20180129T110117Z
LAST-MODIFIED:20180129T110117Z
UID:3209-1518111000-1518111000@backup.sistemamedcampania.it
SUMMARY:Diciasette & Trenta Classica. Da Est a Ovest\, tra Barocco e anni 2000 - Giovanni Gnocchi
DESCRIPTION:L’ Associazione Amici dello Spettacolo ripropone come ogni anno la Stagione Diciasette e Trenta Classica. \nAppuntamento con il violoncello di Giovanni Gnocchi e le musiche di G. Kurtag\, D. Gabrielli\, Z. Kodaly \n  \ninfo: \nhttp://www.teatrodiana.it/diana/referer/50/idPage/50/Stagione+di+musica+classica.html \n  \n 
URL:https://backup.sistemamedcampania.it/evento/diciasette-trenta-classica-est-ovest-barocco-anni-2000-giovanni-gnocchi/
LOCATION:Teatro Diana\, Via Luca Giordano 64\, Napoli\, Italia
CATEGORIES:Associazione Amici dello Spettacolo,Diciasette&Trenta Classica 2018,Musica
ATTACH;FMTTYPE=image/jpeg:https://backup.sistemamedcampania.it/wp-content/uploads/2018/01/gnocchi.jpg
END:VEVENT
BEGIN:VEVENT
DTSTART;TZID=Europe/Rome:20180126T173000
DTEND;TZID=Europe/Rome:20180126T173000
DTSTAMP:20260420T102207
CREATED:20180117T094338Z
LAST-MODIFIED:20180117T094338Z
UID:3151-1516987800-1516987800@backup.sistemamedcampania.it
SUMMARY:Diciasette & Trenta Classica. Le Quattro Stagioni - Orchestra da Camera di Santa Sofia
DESCRIPTION:L’ Associazione Amici dello Spettacolo ripropone come ogni anno la Stagione Diciasette e Trenta Classica. \nPrimo appuntamento con le Musiche di Vivaldi con le Quattro Stagioni da “il cimento dell’armonia e dell’invenzione” interpretate dall’ Orchestra da Camera di Santa Sofia. \ninfo: \nhttp://www.teatrodiana.it/diana/referer/50/idPage/50/Stagione+di+musica+classica.html \n 
URL:https://backup.sistemamedcampania.it/evento/diciasette-trenta-classica-le-quattro-stagioni-orchestra-camera-santa-sofia/
LOCATION:Teatro Diana\, Via Luca Giordano 64\, Napoli\, Italia
CATEGORIES:Associazione Amici dello Spettacolo,Diciasette&Trenta Classica 2018,Musica
ATTACH;FMTTYPE=image/jpeg:https://backup.sistemamedcampania.it/wp-content/uploads/2018/01/santa-sofia-4-stagioni.jpg
END:VEVENT
BEGIN:VEVENT
DTSTART;TZID=Europe/Rome:20180117T210000
DTEND;TZID=Europe/Rome:20180117T210000
DTSTAMP:20260420T102207
CREATED:20180115T114807Z
LAST-MODIFIED:20180115T114807Z
UID:3144-1516222800-1516222800@backup.sistemamedcampania.it
SUMMARY:Opera Talk Show - Tosca. Riccardo Canessa
DESCRIPTION:L’Associazione Amici dello Spettacolo inaugura Opera Talk Show a cura di Riccardo Canessa : un percorso di avvicinamento all’opera lirica attraverso arie\, recitativi e aneddoti legati a 5 capolavori della lirica. \nPrimo appuntamento con la Tosca di Giacomo Puccini. \ninfo: \nhttp://www.teatrodiana.it
URL:https://backup.sistemamedcampania.it/evento/opera-talk-show-tosca-riccardo-canessa/
LOCATION:Teatro Diana\, Via Luca Giordano 64\, Napoli\, Italia
CATEGORIES:Associazione Amici dello Spettacolo,Musica
END:VEVENT
END:VCALENDAR