BEGIN:VCALENDAR
VERSION:2.0
PRODID:-//Sistema Med Campania - ECPv6.7.0//NONSGML v1.0//EN
CALSCALE:GREGORIAN
METHOD:PUBLISH
X-WR-CALNAME:Sistema Med Campania
X-ORIGINAL-URL:https://backup.sistemamedcampania.it
X-WR-CALDESC:Eventi per Sistema Med Campania
REFRESH-INTERVAL;VALUE=DURATION:PT1H
X-Robots-Tag:noindex
X-PUBLISHED-TTL:PT1H
BEGIN:VTIMEZONE
TZID:Europe/Rome
BEGIN:DAYLIGHT
TZOFFSETFROM:+0100
TZOFFSETTO:+0200
TZNAME:CEST
DTSTART:20170326T010000
END:DAYLIGHT
BEGIN:STANDARD
TZOFFSETFROM:+0200
TZOFFSETTO:+0100
TZNAME:CET
DTSTART:20171029T010000
END:STANDARD
END:VTIMEZONE
BEGIN:VEVENT
DTSTART;TZID=Europe/Rome:20171226T183000
DTEND;TZID=Europe/Rome:20171226T183000
DTSTAMP:20260419T211333
CREATED:20171129T142734Z
LAST-MODIFIED:20171129T143145Z
UID:3001-1514313000-1514313000@backup.sistemamedcampania.it
SUMMARY:Autunno Musicale 2017 Il Suono & il Sacro - Antonio Colasurdo
DESCRIPTION:Autunno Musicale 2017 – Orchestra da Camera di Caserta e Associazione Anna Jervolino \nIl concerto conclusivo dell’edizione 2017 di Autunno Musicale si terrà nella suggestiva Chiesa di S. Rocco  a Pietramelara.  Il suo monumentale Organo polifonico che conserva 12 canne dell’ originario organo del 1755 sarà magistralmente suonato da Antonio Colasurdo. \nProgramma: \nAnonimo\n(sec. XVIII)\nSuite su Adeste fideles \nFedele Fenaroli\n(1730-1818)\nSonata in re maggiore\nAllegro\nAndante\nAllegro \nFilippo Gamberale\n(1825 – 1912)\nPastorale di Agnone \nJohann Sebastian Bach\n(1685 – 1750)\nJesus bleibet meine Freude\n(Corale dalla Cantata BWV 147)\nToccata\, Adagio e Fuga in do maggiore BWV 564 \nScotson Clark\n(1840 – 1883)\nChorus of Angels \nPietro Alessandro Yon\n(1886 – 1943)\nRapsodia italiana \nJan Pieterszoon Sweelinck\n(1562 – 1621)\nBalletto del Granduca \nJohann Sebastian Bach\n(1685 – 1750)\nPreludio al corale Nun komm der Heiden Heiland BWV 659\nDuetto in sol maggiore BWV 804\nFantasia e Fuga in sol minore BWV 542 \nGiovanni Morandi\n(1777 – 1856)\nIntroduzione\, tema e variazioni e finale in fa maggiore \nAAVV\n(sec. XIX)\nSuoni d’opera \nhttps://www.autunnomusicale.com/programma/ \n 
URL:https://backup.sistemamedcampania.it/evento/autunno-musicale-2017-suono-sacro-antonio-colasurdo/
CATEGORIES:Associazione Anna Jervolino,Autunno Musicale. Suoni e Luoghi d'arte 2017,Musica,Orchestra da Camera di Caserta
ATTACH;FMTTYPE=image/jpeg:https://backup.sistemamedcampania.it/wp-content/uploads/2017/11/antonio-colasurdo.jpg
END:VEVENT
BEGIN:VEVENT
DTSTART;TZID=Europe/Rome:20171226T113000
DTEND;TZID=Europe/Rome:20171226T113000
DTSTAMP:20260419T211333
CREATED:20171129T141010Z
LAST-MODIFIED:20171129T141010Z
UID:2998-1514287800-1514287800@backup.sistemamedcampania.it
SUMMARY:Autunno Musicale 2017 Concerto per un Giorno di Festa- Orchestra da Camera di Caserta
DESCRIPTION:Autunno Musicale 2017 – Orchestra da Camera di Caserta e Associazione Anna Jervolino \nMusiche del ‘700 alla Reggia di Caserta per un Santo Stefano con l’ Orchestra da Camera di Caserta diretta da Antonino Cascio \nhttps://www.autunnomusicale.com/programma/
URL:https://backup.sistemamedcampania.it/evento/autunno-musicale-2017-concerto-un-giorno-festa-orchestra-camera-caserta/
LOCATION:Reggia di Caserta. Cappella Palatina\, Viale Douhet 2/a\, Caserta (CE)\, 81100\, Italia
CATEGORIES:Associazione Anna Jervolino,Autunno Musicale. Suoni e Luoghi d'arte 2017,Musica,Orchestra da Camera di Caserta
END:VEVENT
BEGIN:VEVENT
DTSTART;TZID=Europe/Rome:20171217T193000
DTEND;TZID=Europe/Rome:20171217T193000
DTSTAMP:20260419T211333
CREATED:20171129T135217Z
LAST-MODIFIED:20171129T135217Z
UID:2991-1513539000-1513539000@backup.sistemamedcampania.it
SUMMARY:Autunno Musicale 2017 Musica da Camera - Ivana Marija Vidović &  Franck Russo
DESCRIPTION:Autunno Musicale 2017 – Orchestra da Camera di Caserta e Associazione Anna Jervolino \nPainoforte e Clarinetto. Ivana Marija Vidović e Franck Russo  in un ricco repertorio nella suggestiva chiesa dei SS. Rufo e Carponio di Capua. \nProgramma: \nRobert Schumann *\n(1810 – 1956)\nPapillons op.2\nIntroduzione (Moderato)\nValzer\nValzer – (Prestissimo)\nValzer\nValzer – (Presto)\nPolonaise\nValzer\nValzer – (Semplice)\nValzer\nValzer – (Prestissimo)\nValzer – (Vivo)\nPolonaise\nFinale \nCarl Maria von Weber ***\n(1786 – 1826)\nConcertino op.26 per clarinetto e pianoforte\nAdagio ma non troppo – Andante\nAllegro \nClaude Debussy ***\n(1862 – 1918)\nLa fille aux cheveux de lin\nPremière Rhapsodie \nFranz Liszt *(1811 – 1886)Ballata n.2 in si minore S 171\nIgor Stravinsky**\nThree pièces for clarinet solo \nBela Kovacs**\nOmaggio a Khatchaturian \nErik Satie***\nGnossienne 1 et 3 \nGeorge Geswhin ***\n(1898 – 1937)\nBlues  / da Un americano a Parigi\nPreludio n.1\n(versione per clarinetto e pianoforte) \nManuel de Falla ***\n(1876 – 1946)\nNana\n(dalle Sette Canzoni Popolari Spagnole) \nBela Kovacs***\nAlla Flamenco / Omaggio a Manuel de Falla \nMaurice Ravel ***\n(1785 – 1937)\nPezzo in forma di Habanera \n(*) pianoforte\n(**) clarinetto\n(***) Clarinetto e pianoforte \n  \nhttps://www.autunnomusicale.com/programma/
URL:https://backup.sistemamedcampania.it/evento/autunno-musicale-2017-musica-camera-ivana-marija-vidovic-franck-russo/
LOCATION:Chiesa dei SS. Rufo e Carponio\, Corso Gran Priorato di Malta\, 40\, Capua (CE)\, 81043\, Italia
CATEGORIES:Associazione Anna Jervolino,Autunno Musicale. Suoni e Luoghi d'arte 2017,Musica,Orchestra da Camera di Caserta
ATTACH;FMTTYPE=image/jpeg:https://backup.sistemamedcampania.it/wp-content/uploads/2017/11/franck-russo-ivana-marija-vidovic.jpg
END:VEVENT
BEGIN:VEVENT
DTSTART;TZID=Europe/Rome:20171217T180000
DTEND;TZID=Europe/Rome:20171217T180000
DTSTAMP:20260419T211333
CREATED:20171129T140529Z
LAST-MODIFIED:20171129T140529Z
UID:2996-1513533600-1513533600@backup.sistemamedcampania.it
SUMMARY:Autunno Musicale 2017 Tea Time Concert / A – Solo - Cristiano Rossi
DESCRIPTION:Autunno Musicale 2017 – Orchestra da Camera di Caserta e Associazione Anna Jervolino \nCristiano Rossi e il suo violino in concerto nel Convento delle francescane del Gesù Gonfalone di Capua \nProgramma: \nBruno Maderna\n(1920 – 1973)\nPièce pour Ivry (dedicato a Ivri Gitlis) \nAAVV (*)\nEthos – Logos – Pathos\nVariazioni sulla Sarabanda\ndalla I Partita per violino solo di Bach\nprima esecuzione \nSergey Prokofiev\n(1891 – 1953)\nSonata op.115\nModerato\nAndante dolce (tema con variazioni)\nTempo di valzer \n(*) Brano composto da Umberto Ciccone\, Giovanni Marco Di Lena\, Emanuele D’Onofrio\, Rino Faggella\, Antonio Gomena\, Simona Peluso\, Antonio Sabbatino\, Antonio Saturno\, della Classe di Composizione di Giacomo Vitale presso il Conservatorio D. Cimarosa di Avellino \nA seguire Welcome Tea \nhttps://www.autunnomusicale.com/programma/
URL:https://backup.sistemamedcampania.it/evento/autunno-musicale-2017-tea-time-concert-solo-cristiano-rossi/
LOCATION:Chiesa del Gesù Gonfalone\, Via Pier della Vigna\, Capua (CE)\, 81043\, Italia
CATEGORIES:Associazione Anna Jervolino,Autunno Musicale. Suoni e Luoghi d'arte 2017,Musica,Orchestra da Camera di Caserta
ATTACH;FMTTYPE=image/jpeg:https://backup.sistemamedcampania.it/wp-content/uploads/2017/11/cristiano-rossi.jpg
END:VEVENT
BEGIN:VEVENT
DTSTART;TZID=Europe/Rome:20171217T113000
DTEND;TZID=Europe/Rome:20171217T113000
DTSTAMP:20260419T211333
CREATED:20171129T135953Z
LAST-MODIFIED:20171129T135953Z
UID:2993-1513510200-1513510200@backup.sistemamedcampania.it
SUMMARY:autunno Musicale 2017 Musica da Camera - Classico Terzatto Italiano
DESCRIPTION:Autunno Musicale 2017 – Orchestra da Camera di Caserta e Associazione Anna Jervolino \nUbaldo Rosso al flauto\, Carlo De Martini al violino e alla viola\, Francesco Biraghi alla chitarra. Un terzetto che  interpreta programmi originali del primo Ottocento\, alternando pagine “a tre” con duetti flauto-chitarra e violino-chitarra. \nhttps://www.autunnomusicale.com/programma/
URL:https://backup.sistemamedcampania.it/evento/autunno-musicale-2017-musica-camera-classico-terzatto-italiano/
LOCATION:Museo Archeologico di Calatia\, Via Caudina\, 353\, Maddaloni (CE)\, 81024\, Italia
CATEGORIES:Associazione Anna Jervolino,Autunno Musicale. Suoni e Luoghi d'arte 2017,Musica,Orchestra da Camera di Caserta
ATTACH;FMTTYPE=image/jpeg:https://backup.sistemamedcampania.it/wp-content/uploads/2017/11/classico-terzetto-italiano.jpg
END:VEVENT
BEGIN:VEVENT
DTSTART;TZID=Europe/Rome:20171216T193000
DTEND;TZID=Europe/Rome:20171216T193000
DTSTAMP:20260419T211333
CREATED:20171129T130033Z
LAST-MODIFIED:20171129T130033Z
UID:2988-1513452600-1513452600@backup.sistemamedcampania.it
SUMMARY:Autunno Musicale 2017 Il Suono e il Sacro - Coro Mysterium Vocis
DESCRIPTION:Autunno Musicale 2017 – Orchestra da Camera di Caserta e Associazione Anna Jervolino \nNella splendida cornice del Duomo di Caserta Vecchia Il Coro Mysterium Vocis diretto dal M° Rosario Totaro. \n“…Il Cantico delle creature ci riporta alle origini della nostra identità. Ogni singola parola del testo è attraversata dalla luce e dall’amore di Dio. E Francesco\, dalla sua amata terra d’Umbria\, guarda a tutto il creato come testimonianza vivente del nostro Padre Celeste…” (Giacomo Vitale) \nProgramma: \n\nGiacomo Vitale\n(1961)\nLaudato Sie\nCantata sacra per coro e strumenti\ndal Cantico delle creature di S. Francesco \nhttps://www.autunnomusicale.com/programma/ \n 
URL:https://backup.sistemamedcampania.it/evento/autunno-musicale-2017-suono-sacro-coro-mysterium-vocis/
LOCATION:Cattedrale di San Michele Arcangelo\, Caserta Vecchia\, Caserta (CE)\, 81100\, Italia
CATEGORIES:Associazione Anna Jervolino,Autunno Musicale. Suoni e Luoghi d'arte 2017,Musica,Orchestra da Camera di Caserta
ATTACH;FMTTYPE=image/jpeg:https://backup.sistemamedcampania.it/wp-content/uploads/2017/11/coro-mysterium-vocis.jpg
END:VEVENT
END:VCALENDAR