BEGIN:VCALENDAR
VERSION:2.0
PRODID:-//Sistema Med Campania - ECPv6.7.0//NONSGML v1.0//EN
CALSCALE:GREGORIAN
METHOD:PUBLISH
X-ORIGINAL-URL:https://backup.sistemamedcampania.it
X-WR-CALDESC:Eventi per Sistema Med Campania
REFRESH-INTERVAL;VALUE=DURATION:PT1H
X-Robots-Tag:noindex
X-PUBLISHED-TTL:PT1H
BEGIN:VTIMEZONE
TZID:Europe/Rome
BEGIN:DAYLIGHT
TZOFFSETFROM:+0100
TZOFFSETTO:+0200
TZNAME:CEST
DTSTART:20180325T010000
END:DAYLIGHT
BEGIN:STANDARD
TZOFFSETFROM:+0200
TZOFFSETTO:+0100
TZNAME:CET
DTSTART:20181028T010000
END:STANDARD
END:VTIMEZONE
BEGIN:VEVENT
DTSTART;TZID=Europe/Rome:20180428T210000
DTEND;TZID=Europe/Rome:20180428T210000
DTSTAMP:20260419T211130
CREATED:20180424T131919Z
LAST-MODIFIED:20180424T131919Z
UID:3516-1524949200-1524949200@backup.sistemamedcampania.it
SUMMARY:#OFF Call for Contemporary Experimental Dance. New Dance Generation - La Finale
DESCRIPTION:#OFF 2018 ARB DANCE COMPANY \nPer l’ ultimo appuntamento della seconda edizione di “Off Call For Contemporary Experimental Dance” si  esibiranno i finalsti del contest New Dance Generation per aggiudicarsi il premio di miglior lavoro coreografico.\n \nNko Dance Concept – Venom\nCentro Studi Danza Attitude – After\nLa Zattera – Il Rumore Del Silenzio\nKollettivo Kairos – What The Healt\nExperimento – Ego. \n  \ninfo: \nhttps://www.facebook.com/offcallforcontemporaryexperimentaldance/ \n  \n\n 
URL:https://backup.sistemamedcampania.it/evento/off-call-for-contemporary-experimental-dance-new-dance-generation-la-finale/
LOCATION:Teatro Civico 14\, Via Petrarca Parco dei Pini\, Caserta (CE)\, Italia
CATEGORIES:Arabesque,Danza,OFF Call for Contemporary Experimental Dance 2018
ATTACH;FMTTYPE=image/jpeg:https://backup.sistemamedcampania.it/wp-content/uploads/2018/04/new-dance-generation.jpg
END:VEVENT
BEGIN:VEVENT
DTSTART;TZID=Europe/Rome:20180414T210000
DTEND;TZID=Europe/Rome:20180414T210000
DTSTAMP:20260419T211130
CREATED:20180413T103821Z
LAST-MODIFIED:20180413T103821Z
UID:3473-1523739600-1523739600@backup.sistemamedcampania.it
SUMMARY:#OFF Call for Contemporary Experimental Dance. Part 1 S(K)hin. Part 2 Strade_Parallele
DESCRIPTION:#OFF 2018 ARB DANCE COMPANY \n\nProsegue senza sosta la seconda edizione di “Off Call For Contemporary Experimental Dance”\, la prima rassegna di danza contemporanea di Caserta. In programma due nuove performance. \nAd aprire la serata nello Spazio X\, sarà la coreografia di Simona Perrella dal titolo ‘S(K)HIN’. Il progetto nasce dall’esigenza di lavorare sulle possibilità di creazione coreografica in assolo\, in cui il performer è in imprescindibile rapporto profondo con se stesso\, i suoi limiti e le sue inclinazioni. La donna e l’immagine di essa spesso distorta falsano\, fin dal mondo antico\, la concezione di lei in relazione all’uomo nello spazio dell’amore. S(k)hin è la ricerca della fisicità plastica di un corpo in quanto medium dinamico di immagini e “pose”. E’ il tentativo di immergersi in questa materia multiforme in cui ideali statue di marmo diventano una sequenza di fotogrammi. \nSi proseguirà con la coreografia di Valeria D’Antonio dal titolo “Archeologica”. Il progetto vuole esprimere la scoperta di un’essenza ritrovata\, fatta di vuoti e pieni che battono il tempo delle connessioni e delle relazioni interne ed esterne all’animo e al corpo. Proprio l’attenzione posta sui pieni\, e soprattutto sui vuoti corporei\, fa sì che infinite possibilità e sensazioni attraversino l’armatura corporea che\, esprimendosi attraverso un lavoro di epurazione\, si apre e si rivela. Scoperta e rivelazione\, Archeologica mostra un corpo e un animo che già c’erano\, ma che solo un lavoro emotivo e delicato\, con strumenti sensibili ed idonei\, è riuscito a portare alla luce. \nIn chiusura la produzione della Compagnia Giovani Movimento Danza: “Strade Parallele”\, coreografia di Sonia Di Gennaro che vede la regia di Gabriella Stazio e i danzatori: Valeria D’Antonio\, Martina Galardo\, Francesca Gifuni e Simona Perrella. Strade parallele e destinate a non incontrarsi mai\, corpi che si guardano\, si cercano\, si scrutano\, senza mai toccarsi. Mondi paralleli e possibili incontri in un gioco di sliding doors nella nuova coreografia di Sonia Di Gennaro per il Performing Arts Group Compagnia Giovani Movimento Danza. \n 
URL:https://backup.sistemamedcampania.it/evento/off-call-for-contemporary-experimental-dance-part-1-skhin-part-2-strade_parallele/
LOCATION:Teatro Civico 14\, Via Petrarca Parco dei Pini\, Caserta (CE)\, Italia
CATEGORIES:Arabesque,Danza,OFF Call for Contemporary Experimental Dance 2018
ATTACH;FMTTYPE=image/jpeg:https://backup.sistemamedcampania.it/wp-content/uploads/2018/04/SKhinArcheologicaStrade-Parallele.jpg
END:VEVENT
BEGIN:VEVENT
DTSTART;TZID=Europe/Rome:20180317T210000
DTEND;TZID=Europe/Rome:20180317T210000
DTSTAMP:20260419T211130
CREATED:20180309T152212Z
LAST-MODIFIED:20180309T152212Z
UID:3353-1521320400-1521320400@backup.sistemamedcampania.it
SUMMARY:#OFF Call for Contemporary Experimental Dance. Part 1 Yellow. Part 2 Spine Movement
DESCRIPTION:#OFF 2018 ARB DANCE COMPANY \nL’Associazione Arabesque – ARB DANCE COMPANY organizza La I rassegna #OFF di danza contemporanea a Caserta nelle cui linee guida si prefigge lo scopo di promuovere la danza contemporanea intesa come momento di sperimentazione e esaltazione dello spazio e della libertà di movimento.\nL’idea nasce dalla volontà di promuovere la danza contemporanea nel territorio casertano invitando\ncoreografi che si approcciano alla danza in modo sperimentale ed innovativo. \nI PARTE YELLOW\nSpettacolo vincitore contest\nNew Dance Generation ed. 2017\ncoreografie: Andriano Bolognino \nII PARTE SPINE MOVEMENT\nRicerca performativa\ndi ARB DANCE COMPANY\ncoreografie: Fabrizio Varriale \n 
URL:https://backup.sistemamedcampania.it/evento/off-call-for-contemporary-experimental-dance-part-1-yellow-part-2-spine-movement/
LOCATION:Teatro Civico 14\, Via Petrarca Parco dei Pini\, Caserta (CE)\, Italia
CATEGORIES:Arabesque,Danza,OFF Call for Contemporary Experimental Dance 2018
ATTACH;FMTTYPE=image/jpeg:https://backup.sistemamedcampania.it/wp-content/uploads/2018/03/yellow.-spine-movement.jpg
END:VEVENT
BEGIN:VEVENT
DTSTART;TZID=Europe/Rome:20180303T210000
DTEND;TZID=Europe/Rome:20180303T210000
DTSTAMP:20260419T211130
CREATED:20180214T155210Z
LAST-MODIFIED:20180309T151730Z
UID:3275-1520110800-1520110800@backup.sistemamedcampania.it
SUMMARY:#OFF Call for Contemporary Experimental Dance. Re-Born - ARB Dance Company
DESCRIPTION:#OFF 2018 ARB DANCE COMPANY \nL’Associazione Arabesque – ARB DANCE COMPANY organizza La I rassegna #OFF di danza contemporanea a Caserta nelle cui linee guida si prefigge lo scopo di promuovere la danza contemporanea intesa come momento di sperimentazione e esaltazione dello spazio e della libertà di movimento.\nL’idea nasce dalla volontà di promuovere la danza contemporanea nel territorio casertano invitando\ncoreografi che si approcciano alla danza in modo sperimentale ed innovativo. \nRe- Born \nDanzatori: \nLuigi d’Aiello \nMartina Fasano \nKatia Marocco \nCamilla Rega \nCoreografie: Martina Fasano \n  \nUn tuffo nel vuoto. Tre piani. La vita che sembra spegnersi sull’asfalto. La vita di Francesco\, il protagonista\, giovane pittore e musicista\, e con la sua\, la vita di chi lo ama. A testa in giù verso l’abisso. \nMa la vita non si lascia mettere al tappeto senza combattere: sarà un lungo testa a testa tra Francesco\, con i suoi quadri\, le sue canzoni\, e la morte; colori e musica che combattono con il buio e con il silenzio. \nNel limbo del coma affioreranno ricordi ed echi di un passato felice: la famiglia\, l’esperienza come volontario in Africa\, la fede. Ciò che da soli sembrava essere insormontabile\, assieme diventa possibile. Ciò che la solitudine aveva camuffato da via d’uscita\, ciò che nella spossatezza di un dolore apparentemente insuperabile era apparso come una possibilità di fuga\, si rivela per quello è: una resa senza giustizia. La morte\, prima quasi invocata\, sarà combattuta con ogni fibra\, e sconfitta. Nell’arte\, la rinascita. \ninfo: https://www.arbdancecompany.it/rassegna-di-danza-contemporanea/ \n 
URL:https://backup.sistemamedcampania.it/evento/off-call-for-contemporary-experimental-dance-re-born-arb-dance-company/
LOCATION:Teatro Civico 14\, Via Petrarca Parco dei Pini\, Caserta (CE)\, Italia
CATEGORIES:Arabesque,Danza,OFF Call for Contemporary Experimental Dance 2018
ATTACH;FMTTYPE=image/jpeg:https://backup.sistemamedcampania.it/wp-content/uploads/2018/02/re-born.jpg
END:VEVENT
END:VCALENDAR