BEGIN:VCALENDAR
VERSION:2.0
PRODID:-//Sistema Med Campania - ECPv6.7.0//NONSGML v1.0//EN
CALSCALE:GREGORIAN
METHOD:PUBLISH
X-WR-CALNAME:Sistema Med Campania
X-ORIGINAL-URL:https://backup.sistemamedcampania.it
X-WR-CALDESC:Eventi per Sistema Med Campania
REFRESH-INTERVAL;VALUE=DURATION:PT1H
X-Robots-Tag:noindex
X-PUBLISHED-TTL:PT1H
BEGIN:VTIMEZONE
TZID:Europe/Rome
BEGIN:DAYLIGHT
TZOFFSETFROM:+0100
TZOFFSETTO:+0200
TZNAME:CEST
DTSTART:20210328T010000
END:DAYLIGHT
BEGIN:STANDARD
TZOFFSETFROM:+0200
TZOFFSETTO:+0100
TZNAME:CET
DTSTART:20211031T010000
END:STANDARD
END:VTIMEZONE
BEGIN:VEVENT
DTSTART;TZID=Europe/Rome:20210417T183000
DTEND;TZID=Europe/Rome:20210417T183000
DTSTAMP:20260422T163311
CREATED:20210416T145435Z
LAST-MODIFIED:20210416T145435Z
UID:6366-1618684200-1618684200@backup.sistemamedcampania.it
SUMMARY:Arabesque #Off Call for Contemporary Experimental Dance
DESCRIPTION:Ultimo appuntamento della Rassegna di Danza Contemporanea #Off Call for Contemporary Experimental Dance “TALKING ABOUT DANCE” prodotta da ARB Dance Company. Titolo dell’evento ON VS OFF: La danza è davvero pronta a diventare digitale? \nIl mondo della danza\, come tutto quello artistico\, ha dovuto adeguarsi alle nuove esigenze che si sono palesate con le chiusure della pandemia: senza teatro\, senza pubblico\, senza la possibilità di debuttare\, si è cercato di creare una nuova dimensione creativa\, che alimentasse la propria esigenza di esibirsi che prima è approdata timidamente al web\, e poi si è strutturata trovando spazio nelle piattaforme streaming. Teatri\, Enti\, Fondazioni si sono subito adeguati a questo nuovo modo di “fare” teatro. La distribuzione non si poteva fermare\, e la “finestra sul mondo” ha fatto sì che gli spettacoli fossero replicabili sul web e fruibili da chiunque. Ma cosa accade al coreografo che deve creare rapportandosi ad una sala vuota e a una telecamera che giudica il suo lavoro? Lo stesso si trova a doversi confrontare con nuovo spazio creativo: il campo visivo.  La creatività teatrale si affaccia a quella cinematografica\, cambia la prospettiva del lavoro e l’obiettivo della camera diventa il nuovo pubblico. Ma una telecamera può davvero trasmettere l’emozione del gesto? Quali saranno i nuovi parametri creativi e narrativi? Il coreografo è davvero pronto a questa rapida evoluzione digitale? Tutto il mondo dello spettacolo dal vivo sta dirottando verso la creazione digitale\, la danza si trasforma in cinema\, documentaristica\, si scelgono nuovi paramenti di narrazione e il genere della videodanza sta diventando sempre di più un canale creativo battuto non solo per la creatività coreografica\, ma anche per la produzione e la distribuzione della danza. Ma è una scelta creativa o una necessità? A Confrontarsi sul tema saranno: \nAnnamaria Di Maio\, Direttrice Artistica della ARB Dance Company e della Rassegna Off Call For Contemporay Experimental Dance \nMarilena Riccio\, Prima Ballerina Teatro San Carlo e Fondatrice del Coreografo Elettronico. \nElisa Barucchieri\, Coreografa e danzatrice \nMatteo Levaggi\, Coreografo freelance\, coreografo residente 2020/21 del corso di perfezionamento Padova Danza sostenuto dal MiBACT \nNicola Galli\, Coreografo digitale e danzatore \nViola Damiani\, Fotografa/Filmaker \nAlessandro Leligdowicz \, Regista/Filmaker \nNapoleone Zavatto\, Organizzatore teatrale \nDavid Beronio\, Codirettore artistico di Teatro Akropolis \nModera Francesco Borelli danzatore\, critico di danza\, Maestro\, Direttore della rivista online “Dance Hall News” e Direttore artistico di numerosi eventi. \n  \nL’evento sarà visibile a tutti sulla pagina facebook della rassegna @OFF CALL FOR CONTEMPORARY EXPERIMENTAL DANCE.
URL:https://backup.sistemamedcampania.it/evento/arabesque-off-call-for-contemporary-experimental-dance-4/
CATEGORIES:#Off Call for Contemporary Experimental Dance 2021,Arabesque,Danza
ATTACH;FMTTYPE=image/jpeg:https://backup.sistemamedcampania.it/wp-content/uploads/2021/03/off.jpg
END:VEVENT
BEGIN:VEVENT
DTSTART;TZID=Europe/Rome:20210410T183000
DTEND;TZID=Europe/Rome:20210410T183000
DTSTAMP:20260422T163311
CREATED:20210408T150850Z
LAST-MODIFIED:20210416T144942Z
UID:6360-1618079400-1618079400@backup.sistemamedcampania.it
SUMMARY:Arabesque #Off Call for Contemporary Experimental Dance
DESCRIPTION:ARB Dance Company  presenta Il terzo appuntamento online della Rassegna di Danza Contemporanea #Off Call for Contemporary Experimental Dance “TALKING ABOUT DANCE”  . Titolo dell’evento: OUTDOOR. La danza oltre il palcoscenico. \nA Confrontarsi sul tema saranno esperti del mondo della danza\, compagnie professionali\, giovani coreografi\, tecnici specializzati\, referenti di spazi culturali e poli museali. Spunto di riflessione il sempre più continuo uscire della danza dallo spazio teatrale che oggi anche a seguito della pandemia è sempre più frequente. Ma cosa diventa la danza se si spinge oltre il palcoscenico? Se si spoglia dei suoi canoni accademici adattandosi a nuovi luoghi\, rivolgendosi a nuovi pubblici. Cambia la narrativa del corpo\, la destinazione di utilizzo. La creatività e la sperimentazione prendono spazio. Per cui si trasforma in altro o si può sempre chiamare danza? Nel tempo la danza contemporanea è diventato uno strumento sempre più volto alla sperimentazione che vede l’utilizzo di spazi non convenzionali quali Musei\, aree urbane\, siti storici\, per la creazione di lavori costruiti ad hoc. Al contempo gli stessi spazi sentono fortemente il valore aggiunto che le performance possono apportare all’interno di una progettualità congiunta tra sito e performance. Sperimentazione o strategia? \nOspiti: \nANNAMARIA DI MAIO Direttrice Artistica della ARB Dance Company e della Rassegna Off Call For Contemporay Experimental Dance \nJOSEPH FONTANO Presidente WDA Europe e direttore dell’Accademia Europea di Danza. \nSILVIA MACCHI Coreografa e responsabile artistica della compagnia Synergy of Art \nPAOLA SORRESSA Direttrice Artistica e coreografa Mandala Dance Company \nLUCIEN BRUCHON Light designer\, scenografo e co drammaturgo di Mandala Dance Company \nLARA D’AMORE Assistente di produzione – Ufficio Eventi Museo Madre di Napoli \nVINCENZO MAZZARELLA Responsabile Della Valorizzazione Educazione e Mediazione Reggia Di Caserta \nModera Francesco Borelli danzatore\, critico di danza\, Maestro\, Direttore della rivista online “Dance Hall News” e Direttore artistico di numerosi eventi. \n  \nL’evento sarà visibile a tutti sulla pagina facebook della rassegna @OFF CALL FOR CONTEMPORARY EXPERIMENTAL DANCE. \n  \n 
URL:https://backup.sistemamedcampania.it/evento/arabesque-off-call-for-contemporary-experimental-dance-3/
CATEGORIES:#Off Call for Contemporary Experimental Dance 2021,Arabesque,Danza
ATTACH;FMTTYPE=image/jpeg:https://backup.sistemamedcampania.it/wp-content/uploads/2021/03/off.jpg
END:VEVENT
BEGIN:VEVENT
DTSTART;TZID=Europe/Rome:20210327T183000
DTEND;TZID=Europe/Rome:20210327T183000
DTSTAMP:20260422T163311
CREATED:20210325T095044Z
LAST-MODIFIED:20210325T101528Z
UID:6340-1616869800-1616869800@backup.sistemamedcampania.it
SUMMARY:Arabesque.#Off Call for Contemporary Experimental Dance
DESCRIPTION:Secondo appuntamento online della Rassegna di Danza Contemporanea #Off Call for Contemporary Experimental Dance “TALKING ABOUT DANCE”  prodotta dalla ARB Dance Company\, titolo dell’evento: CHOSEN. Circuiti\, produzioni e proposte. La filiera della produzione della danza in Italia. \nL’idea è di voler aprire un focus sul mondo della produzione coreutica e di tutta la sua filiera\, creativa\, economica e organizzativa: Quali sono i parametri che determinano la scelta di produrre un determinato progetto\, o sceglierlo per un circuito di eventi come i FESTIVAL? Quali sono le direzioni attuali per la realizzazione di un prodotto fruibile? Quanto spazio può avere la creatività a dispetto del budget? E le nuove tecnologie che valore aggiunto determinano? Cosa vuole oggi il pubblico? Punti e spunti per nuove riflessioni. \nA Confrontarsi sul tema saranno esperti del mondo della danza\, compagnie professionali\, giovani coreografi\, tecnici specializzati\, organizzatori: \nAnnamaria Di Maio Direttrice Artistica della ARB Dance Company e della Rassegna Off Call For Contemporay Experimental Dance \nGabriella Stazio Direttore Artistico Movimento Danza e Coreografa- Presidente Sistema MeD – Musica e Danza \nEmma Cianchi e Manuela Barbato Curatrici Artistiche Sezione Danza Teatro Bellini Di Napoli \nAndrea Zardi Danzatore e Coreografo Freelance Fondatore Della Za | Danceworks \nAlessandro Papa Video Scenografo Freelance e Docente presso L’Accademia Di Belle Arti Di Napoli \n  \nModera Francesco Borelli Già danzatore\, oggi critico di danza\, Maestro\, Direttore della rivista online “Dance Hall News” e Direttore artistico di numerosi eventi. \n  \nL’evento L’evento sarà visibile a tutti sulla pagina facebook della rassegna @OFF CALL FOR CONTEMPORARY EXPERIMENTAL DANCE.
URL:https://backup.sistemamedcampania.it/evento/arabesque-off-call-for-contemporary-experimental-dance-2/
CATEGORIES:#Off Call for Contemporary Experimental Dance 2021,Arabesque,Danza
ATTACH;FMTTYPE=image/jpeg:https://backup.sistemamedcampania.it/wp-content/uploads/2021/03/off.jpg
END:VEVENT
BEGIN:VEVENT
DTSTART;TZID=Europe/Rome:20210313T183000
DTEND;TZID=Europe/Rome:20210313T183000
DTSTAMP:20260422T163311
CREATED:20210308T151003Z
LAST-MODIFIED:20210325T101455Z
UID:6308-1615660200-1615660200@backup.sistemamedcampania.it
SUMMARY:Arabesque.#Off Call for Contemporary Experimental Dance
DESCRIPTION:Giunta alla sua quinta edizione\, la rassegna di danza contemporanea #Off Call for Contemporary Experimental Dance prodotta dalla ARB Dance Company quest’anno si trasforma in una edizione Speciale “TALKING ABOUT DANCE”. Tutti i coreografi saranno invitati a raccontarsi e a raccontare il proprio lavoro passato e futuro\, attraverso contributi video\, interviste e pillole artistiche. Un’occasione quella della edizione 2021\, in cui si sente l’esigenza di “ritornare sulla scena” virtuale\, attraverso l’organizzazione di 4 appuntamenti in diretta streaming in cui gli ospiti affronteranno temi legati alla cultura della danza.  \nIl primo appuntamento\, sarà “La ripresa della danza un anno dopo. Si riparte?”  \nA Confrontarsi sul tema saranno\, Annamaria Di Maio Direttrice Artistica della ARB Dance Company e della Rassegna Off Call For Contemporay Experimental Dance \n\n\n\nAntonella Iannone Direttrice Artistica Associazione Campania Danza \nSara Lupoli Coreografa\, Danzatrice\, Performer\, Autrice Multimediale \nRoberto Solofria\, Vincenzo Carola Organizzatore Teatrale Amministratore Della Società Dietro Le Quinte Srl \nModera Francesco Borelli già danzatore\, oggi critico di danza\, Maestro\, Direttore della rivista online “Dance Hall News” e Direttore artistico di numerosi eventi. \nL’evento sarà visibile a tutti sulla pagina facebook della rassegna @OFF CALL FOR CONTEMPORARY EXPERIMENTAL DANCE. \n\n\n\n 
URL:https://backup.sistemamedcampania.it/evento/arabesque-off-call-for-contemporary-experimental-dance/
CATEGORIES:#Off Call for Contemporary Experimental Dance 2021,Arabesque,Danza
ATTACH;FMTTYPE=image/jpeg:https://backup.sistemamedcampania.it/wp-content/uploads/2021/03/off.jpg
END:VEVENT
END:VCALENDAR