BEGIN:VCALENDAR
VERSION:2.0
PRODID:-//Sistema Med Campania - ECPv6.7.0//NONSGML v1.0//EN
CALSCALE:GREGORIAN
METHOD:PUBLISH
X-WR-CALNAME:Sistema Med Campania
X-ORIGINAL-URL:https://backup.sistemamedcampania.it
X-WR-CALDESC:Eventi per Sistema Med Campania
REFRESH-INTERVAL;VALUE=DURATION:PT1H
X-Robots-Tag:noindex
X-PUBLISHED-TTL:PT1H
BEGIN:VTIMEZONE
TZID:Europe/Rome
BEGIN:DAYLIGHT
TZOFFSETFROM:+0100
TZOFFSETTO:+0200
TZNAME:CEST
DTSTART:20220327T010000
END:DAYLIGHT
BEGIN:STANDARD
TZOFFSETFROM:+0200
TZOFFSETTO:+0100
TZNAME:CET
DTSTART:20221030T010000
END:STANDARD
END:VTIMEZONE
BEGIN:VEVENT
DTSTART;TZID=Europe/Rome:20220522T180000
DTEND;TZID=Europe/Rome:20220522T180000
DTSTAMP:20260420T070232
CREATED:20220518T154225Z
LAST-MODIFIED:20220518T154225Z
UID:7435-1653242400-1653242400@backup.sistemamedcampania.it
SUMMARY:Arabesque. OFF- Human – Moonlight
DESCRIPTION: Artgarage\, chiude l’ edizione 2022 di OFF\, rassegna firmata dall’ Associazione Arabesque. La compagnia guidata da Emma Cianchi compie un percorso di creazione per dare vita ad anime nude e inumane con “Human – Moonlight”. La coreografia di Gennaro Maione attraversa la linea di connessione tra la spiritualità e l’umanità\, tra la vita terrena e aliena. \n  \nPer info e prenotazioni: tel. 0823.441399 oppure scrivere a info@teatrocivico14.it  \nhttps://www.teatrocivico14.org
URL:https://backup.sistemamedcampania.it/evento/arabesque-off-human-moonlight/
LOCATION:Teatro Civico 14\, Via Petrarca Parco dei Pini\, Caserta (CE)\, Italia
CATEGORIES:Arabesque,Art Garage,Danza,OFF- call for contemporary exsperimental dance
ATTACH;FMTTYPE=image/jpeg:https://backup.sistemamedcampania.it/wp-content/uploads/2022/05/human.jpg
END:VEVENT
BEGIN:VEVENT
DTSTART;TZID=Europe/Rome:20220522T180000
DTEND;TZID=Europe/Rome:20220522T180000
DTSTAMP:20260420T070232
CREATED:20220518T153835Z
LAST-MODIFIED:20220518T153835Z
UID:7433-1653242400-1653242400@backup.sistemamedcampania.it
SUMMARY:Arabesque. OFF- Le Persone Dentro
DESCRIPTION:OFF- call for contemporary experimental dance\, la rassegna di danza contemporanea firmata da Arb dance company ospita  una produzione di ARB dance company con il supporto di Mutamenti/Teatro civico14. “Le Persone Dentro”  è lo spettacolo di e con Roberta De Rosa ispirato al libro “Una stanza piena di gente” di Daniel Keyes. Si tratta della storia di Billy Milligan\, criminale violento con il disturbo di personalità multipla\, assolto nel processo che lo vedeva imputato per aver rapito\, rubato e violentato tre giovani universitarie. \n  \nPer info e prenotazioni: tel. 0823.441399 oppure scrivere a info@teatrocivico14.it  \nhttps://www.teatrocivico14.org \n  \n 
URL:https://backup.sistemamedcampania.it/evento/arabesque-off-le-persone-dentro/
LOCATION:Teatro Civico 14\, Via Petrarca Parco dei Pini\, Caserta (CE)\, Italia
CATEGORIES:Arabesque,Danza,OFF- call for contemporary exsperimental dance
ATTACH;FMTTYPE=image/jpeg:https://backup.sistemamedcampania.it/wp-content/uploads/2022/05/le-persone-dentro.jpg
END:VEVENT
BEGIN:VEVENT
DTSTART;TZID=Europe/Rome:20220521T203000
DTEND;TZID=Europe/Rome:20220521T203000
DTSTAMP:20260420T070232
CREATED:20220518T153455Z
LAST-MODIFIED:20220518T153504Z
UID:7431-1653165000-1653165000@backup.sistemamedcampania.it
SUMMARY:Arabesque. OFF- A Safe Place
DESCRIPTION:La prima serata di OFF- call for contemporary experimental dance\, la rassegna di danza contemporanea firmata da Arb dance company prosegue con la coreografia di Adriano Bolognino ” A Safe Place” in cui viene affrontato il tema dei rischi della comfort zone. I passi di danza  scatenano nello spettatore una serie di domande rivolte all’acquisizione della capacità di riuscire a lasciare il proprio spazio protetto per raggiungere la meta di un posto migliore. La naturalezza e la semplicità possono portare il genere umano all’abbandono del luogo ideale per il miglioramento del singolo individuo. \n  \nCoreografie\, Adriano Bolognino \nDanzatrici\, Noemi Caricchia e Roberta Fanzini \n  \nPer info e prenotazioni: tel. 0823.441399 oppure scrivere a info@teatrocivico14.it  \nhttps://www.teatrocivico14.org \n  \n 
URL:https://backup.sistemamedcampania.it/evento/arabesque-off-a-safe-place/
LOCATION:Teatro Civico 14\, Via Petrarca Parco dei Pini\, Caserta (CE)\, Italia
CATEGORIES:Arabesque,Danza,OFF- call for contemporary exsperimental dance
ATTACH;FMTTYPE=image/jpeg:https://backup.sistemamedcampania.it/wp-content/uploads/2022/05/a-safe-place.jpg
END:VEVENT
BEGIN:VEVENT
DTSTART;TZID=Europe/Rome:20220521T203000
DTEND;TZID=Europe/Rome:20220521T203000
DTSTAMP:20260420T070232
CREATED:20220518T153002Z
LAST-MODIFIED:20220518T153002Z
UID:7425-1653165000-1653165000@backup.sistemamedcampania.it
SUMMARY:Arabesque. OFF-Aves
DESCRIPTION:Torna la danza contemporanea con la rassegna OFF- call for contemporary exsperimental dance firmata da Arb dance company.  \nIl primo appuntamento è con “Aves” un lavoro coreografico dii Davide Romeo\, fondatore della giovane compagnia Uscite di Emergenza.\nIl gruppo opera nella danza contemporanea\, nell’improvvisazione e nella performance portando in scena il racconto di una fobia che diventa un viaggio onirico per il corpo e il movimento. Affrontando le diverse dimensioni surreali\, l’assolo di Romeo prova a materializzare le varie sensazioni per cristallizzare una storia fatta di immagini\, suoni ed esperienze. \n  \nPer info e prenotazioni: tel. 0823.441399 oppure scrivere a info@teatrocivico14.it  \nhttps://www.teatrocivico14.org
URL:https://backup.sistemamedcampania.it/evento/arabesque-off-aves/
LOCATION:Teatro Civico 14\, Via Petrarca Parco dei Pini\, Caserta (CE)\, Italia
CATEGORIES:Arabesque,Danza,OFF- call for contemporary exsperimental dance
ATTACH;FMTTYPE=image/jpeg:https://backup.sistemamedcampania.it/wp-content/uploads/2022/05/aves.jpg
END:VEVENT
END:VCALENDAR