BEGIN:VCALENDAR
VERSION:2.0
PRODID:-//Sistema Med Campania - ECPv6.7.0//NONSGML v1.0//EN
CALSCALE:GREGORIAN
METHOD:PUBLISH
X-ORIGINAL-URL:https://backup.sistemamedcampania.it
X-WR-CALDESC:Eventi per Sistema Med Campania
REFRESH-INTERVAL;VALUE=DURATION:PT1H
X-Robots-Tag:noindex
X-PUBLISHED-TTL:PT1H
BEGIN:VTIMEZONE
TZID:Europe/Rome
BEGIN:DAYLIGHT
TZOFFSETFROM:+0100
TZOFFSETTO:+0200
TZNAME:CEST
DTSTART:20190331T010000
END:DAYLIGHT
BEGIN:STANDARD
TZOFFSETFROM:+0200
TZOFFSETTO:+0100
TZNAME:CET
DTSTART:20191027T010000
END:STANDARD
END:VTIMEZONE
BEGIN:VEVENT
DTSTART;TZID=Europe/Rome:20190407T200000
DTEND;TZID=Europe/Rome:20190407T200000
DTSTAMP:20260419T211232
CREATED:20190401T120630Z
LAST-MODIFIED:20190401T120630Z
UID:4607-1554667200-1554667200@backup.sistemamedcampania.it
SUMMARY:Associazione Arabesque- #Off. Campi visivi/Mirror movements for J.S.Bach
DESCRIPTION:L’Associazione Arabesque presenta la III edizione di #OFF\, la prima della rassegna di danza contemporanea a Caserta. Lo Spazio X del teatro Civico ospiterà per la seconda serata un doppio appuntamento con due produzioni targate Movimento Danza e realizzate dal  Perfoming Arts Group – Compagnia giovani Movimento Danza formato da Aiello Erika\, Apreda Floriana\, Ferraro Maria Teresa\, Gifuni Francesca Lomazzo Sara\, Scognamillo Federica.\n \nI Parte – Campi visivi  \ncoreografia di Sonia Di Gennaro\nIl campo visivo è l’area visiva percepita dall’occhio quando fissa un determinato punto. Ciascun danzatore traccia le proprie direzioni proiettando sguardi e dinamiche nella costante ricerca di una costruzione di un campo d’azione comune.\nLa coreografia di Sonia Di Gennaro è uno studio sulle possibilità che il danzatore ha in scena di indagare il campo visivo includendo e/o escludendo l’altro. La comunicazione tra i danzatori avviene in un sottile gioco di visioni laterali: i danzatori portano avanti la coreografia come se si guardassero\, senza mai guardarsi veramente negli occhi. \n \nII Parte – Mirror movements for J.S.Bach  \ncoreografia di Fabrizio Varriale                                                                                                                                                              Una stesura coreografica su musiche di Johann Sebastian Bach. Un lavoro sulla percezione come mezzo di scoperta di se\, della materia di cui siamo fatti. Ogni relazione diviene un universo sensibile e allo stesso tempo materico che da spazio e tempo all’invisibile\, essenza che si rivela\, nel presente\, come uno specchio di ciò che siamo e sentiamo.\n \n  \ninfo: https://www.facebook.com/ArabesqueScuolaProfessionalediDanza/
URL:https://backup.sistemamedcampania.it/evento/associazione-arabesque-off-campi-visivimirror-movements-for-j-s-bach/
LOCATION:Teatro Civico 14\, Via Petrarca Parco dei Pini\, Caserta (CE)\, Italia
CATEGORIES:#Off - III Edizione 2019,Arabesque,Danza,Movimento Danza
ATTACH;FMTTYPE=image/jpeg:https://backup.sistemamedcampania.it/wp-content/uploads/2019/04/Campi-visivi.Mirror-movements-for-J.S.Bach_.jpg
END:VEVENT
BEGIN:VEVENT
DTSTART;TZID=Europe/Rome:20190324T200000
DTEND;TZID=Europe/Rome:20190324T200000
DTSTAMP:20260419T211232
CREATED:20190322T091520Z
LAST-MODIFIED:20190322T091520Z
UID:4532-1553457600-1553457600@backup.sistemamedcampania.it
SUMMARY:Associazione Arabesque. #Off-What the health!
DESCRIPTION:L’Associazione Arabesque presenta la III edizione di #OFF\, la prima della rassegna di danza contemporanea a Caserta. Per il primo appuntamento si esibirà sul palco dello Spazio X di Caserta il Kolletivo Kairos in ” What the health!” vincitore dell’ edizione 2018 del Contest promosso da Arabesque #New Dance Generation. \n  \ninfo: https://www.facebook.com/ArabesqueScuolaProfessionalediDanza/ \n  \n 
URL:https://backup.sistemamedcampania.it/evento/associazione-arabesque-off-what-the-health/
LOCATION:Teatro Civico 14\, Via Petrarca Parco dei Pini\, Caserta (CE)\, Italia
CATEGORIES:#Off - III Edizione 2019,Arabesque,Danza
ATTACH;FMTTYPE=image/jpeg:https://backup.sistemamedcampania.it/wp-content/uploads/2019/03/what-the-health.jpg
END:VEVENT
END:VCALENDAR