BEGIN:VCALENDAR
VERSION:2.0
PRODID:-//Sistema Med Campania - ECPv6.7.0//NONSGML v1.0//EN
CALSCALE:GREGORIAN
METHOD:PUBLISH
X-WR-CALNAME:Sistema Med Campania
X-ORIGINAL-URL:https://backup.sistemamedcampania.it
X-WR-CALDESC:Eventi per Sistema Med Campania
REFRESH-INTERVAL;VALUE=DURATION:PT1H
X-Robots-Tag:noindex
X-PUBLISHED-TTL:PT1H
BEGIN:VTIMEZONE
TZID:Europe/Rome
BEGIN:DAYLIGHT
TZOFFSETFROM:+0100
TZOFFSETTO:+0200
TZNAME:CEST
DTSTART:20240331T010000
END:DAYLIGHT
BEGIN:STANDARD
TZOFFSETFROM:+0200
TZOFFSETTO:+0100
TZNAME:CET
DTSTART:20241027T010000
END:STANDARD
BEGIN:DAYLIGHT
TZOFFSETFROM:+0100
TZOFFSETTO:+0200
TZNAME:CEST
DTSTART:20250330T010000
END:DAYLIGHT
BEGIN:STANDARD
TZOFFSETFROM:+0200
TZOFFSETTO:+0100
TZNAME:CET
DTSTART:20251026T010000
END:STANDARD
END:VTIMEZONE
BEGIN:VEVENT
DTSTART;TZID=Europe/Rome:20241110T210000
DTEND;TZID=Europe/Rome:20241110T210000
DTSTAMP:20260425T172355
CREATED:20241108T195324Z
LAST-MODIFIED:20241108T195324Z
UID:9091-1731272400-1731272400@backup.sistemamedcampania.it
SUMMARY:BORDERLINEDANZA ETS - Sacre
DESCRIPTION:Nell’ambito della rassegna Incontri organizzata dall’Associazione Campania Danza\, domenica 10 novembre al Teatro Comunale Mario Scarpetta di Sala Consilina va in scena Sacre\, per la regia e la coreografia di Claudio Malangone. \nLa compagnia Borderlinedanza rilegge il celebre testo sonoro e coreografico del Rito della primavera\, consulta quindi la sua essenza\, ne conserva la radicalità primordiale ed investiga la traccia trasgressiva che quest’opera continua a trasmettere nella contemporaneità. \nIn un tempo sospeso tra il post-rito e l’inevitabile ciclicità dell’evento\, il gruppo si confronta con le sue differenze di specie e sperimenta varie dinamiche di aggregazione e di risoluzione\, il Rito si ripete danzando per la sopravvivenza. \nPer maggiori info www.compagniaborderlinedanza.it
URL:https://backup.sistemamedcampania.it/evento/borderlinedanza-ets-sacre/
LOCATION:Teatro Mario Scarpetta\, Via Cappuccini\, Sala Consilina\, Salerno\, 84036\, Italia
CATEGORIES:Associazione Campania Danza,Borderline Danza,Danza
ATTACH;FMTTYPE=image/jpeg:https://backup.sistemamedcampania.it/wp-content/uploads/2024/11/borderline-danza-sacre.jpg
END:VEVENT
BEGIN:VEVENT
DTSTART;TZID=Europe/Rome:20250322T210000
DTEND;TZID=Europe/Rome:20250322T210000
DTSTAMP:20260425T172355
CREATED:20250319T161942Z
LAST-MODIFIED:20250319T161942Z
UID:9147-1742677200-1742677200@backup.sistemamedcampania.it
SUMMARY:CAMPANIA DANZA - Origenìa
DESCRIPTION:Ispirato dalla poesia La storia del mondo di Marco De Simone\, lo spettacolo vuole indagare il concetto di Origine coniugato con quello di femminilità. \nIl corpo della donna diventa uno spazio senza confini e senza tempo\, da esplorare abbandonando i condizionamenti culturali\, in una prospettiva di connessione tra Donna e Terra con tutti i suoi elementi. \nUn potente inno alla femminilità e alla sua capacità di plasmare il mondo. \nCoreografia di Antonello Apicella \nTesto e musica originale di Marco De Simone \nInterprete Olimpia Milione \nProduzione Associazione Campania Danza \nDirezione artistica Antonella Iannone \nPer maggiori info www.associazionecampaniadanza.com
URL:https://backup.sistemamedcampania.it/evento/campania-danza-origenia/
LOCATION:Sala Ichos\, Via Principe di S. Nicandro 28\, Napoli\, Napoli\, 80146\, Italy
CATEGORIES:Associazione Campania Danza,Danza
ATTACH;FMTTYPE=image/jpeg:https://backup.sistemamedcampania.it/wp-content/uploads/2025/03/campania-danza-origenia.jpg
END:VEVENT
BEGIN:VEVENT
DTSTART;TZID=Europe/Rome:20250323T183000
DTEND;TZID=Europe/Rome:20250323T183000
DTSTAMP:20260425T172355
CREATED:20250319T172559Z
LAST-MODIFIED:20250321T151013Z
UID:9150-1742754600-1742754600@backup.sistemamedcampania.it
SUMMARY:CAMPANIA DANZA - Solitudine bohémien
DESCRIPTION:Cosa hanno in comune La Bohème di Giacomo Puccini\, Modernità liquida di Zygmunt Bauman e Biglietti agli amici di Pier Vittorio Tondelli? Sembrano appartenere ad epoche e mondi diversi\, ma ad una lettura più attenta sono opere che indagano importanti temi sociali legati alle relazioni umane e alle sfide dell’esistenza. Tutte pongono l’accento sulla fragilità e sull’adattabilità dell’umano di fronte ai cambiamenti della società moderna. \nCosì Solitudine bohémien sperimenta attraverso la danza quei sentimenti di smarrimento\, inadeguatezza\, precarietà che caratterizzano la società contemporanea.  È una danza nel tempo\, dai quartieri bohemien parigini agli attuali monolocali in affitto pieni di solitudine. \nCoreografia di Simone Liguori \nDrammaturgia di Eirene Campagna e Olimpia Milione \nProduzione Associazione Campania Danza \nDirezione artistica Antonella Iannone \nPer maggiori info www.associazionecampaniadanza.com
URL:https://backup.sistemamedcampania.it/evento/campania-danza-solitudine-bohemien/
LOCATION:Teatro Lucini\, P.za Vittorio Emanuele II\, 1\, Acquaviva delle Fonti\, Bari\, 70021\, Italy
CATEGORIES:Associazione Campania Danza,Danza
ATTACH;FMTTYPE=image/jpeg:https://backup.sistemamedcampania.it/wp-content/uploads/2025/03/campania-danza.jpg
END:VEVENT
END:VCALENDAR