BEGIN:VCALENDAR
VERSION:2.0
PRODID:-//Sistema Med Campania - ECPv6.7.0//NONSGML v1.0//EN
CALSCALE:GREGORIAN
METHOD:PUBLISH
X-WR-CALNAME:Sistema Med Campania
X-ORIGINAL-URL:https://backup.sistemamedcampania.it
X-WR-CALDESC:Eventi per Sistema Med Campania
REFRESH-INTERVAL;VALUE=DURATION:PT1H
X-Robots-Tag:noindex
X-PUBLISHED-TTL:PT1H
BEGIN:VTIMEZONE
TZID:Europe/Rome
BEGIN:DAYLIGHT
TZOFFSETFROM:+0100
TZOFFSETTO:+0200
TZNAME:CEST
DTSTART:20180325T010000
END:DAYLIGHT
BEGIN:STANDARD
TZOFFSETFROM:+0200
TZOFFSETTO:+0100
TZNAME:CET
DTSTART:20181028T010000
END:STANDARD
END:VTIMEZONE
BEGIN:VEVENT
DTSTART;TZID=Europe/Rome:20181214T210000
DTEND;TZID=Europe/Rome:20181214T210000
DTSTAMP:20260419T205845
CREATED:20181212T144332Z
LAST-MODIFIED:20181212T144332Z
UID:4250-1544821200-1544821200@backup.sistemamedcampania.it
SUMMARY:Campania Danza. Incontri 2018 - Ultimo Piano. Déjà Donné
DESCRIPTION:Penultimo appuntamento della rassegna Incontri di Campania Danza.  Sul palco dell’Auditorium del Centro Sociale di Salerno la compagnia Déjà Donné si esibirà in “Ultimo Piano” con le coreografie di Priscilla Pizziol e Giorgia Gasparetto incentrato sul desiderio di rivivere ciò che è stato e ciò che è scivolato via in un attimo. \n  \n  \ninfo: http://www.associazionecampaniadanza.com/
URL:https://backup.sistemamedcampania.it/evento/campania-danza-incontri-2018-ultimo-piano-deja-donne/
LOCATION:Auditorium Centro Sociale di Salerno\, Via Guido Vestuti\, Salerno\, Italia
CATEGORIES:Associazione Campania Danza,Danza,Incontri 2018
ATTACH;FMTTYPE=image/jpeg:https://backup.sistemamedcampania.it/wp-content/uploads/2018/12/Déjà-Donné-ultimo-piano.jpg
END:VEVENT
BEGIN:VEVENT
DTSTART;TZID=Europe/Rome:20181124T210000
DTEND;TZID=Europe/Rome:20181124T210000
DTSTAMP:20260419T205845
CREATED:20181121T140223Z
LAST-MODIFIED:20181121T140501Z
UID:4121-1543093200-1543093200@backup.sistemamedcampania.it
SUMMARY:Campania Danza. Incontri 2018 - Matamorfosi. Borderline Danza
DESCRIPTION:Per il prossimo appuntamento della rassegna Incontri di Campania Danza ospite Borderline Danza in  Metamorfosi la Trasformazione del Conflitto\, ideato da Claudio Malangone  \nLe metamorfosi di Ovidio entrano in una singolare risonanza con la nostra epoca preoccupata dal mito di un cambiamento continuo. Confrontando l’ordine e il caos e immergendosi nell’immaginario fantastico di Ovidio con epoche e spazi diversi\, ci siamo chiesti in che modo queste metamorfosi possono rimandarci ai nostri miti quotidiani. L’approccio a questi miti sarà così per noi occasione di riflessione sulle forze che costituiscono la natura umana\, sulla manifestazione del desiderio\, sull’eterna lotta tra bene e male\, sulle ambiguità legate alle strategie dello sguardo. Evocare un antico altrove per interpretare meglio la nostra contemporaneità. \nProduzione: BorderlineDanza \nDanzatori: Luigi Aruta\, Adriana Cristiano\, Alessandro De Santis\, Antonio Formisano\, Giada Ruoppo\, Nicol Memoli\, Francesca Montesanto. \n  \ninfo: http://www.associazionecampaniadanza.com/
URL:https://backup.sistemamedcampania.it/evento/campania-danza-incontri-2018-matamorfosi-borderline-danza/
LOCATION:Centro Polivalente “Giovani più”\, Via Eroi di Nassirya\, Coperchia di Pellezzano (SA)\, Italia\, 84080
CATEGORIES:Associazione Campania Danza,Borderline Danza,Danza,Incontri 2018
ATTACH;FMTTYPE=image/jpeg:https://backup.sistemamedcampania.it/wp-content/uploads/2018/11/metamorfosi.jpg
END:VEVENT
BEGIN:VEVENT
DTSTART;TZID=Europe/Rome:20181123T103000
DTEND;TZID=Europe/Rome:20181123T170000
DTSTAMP:20260419T205845
CREATED:20181119T143034Z
LAST-MODIFIED:20181119T145407Z
UID:4107-1542969000-1542992400@backup.sistemamedcampania.it
SUMMARY:Campania Danza. Incontri 2018 - Farfalle. TPO
DESCRIPTION:Per il prossimo appuntamento della rassegna Incontri di Campania Danza ci sarà Farfalle un nuovo spettacolo per i piccoli spettatori\, targato TPO e firmato alle coreografie da Anna Balducci e Piero Leccese. \nLa scena\, composta da immagini proiettate su leggerissimi teli\, avvolge gli spettatori e li immerge in un ambiente immaginario e naturale allo stesso tempo: una casina delle farfalle. All’interno di questo spazio i bambini sono invitati ad entrare e giocare con due danzatori per scoprire insieme un fenomeno affascinante come quello della lenta metamorfosi di una crisalide in farfalla. \n  \ninfo: http://www.associazionecampaniadanza.com/ \n 
URL:https://backup.sistemamedcampania.it/evento/campania-danza-incontri-2018-farfalle-tpo/
LOCATION:Centro Polivalente “Giovani più”\, Via Eroi di Nassirya\, Coperchia di Pellezzano (SA)\, Italia\, 84080
CATEGORIES:Associazione Campania Danza,Danza,Incontri 2018
ATTACH;FMTTYPE=image/jpeg:https://backup.sistemamedcampania.it/wp-content/uploads/2018/11/farfalle.jpg
END:VEVENT
BEGIN:VEVENT
DTSTART;TZID=Europe/Rome:20181118T183000
DTEND;TZID=Europe/Rome:20181118T183000
DTSTAMP:20260419T205845
CREATED:20181115T132616Z
LAST-MODIFIED:20181115T132616Z
UID:4065-1542565800-1542565800@backup.sistemamedcampania.it
SUMMARY:Campania Danza. Incontri 2018 - Place Is The Space Live!
DESCRIPTION:Campania Danza torna con la sua rassegna Incontri. Nel prossimo appuntamento il sipario si aprirà sulla compagnia Movimento Danza per offrire agli spettatori il racconto di “Place Is The Space – Live!” con la coregorafia di Gabriella Stazio. Sospesa tra casualità e definizione\, libertà e forma\, contatto e contrasto\, “Place Is The Space – Live!” è una performance pensata per un palcoscenico al chiuso\, ed anche per spazi aperti\, compatta e coinvolgente \, con un uso del corpo e del movimento fuori dagli schemi\, in cui lo spazio è il luogo. \n  \ninfo: http://www.associazionecampaniadanza.com/
URL:https://backup.sistemamedcampania.it/evento/campania-danza-incontri-2018-place-is-the-space-live/
LOCATION:Teatro Leo De Berardinis\, via Badolato\, Vallo Della Lucania (SA)
CATEGORIES:Associazione Campania Danza,Danza,Incontri 2018,Movimento Danza
ATTACH;FMTTYPE=image/jpeg:https://backup.sistemamedcampania.it/wp-content/uploads/2018/11/Place-Is-The-Space.jpg
END:VEVENT
BEGIN:VEVENT
DTSTART;TZID=Europe/Rome:20181117T103000
DTEND;TZID=Europe/Rome:20181117T170000
DTSTAMP:20260419T205845
CREATED:20181114T145437Z
LAST-MODIFIED:20181114T145448Z
UID:4054-1542450600-1542474000@backup.sistemamedcampania.it
SUMMARY:Campania Danza. Incontri 2018 - Il Brutto Anatroccolo
DESCRIPTION:Campania Danza torna con la sua rassegna Incontri. Nel prossimo appuntamento ancora un momento per i più piccoli: Ex Orto  presenta Il Brutto Anatroccolo\, uno spettacolo di parola\, danza e musica liberamente tratto dalla favola di Hans Christian Andersen. \ncoreografia Piero Leccese \n  \ninfo: http://www.associazionecampaniadanza.com/
URL:https://backup.sistemamedcampania.it/evento/campania-danza-incontri-2018-brutto-anatroccolo/
LOCATION:Teatro Leo De Berardinis\, via Badolato\, Vallo Della Lucania (SA)
CATEGORIES:Associazione Campania Danza,Danza,Incontri 2018
ATTACH;FMTTYPE=image/jpeg:https://backup.sistemamedcampania.it/wp-content/uploads/2018/11/brutto-anatroccolo.jpg
END:VEVENT
BEGIN:VEVENT
DTSTART;TZID=Europe/Rome:20181116T210000
DTEND;TZID=Europe/Rome:20181116T210000
DTSTAMP:20260419T205845
CREATED:20181114T145042Z
LAST-MODIFIED:20181116T114401Z
UID:4050-1542402000-1542402000@backup.sistemamedcampania.it
SUMMARY:Campania Danza. Incontri 2018 - L’isola Magica
DESCRIPTION:Campania Danza torna con la sua rassegna Incontri. Nel prossimo appuntamento “Incontri” si sposterà a Vallo della Lucania con una doppia dello spettacolo L’isola Magica della compagnia Resextensa e la coreografia di Elisa Barucchieri che rientra nella sezione “Kids”. L’Isola Magica- Shakespeare in Dream intreccia i versi del grande poeta drammaturgo con un testo originale\, intrecciato in doppia lingua con le parole stesse del grande bardo. È un viaggio attraverso le varie opere shakespeariane\, con un occhio particolare ad un aspetto poco affrontato ma fondamentale in tutta l’esistenza umana: il rapporto con il mistero per comprendere l’essenza umana. \n  \ninfo: http://www.associazionecampaniadanza.com/ \n 
URL:https://backup.sistemamedcampania.it/evento/campania-danza-incontri-2018/
LOCATION:Teatro Leo De Berardinis\, via Badolato\, Vallo Della Lucania (SA)
CATEGORIES:Associazione Campania Danza,Danza,Incontri 2018
ATTACH;FMTTYPE=image/jpeg:https://backup.sistemamedcampania.it/wp-content/uploads/2018/11/Resextensa.jpg
END:VEVENT
BEGIN:VEVENT
DTSTART;TZID=Europe/Rome:20181027T180000
DTEND;TZID=Europe/Rome:20181027T180000
DTSTAMP:20260419T205845
CREATED:20181015T133716Z
LAST-MODIFIED:20181015T133716Z
UID:3924-1540663200-1540663200@backup.sistemamedcampania.it
SUMMARY:Campania Danza. Incontri 2018 - "Miramirò"\, Baal Dansa
DESCRIPTION:Campania Danza torna con la sua rassegna Incontri; prossimo appuntamento con la sezione “Kids”. Ospite\, la compagnia spagnola Baal Dansa con “Miramirò”\, uno spettacolo di danza e animazione video per i più piccoli\, nato dall’universo di Joan Miro; la coreografia è di Catalina Carrasco e Gaspar Morey. \n  \n  \ninfo: http://www.associazionecampaniadanza.com/
URL:https://backup.sistemamedcampania.it/evento/campania-danza-incontri-2018-miramiro-baal-dansa/
LOCATION:Auditorium Centro Sociale di Salerno\, Via Guido Vestuti\, Salerno\, Italia
CATEGORIES:Associazione Campania Danza,Danza,Incontri 2018
ATTACH;FMTTYPE=image/jpeg:https://backup.sistemamedcampania.it/wp-content/uploads/2018/10/baal-dansa.jpg
END:VEVENT
BEGIN:VEVENT
DTSTART;TZID=Europe/Rome:20181026T103000
DTEND;TZID=Europe/Rome:20181026T103000
DTSTAMP:20260419T205845
CREATED:20181015T133008Z
LAST-MODIFIED:20181015T133008Z
UID:3920-1540549800-1540549800@backup.sistemamedcampania.it
SUMMARY:Campania Danza. Incontri 2018 - "E.sperimenti dance craft”\, Esperimenti Dance Company
DESCRIPTION:Campania Danza torna con la sua rassegna Incontri; prossimo appuntamento con Esperimenti Dance Company in E.sperimenti dance craft. \nLe coreografie sono di Federica Galimberti\, Mattia de Virgiliis e Francesco di Luzio. In questo spettacolo la protagonista è la musica\, lirica in “HOPERA” e leggera in “Per…Inciso”; quasi un tracciato al cui interno è disegnata la storia dell’uomo e da qui  ha inizio la ricerca della sua bellezza. \n  \ninfo: http://www.associazionecampaniadanza.com/ \n 
URL:https://backup.sistemamedcampania.it/evento/campania-danza-incontri-2018-e-sperimenti-dance-craft-esperimenti-dance-company/
LOCATION:Auditorium Centro Sociale di Salerno\, Via Guido Vestuti\, Salerno\, Italia
CATEGORIES:Associazione Campania Danza,Danza,Incontri 2018
ATTACH;FMTTYPE=image/jpeg:https://backup.sistemamedcampania.it/wp-content/uploads/2018/10/Esperimenti-Dance-Company.jpg
END:VEVENT
BEGIN:VEVENT
DTSTART;TZID=Europe/Rome:20181013T210000
DTEND;TZID=Europe/Rome:20181013T210000
DTSTAMP:20260419T205845
CREATED:20181010T100155Z
LAST-MODIFIED:20181010T100155Z
UID:3884-1539464400-1539464400@backup.sistemamedcampania.it
SUMMARY:Campania Danza. Incontri 2018 - Siuk\, ArtGarage
DESCRIPTION:Campania Danza torna con la sua rassegna Incontri; per il quinto appuntamento Artgarage presenta Siuk\, la coreografia è di Francesco Vecchione. In uno spazio non definito cinque personaggi mettono a nudo momenti della loro storia d’amore\, in un tira e molla di giochi ed emozioni. \n  \n  \ninfo: \nhttp://www.associazionecampaniadanza.com/
URL:https://backup.sistemamedcampania.it/evento/campania-danza-incontri-2018-siuk-artgarage/
LOCATION:Auditorium Centro Sociale di Salerno\, Via Guido Vestuti\, Salerno\, Italia
CATEGORIES:Art Garage,Associazione Campania Danza,Danza,Incontri 2018
ATTACH;FMTTYPE=image/jpeg:https://backup.sistemamedcampania.it/wp-content/uploads/2018/10/siuk.jpg
END:VEVENT
BEGIN:VEVENT
DTSTART;TZID=Europe/Rome:20181012T210000
DTEND;TZID=Europe/Rome:20181012T210000
DTSTAMP:20260419T205845
CREATED:20181010T100155Z
LAST-MODIFIED:20181010T100155Z
UID:3880-1539378000-1539378000@backup.sistemamedcampania.it
SUMMARY:Campania Danza. Incontri 2018 - Crossover\, Gruppo e-Motion
DESCRIPTION:Campania Danza torna con la sua rassegna Incontri;  quarto spettacolo in cartellone è Crossover del Gruppo e-Motion  per la coreografia e la regia di Manolo Perazzi. \nL’autore affida alla parola inglese crossover lo stato emotivo e fisico della sua danza. Questo lavoro cattura l’uomo sospeso tra il reale e l’immaginario\, tra istinto e razionalità\, impulsi e freni\, guidato da un’energia che non s’interrompe anche quando sembrerebbe accennare ad un’involuzione\, ad un arresto. \ninfo: \nhttp://www.associazionecampaniadanza.com/
URL:https://backup.sistemamedcampania.it/evento/campania-danza-incontri-2018-crossover-gruppo-e-motion/
LOCATION:Auditorium Centro Sociale di Salerno\, Via Guido Vestuti\, Salerno\, Italia
CATEGORIES:Associazione Campania Danza,Danza,Incontri 2018
ATTACH;FMTTYPE=image/jpeg:https://backup.sistemamedcampania.it/wp-content/uploads/2018/10/crossover-gruppo-e-Motion.jpg
END:VEVENT
END:VCALENDAR