BEGIN:VCALENDAR
VERSION:2.0
PRODID:-//Sistema Med Campania - ECPv6.7.0//NONSGML v1.0//EN
CALSCALE:GREGORIAN
METHOD:PUBLISH
X-ORIGINAL-URL:https://backup.sistemamedcampania.it
X-WR-CALDESC:Eventi per Sistema Med Campania
REFRESH-INTERVAL;VALUE=DURATION:PT1H
X-Robots-Tag:noindex
X-PUBLISHED-TTL:PT1H
BEGIN:VTIMEZONE
TZID:Europe/Rome
BEGIN:DAYLIGHT
TZOFFSETFROM:+0100
TZOFFSETTO:+0200
TZNAME:CEST
DTSTART:20190331T010000
END:DAYLIGHT
BEGIN:STANDARD
TZOFFSETFROM:+0200
TZOFFSETTO:+0100
TZNAME:CET
DTSTART:20191027T010000
END:STANDARD
END:VTIMEZONE
BEGIN:VEVENT
DTSTART;TZID=Europe/Rome:20191114T103000
DTEND;TZID=Europe/Rome:20191114T113000
DTSTAMP:20260419T223336
CREATED:20191111T122234Z
LAST-MODIFIED:20191111T122234Z
UID:5041-1573727400-1573731000@backup.sistemamedcampania.it
SUMMARY:Campania Danza. Incontri 2019 - La Casa del Panda. TPO
DESCRIPTION:Il prossimo appuntamento con la rassegna Incontri dell’ Associazione Campania Danza è con la compagnia TPO in “La Casa del Panda“. \nA passi di danza\, seguiamo un Panda… la sua “casa” è in una foresta grande quanto tutta la Cina.\nIn questo viaggio immaginario ci addentreremo nelle storie\, nella tradizione\, nella cultura della Cina.\nIncontreremo foreste di bambù\, mostri\, fuochi d’artificio\, aquiloni. Capiremo in modo semplice e intuitivo come\, nel pensiero cinese\, gli elementi della natura siano in relazione tra di loro secondo un andamento circolare. E’ la teoria dei “Cinque Elementi” (WU XING)\, dove ciascun elemento si trasforma e genera il successivo: legno – fuoco – terra – metallo – acqua.\nI “Cinque Elementi” sono quindi la traccia seguita dai due danzatori per coinvolgere i bambini in un viaggio\, nel tempo e nello spazio\, attraverso la Cina e i suoi paesaggi fatti di natura\, cultura antica\, tradizioni\, canzoni.\nIn scena le immagini ed i suoni avvolgono i piccoli spettatori in ambienti colorati e interattivi\, in piacevoli giochi di gruppo insieme ai danzatori\, rendendo questa esperienza di viaggio unica e immersiva. \n  \ninfo: http://www.associazionecampaniadanza.com/
URL:https://backup.sistemamedcampania.it/evento/campania-danza-incontri-2019-la-casa-del-panda-tpo/
LOCATION:Teatro Leo De Berardinis\, via Badolato\, Vallo Della Lucania (SA)
CATEGORIES:Associazione Campania Danza,Danza,Incontri 2019
ATTACH;FMTTYPE=image/jpeg:https://backup.sistemamedcampania.it/wp-content/uploads/2019/11/la-casa-del-panda.jpg
END:VEVENT
BEGIN:VEVENT
DTSTART;TZID=Europe/Rome:20191109T210000
DTEND;TZID=Europe/Rome:20191109T210000
DTSTAMP:20260419T223336
CREATED:20191028T114244Z
LAST-MODIFIED:20191028T114244Z
UID:4985-1573333200-1573333200@backup.sistemamedcampania.it
SUMMARY:Campania Danza. Incontri 2019-Re-Born
DESCRIPTION:Per la rassegna “Incontri” dell’ Associazione Campania Danza\, negli spazi del Centro Polivalente “Giovani più” di Pellezzano\, l’ARB Dance Company presenta “Re-Born”. \nLa coreografia di Martina Fasano racconta la vita di Francesco\, il protagonista\, giovane pittore e musicista\, e di chi lo ama. “Sarà un lungo testa a testa tra Francesco\, con i suoi quadri\, le sue canzoni\, e la morte; colori e musica che combattono con il buio e con il silenzio. Nel limbo del coma affioreranno ricordi ed echi di un passato felice: la famiglia\, l’esperienza come volontario in Africa\, la fede”. \nCoreografie: Martina Fasano\nScenografie: Francesco Leone\nDanzatori: Luigi d’Aiello\, Martina Fasano\, Katia Marocco\, Emanuela Rossitti \n  \n  \ninfo: https://www.associazionecampaniadanza.com/
URL:https://backup.sistemamedcampania.it/evento/campania-danza-incontri-2019-re-born/
LOCATION:Centro Polivalente “Giovani più”\, Via Eroi di Nassirya\, Coperchia di Pellezzano (SA)\, Italia\, 84080
CATEGORIES:Arabesque,Associazione Campania Danza,Danza,Incontri 2019
ATTACH;FMTTYPE=image/jpeg:https://backup.sistemamedcampania.it/wp-content/uploads/2019/10/re-born.jpg
END:VEVENT
BEGIN:VEVENT
DTSTART;TZID=Europe/Rome:20191025T103000
DTEND;TZID=Europe/Rome:20191025T170000
DTSTAMP:20260419T223336
CREATED:20191021T101836Z
LAST-MODIFIED:20191021T101925Z
UID:4949-1571999400-1572022800@backup.sistemamedcampania.it
SUMMARY:Campania Danza. Incontri 2019-I always have a handkerchief in my pocket. Albanian Dance Theater
DESCRIPTION:Il prossimo appuntamento della rassegna “Incontri” dell’ Associazione Campania Danza vedrà protagonista la Albanian Dance Theater Company.\n\n\n\n\n\nNelle danze tradizionali albanesi\, i fazzoletti turbinano sopra la testa dei ballerini.  La coreografia di Gjergj Prevazi\, ispirato a Hertha Müller\, esplora attraverso questo oggetto il rapporto tra una giovane generazione e i loro ricordi. Seta e carta\, musica tradizionale ed elettronica\, danza popolare e contemporanea\, si fondono con le domande di una giovane generazione alla ricerca della propria identità.\n \n\n\n\n\nProgetto e coreografia\,  Gjergj Prevazi \nPerformers\, Rosella Pellicciotti\, Fjorald Doci\, Elton Cefa\, Semela Skënderasi\, Paola Hoxha \nProduzione Albanian Dance Theater Company con il supporto del Goethe Zentrum Tirana \n\n\n  \n\n\n\n\n\ninfo: https://www.associazionecampaniadanza.com/
URL:https://backup.sistemamedcampania.it/evento/campania-danza-incontri-2019-i-always-have-a-handkerchief-in-my-pocket-albanian-dance-theater/
LOCATION:Auditorium Centro Sociale di Salerno\, Via Guido Vestuti\, Salerno\, Italia
CATEGORIES:Associazione Campania Danza,Danza,Incontri 2019
ATTACH;FMTTYPE=image/jpeg:https://backup.sistemamedcampania.it/wp-content/uploads/2019/10/i-always-have-a-handkerchief-in-my-pocket.jpg
END:VEVENT
BEGIN:VEVENT
DTSTART;TZID=Europe/Rome:20190929T190000
DTEND;TZID=Europe/Rome:20190929T190000
DTSTAMP:20260419T223336
CREATED:20190924T132253Z
LAST-MODIFIED:20190924T132253Z
UID:4902-1569783600-1569783600@backup.sistemamedcampania.it
SUMMARY:Campania Danza. Incontri 2019- Collective Trip.Borderline Danza
DESCRIPTION:Ritorna la rassegna di danza contemporanea “Incontri” realizzata dall’ Associazione Campania Danza.  \nProtagonisti del prossimo appuntamento la compagnia Borderline Danza\, in Collective Trip una coreografia di Claudio Malangone  \n  \n  \ninfo: https://www.associazionecampaniadanza.com/
URL:https://backup.sistemamedcampania.it/evento/campania-danza-incontri-2019-collective-trip-borderline-danza/
LOCATION:Teatro Sala Pasolini\, Lungomare Trieste\, 13\, Salerno\, Italia
CATEGORIES:Associazione Campania Danza,Borderline Danza,Danza,Incontri 2019
ATTACH;FMTTYPE=image/jpeg:https://backup.sistemamedcampania.it/wp-content/uploads/2019/09/collective-trip-campaniadanza.jpg
END:VEVENT
BEGIN:VEVENT
DTSTART;TZID=Europe/Rome:20190928T210000
DTEND;TZID=Europe/Rome:20190928T210000
DTSTAMP:20260419T223336
CREATED:20190913T120018Z
LAST-MODIFIED:20190913T120018Z
UID:4884-1569704400-1569704400@backup.sistemamedcampania.it
SUMMARY:Campania Danza. Incontri 2019- Tre/14\, Dèjà Donnè\,
DESCRIPTION:Ritorna la rassegna di danza contemporanea “Incontri” realizzata dall’ Associazione Campania Danza.  \nIl prossimo appuntamento vedrà impegnata la compagnia Dèjà Donnè\, in Tre/14 una coreografia di  Virginia Spallarossa \n  \n  \ninfo: https://www.associazionecampaniadanza.com/
URL:https://backup.sistemamedcampania.it/evento/campania-danza-incontri-2019-tre14-deja-donne/
LOCATION:Teatro Sala Pasolini\, Lungomare Trieste\, 13\, Salerno\, Italia
CATEGORIES:Associazione Campania Danza,Danza,Incontri 2019
ATTACH;FMTTYPE=image/jpeg:https://backup.sistemamedcampania.it/wp-content/uploads/2019/09/dèjà-donnè.jpg
END:VEVENT
BEGIN:VEVENT
DTSTART;TZID=Europe/Rome:20190927T210000
DTEND;TZID=Europe/Rome:20190927T210000
DTSTAMP:20260419T223336
CREATED:20190913T115731Z
LAST-MODIFIED:20190913T120055Z
UID:4881-1569618000-1569618000@backup.sistemamedcampania.it
SUMMARY:Campania Danza. Incontri 2019-Romanza\, Trittico dell'intimità. Cie Twain
DESCRIPTION:Ritorna la rassegna di danza contemporanea “Incontri” realizzata dall’Associazione Campania Danza.  \nSecondo appuntamento con la Compagnia Cie Twain e la coreografia di Loredana Parrella “Romanza\, Trittico dell’intimità”. \n  \ninfo: https://www.associazionecampaniadanza.com/
URL:https://backup.sistemamedcampania.it/evento/4881/
LOCATION:Teatro Sala Pasolini\, Lungomare Trieste\, 13\, Salerno\, Italia
CATEGORIES:Associazione Campania Danza,Danza,Incontri 2019
ATTACH;FMTTYPE=image/jpeg:https://backup.sistemamedcampania.it/wp-content/uploads/2019/09/romanza.jpg
END:VEVENT
BEGIN:VEVENT
DTSTART;TZID=Europe/Rome:20190914T210000
DTEND;TZID=Europe/Rome:20190914T210000
DTSTAMP:20260419T223336
CREATED:20190913T115139Z
LAST-MODIFIED:20190913T115139Z
UID:4879-1568494800-1568494800@backup.sistemamedcampania.it
SUMMARY:Campania Danza. Incontri 2019-Erodiade.Resextensa
DESCRIPTION:Ritorna la rassegna di danza contemporanea “Incontri” realizzata dall’Associazione Campania Danza.  \nPrimo dei 15 appuntamenti\, Erodiade una coreografia di Elisa Barucchieri con la compagnia Resextensa. \n  \n  \ninfo: https://www.associazionecampaniadanza.com/
URL:https://backup.sistemamedcampania.it/evento/campania-danza-incontri-2019-erodiade-resextensa/
LOCATION:Teatro Sala Pasolini\, Lungomare Trieste\, 13\, Salerno\, Italia
CATEGORIES:Associazione Campania Danza,Danza,Incontri 2019
ATTACH;FMTTYPE=image/jpeg:https://backup.sistemamedcampania.it/wp-content/uploads/2019/09/erodiade.jpg
END:VEVENT
END:VCALENDAR