BEGIN:VCALENDAR
VERSION:2.0
PRODID:-//Sistema Med Campania - ECPv6.7.0//NONSGML v1.0//EN
CALSCALE:GREGORIAN
METHOD:PUBLISH
X-WR-CALNAME:Sistema Med Campania
X-ORIGINAL-URL:https://backup.sistemamedcampania.it
X-WR-CALDESC:Eventi per Sistema Med Campania
REFRESH-INTERVAL;VALUE=DURATION:PT1H
X-Robots-Tag:noindex
X-PUBLISHED-TTL:PT1H
BEGIN:VTIMEZONE
TZID:Europe/Rome
BEGIN:DAYLIGHT
TZOFFSETFROM:+0100
TZOFFSETTO:+0200
TZNAME:CEST
DTSTART:20210328T010000
END:DAYLIGHT
BEGIN:STANDARD
TZOFFSETFROM:+0200
TZOFFSETTO:+0100
TZNAME:CET
DTSTART:20211031T010000
END:STANDARD
END:VTIMEZONE
BEGIN:VEVENT
DTSTART;TZID=Europe/Rome:20211124T210000
DTEND;TZID=Europe/Rome:20211124T210000
DTSTAMP:20260423T063042
CREATED:20211111T153709Z
LAST-MODIFIED:20211111T153714Z
UID:6840-1637787600-1637787600@backup.sistemamedcampania.it
SUMMARY:Associazione Campania Danza. Incontri 2021-La Conoscenza della non conoscenza 09
DESCRIPTION:La compagnia AB Dance Research sarà ospite del prossimo appuntamento della rassegna “Incontri” dell’ Associazione Campania Danza. \nAdriana Borriello presenta “La Conoscenza della non conoscenza 09”:  nell’alternanza tra verbo e corpo\, scivolando\, saltellando\, rimbalzando continuamente dalla parola al movimento – e viceversa – e dalla descrizione letterale all’evocazione poetica\, si dipana il filo del discorso. Voglio condurvi così dentro al mio lavoro\, nelle mie pratiche e nelle questioni che le muovono\, ne derivano e le identificano. Voglio mostrarvi gli strumenti – quelli fondamentali\, almeno – con cui mi piace giocare quando creo\, gli stessi che metto a disposizione degli altri quando insegno. Qui\, per la prima volta in trio in compagnia di Donatella Morrone e Ilenia Romano\, condividiamo il nostro gioco con voi\, esplicitando le sue regole e i suoi strumenti. Ma il gioco si rivela nell’attuazione\, ogni volta uguale e ogni volta diverso\, ogni volta nuovo\, oltre e dentro le norme che lo regolano. \n  \nA cura di Adriana Borriello \nCon Adriana Borriello\, Donatella Morrone e Ilenia Romano \nProduzione AB Dance Research \n  \nPer info e prenotazioni: \nwww.postoriservato.it – campaniadanza@tiscali.it  – 3289079642
URL:https://backup.sistemamedcampania.it/evento/associazione-campania-danza-incontri-2021-la-conoscenza-della-non-conoscenza-09/
LOCATION:Teatro Ghirelli\, Viale Antonio Gramsci\, Salerno\, 84126\, Italia
CATEGORIES:Associazione Campania Danza,Danza,Incontri 2021
ATTACH;FMTTYPE=image/jpeg:https://backup.sistemamedcampania.it/wp-content/uploads/2021/11/borriello-copia.jpg
END:VEVENT
BEGIN:VEVENT
DTSTART;TZID=Europe/Rome:20211117T210000
DTEND;TZID=Europe/Rome:20211117T210000
DTSTAMP:20260423T063042
CREATED:20211111T153643Z
LAST-MODIFIED:20211111T153643Z
UID:6835-1637182800-1637182800@backup.sistemamedcampania.it
SUMMARY:Associazione Campania Danza. Incontri 2021-A peso morto
DESCRIPTION:Il prossimo appuntamento di “Incontri” la rassegna di danza contemporanea realizzata dall’ Associazione Campania Danza\, è con la compagnia C&C e la creazione site specific di Carlo Massari  “A peso morto”\n \nUna performance graffiante\, una sorta di fotogramma di una periferia senza tempo e identità. I protagonisti sono comparse passive di una città che non riconoscono\, di una periferia voluta\, desiderata\, ma sottratta a morsi nell’inutile e alquanto misteriosa nuova definizione di “Città Metropolitana”\, che significa tutto e il suo contrario e che sprofonda nell’oblio… La città si “evolve”\, si espande\, dimenticandosi degli individui che hanno abitato le zone più marginali connotandole con i loro stessi tratti distintivi\, con i dialetti\, con le proprie memorie\, le proprie rugosità. Corpi una volta protagonisti\, ora pronti al crollo. Un microcosmo statico\, stantio\, rigonfio di vuotezza. La performance è uno studio open air sul vuoto della memoria perduta\, sull’oblio delle cose andate. Che cosa resta? Corpi esanimi di eroi\, re\, caduti in disgrazia\, malinconici e sognanti\, in attesa di qualcuno che si accorga di loro ancora una volta. A peso morto rappresenta la pietas contemporanea con una fisicità che alterna lunghi momenti di staticità a improvvisi cedimenti\, dinamiche e antidinamiche\, distorsioni\, disadattamento\, sviluppando una profonda indagine sui cambiamenti e le dinamiche sociali. \n  \n​Di e con Carlo Massari \n​Maschere Lee Ellis \nProduzione C&C \n​ \n  \nPer info e prenotazioni: \nwww.postoriservato.it – campaniadanza@tiscali.it  – 3289079642 \n​ \n 
URL:https://backup.sistemamedcampania.it/evento/associazione-campania-danza-incontri-2021-a-peso-morto/
LOCATION:Teatro Ghirelli\, Viale Antonio Gramsci\, Salerno\, 84126\, Italia
CATEGORIES:Associazione Campania Danza,Danza,Incontri 2021
ATTACH;FMTTYPE=image/jpeg:https://backup.sistemamedcampania.it/wp-content/uploads/2021/11/a-peso-morto.jpg
END:VEVENT
BEGIN:VEVENT
DTSTART;TZID=Europe/Rome:20211117T210000
DTEND;TZID=Europe/Rome:20211117T210000
DTSTAMP:20260423T063042
CREATED:20211111T124803Z
LAST-MODIFIED:20211111T124803Z
UID:6838-1637182800-1637182800@backup.sistemamedcampania.it
SUMMARY:Associazione Campania Danza. Incontri 2021 -Polvere: minutissime particelle incoerenti
DESCRIPTION:Per la rassegna “Incontri” dell’ Associazione Campania Danza andrà in scena “Polvere: minutissime particelle incoerenti“\, la nuova coreografia di Gabriella Stazio per la Compagnia Movimento Danza;  un assolo interpretato da Sonia Di Gennaro\, con il sound design di Francesco Giangrande. \nL’incoerenza\, la mancata coesione delle particelle di un corpo\, di una sostanza\, può avere i suoi lati positivi. Come il potersi insinuare ovunque\, di volare almeno per un po’ e poi di depositarsi\, penetrare nuovamente in altri luoghi o nello stesso posto\, di essere quasi invisibile\, almeno all’inizio. Pensi di averla mandata via? (l’incoerenza)\, ma non è così. Ritorna.\nUn corpo coerente non può comportarsi allo steso modo\, perché le particelle si aggregano\, si consolidano\, diventano materia e sei fregato.\nDevi iniziare a pensare al peso\, alla dinamica\, alla forza\, alla qualità\, insomma un sacco di cose.\nE oggi ti chiedi: ne vale la pena?\nAnche l’incoerenza di pensiero è una bella qualità.\nPuoi fare un po’ quello che ti pare\, negando quello che hai appena affermato\, senza una logica\, senza una etica\, senza un preciso perché. Infatti il pensiero incoerente mi sembra stia avendo un bel successo ultimamente.\nNel caso in cui le particelle di incoerenza sono minutissime come la polvere\, e non la vedi quasi (eppure c’è)\, ti chiedi addirittura se sia il caso di spolverare\, tanto non si vede\, tanto poi si riforma. Tanto non ne vale la pena.\nOgnuno di noi avrà avuto un minutissimo momento di polvere di incoerenza nella vita. Ognuno di noi dovrebbe conservare (nella polvere) un pensiero incoerente\, come un ancora di salvezza.\nQuesto è il mio. \n(“Levare la polvere” è una azione già presente in una mia precedente coreografia del 2000 “Entrate…a vostro rischio”. Quella unica azione estrapolata da tutto il contesto precedente\, diviene oggi una nuova coreografia. Si vede che non l’avevo levata bene\, la polvere) \nGabriella Stazio \nCoreografia Gabriella Stazio\nDanza Sonia Di Gennaro\nSound Design Francesco Giangrande\nLuci Alessandro Messina\nMusiche di Yann Tiersen\, Morgan\, F.Buscaglione\, Jimmy Fontana\, Massimo Ranieri\, Patty Pravo\, Rino Gaetano\nProduzione Movimento Danza\, Ministero della Cultura\, Regione Campania \n  \n  \nPer info e prenotazioni: \nwww.postoriservato.it – campaniadanza@tiscali.it  – 3289079642
URL:https://backup.sistemamedcampania.it/evento/associazione-campania-danza-incontri-2021-polvere-minutissime-particelle-incoerenti/
LOCATION:Teatro Ghirelli\, Viale Antonio Gramsci\, Salerno\, 84126\, Italia
CATEGORIES:Associazione Campania Danza,Danza,Incontri 2021
ATTACH;FMTTYPE=image/jpeg:https://backup.sistemamedcampania.it/wp-content/uploads/2021/11/polvere.jpg
END:VEVENT
BEGIN:VEVENT
DTSTART;TZID=Europe/Rome:20211107T183000
DTEND;TZID=Europe/Rome:20211107T183000
DTSTAMP:20260423T063042
CREATED:20211028T111205Z
LAST-MODIFIED:20211028T111205Z
UID:6793-1636309800-1636309800@backup.sistemamedcampania.it
SUMMARY:Associazione Campania Danza. Incontri 2021 - Orlando
DESCRIPTION:“Incontri” la rassegna di danza contemporanea realizzata dall’ Associazione Campania Danza prosegue con una  proposta di Teatri Sospesi “Orlando”  un grande classico rivisitato con gli sguardi incrociati del teatro\, la musica e la danza.  La direzione del progetto e la coreografia sono di Serena Bergamasco che insieme a Carlo Roselli ha curato la regia. \nAd aprire l’azione del testo è un atto di sovversione: una donna\, messa al palio\, fugge rompendo gli equilibri di un’intera società e di chi la abita\, ma la perdita dell’equilibrio può condurre ad un passo in avanti o a infrangersi in un crollo. È su questo gioco di equilibrio e di fatalità che si sviluppa l’azione scenica. La perdita e il recupero\, la crisi e la rinascita\, la letteratura e il vissuto\, il passato e il presente sono esplorati e animati da suoni e da corpi che danno forma\, dimensione\, consistenza allo spazio: non il castello di Atlante\, ma una casa nel bosco. Un filo ci conduce attraverso questa dimensione\, a reggere il capo di questo filo c’è una donna che non potrà sottrarsi dal fare i conti con la presenza silenziosa\, ma mai passiva del Caso. \n  \nCrediti: \nIn scena  Enzo Capasso\, Antonetta Capriglione\, Marica Cordella\, Francesca Fiore\, Nicol Memoli\, Maria Celentano\, Mara Fiore\, Claudia Marchese\, Carmen Prisco e Raffaela Sorvillo. \nMusica dal vivo dell’Hartmann Trio – Daniele Apicella\, Gabriele Pagliano e Carlo Roselli \n  \nPer info e prenotazioni:  \nwww.postoriservato.it – campaniadanza@tiscali.it  – 3289079642
URL:https://backup.sistemamedcampania.it/evento/associazione-campania-danza-incontri-2021-orlando/
LOCATION:Teatro Sala Pasolini\, Lungomare Trieste\, 13\, Salerno\, Italia
CATEGORIES:Associazione Campania Danza,Danza,Incontri 2021
ATTACH;FMTTYPE=image/jpeg:https://backup.sistemamedcampania.it/wp-content/uploads/2021/10/orlando.jpg
END:VEVENT
BEGIN:VEVENT
DTSTART;TZID=Europe/Rome:20211106T210000
DTEND;TZID=Europe/Rome:20211106T210000
DTSTAMP:20260423T063042
CREATED:20211028T152913Z
LAST-MODIFIED:20211028T152913Z
UID:6796-1636232400-1636232400@backup.sistemamedcampania.it
SUMMARY:Associazione Campania Danza. Incontri 2021 - Elegia delle cose perdute
DESCRIPTION:Il prossimo appuntamento con “Incontri” la rassegna di danza contemporanea realizzata dall’ Associazione Campania Danza è con il progetto multimediale Elegìa delle cose perdute della Compagnia Zerogrammi diretta da Stefano Mazzotta\, nel quale prendono forma un mediometraggio\, una mostra fotografica e una danza.  \nElegia delle cose perdute\, ispirata al romanzo I Poveri dello scrittore portoghese Raul Brandao\, esplora la separazione dell’essere umano dalle proprie radici e dalla propria identità e il sentimento di esilio non solo geografico ma anche morale che ne scaturisce. Personaggi come anime misere\, accomunati dai medesimi sentimenti di straniamento raccontati attraverso una danza che è vertigine e abbandono\, che ha la forma della nostalgia e della ricerca e dei paesaggi che vengono attraversati\, ma anche della speranza e del riscatto di chi non ha più niente da perdere. \n  \nCrediti: \nRegia\, coreografia e soggetto Stefano Mazzotta \nCo.creatori e performer Amina Amici\, Gabriel Beddoes\, Damien Camunez\, Miriam Cinieri\, Manuel Martin\, Riccardo Micheletti and Alessio Rundeddu \nCollaborazione alla drammaturgia Fabio Chiriatti e Anthony Mathieu  \nUna riscrittura da Os Pobres by Raul Brandão \nProduzione Zerogrammi \nCoproduzione Festival Danza Estate – Bergamo\, La meme balle – Avignon and La Nave del Duende – Caceres  \n  \n  \nPer info e prenotazioni:  \nwww.postoriservato.it – campaniadanza@tiscali.it  – 3289079642
URL:https://backup.sistemamedcampania.it/evento/associazione-campania-danza-incontri-2021-elegia-delle-cose-perdute/
LOCATION:Teatro Sala Pasolini\, Lungomare Trieste\, 13\, Salerno\, Italia
CATEGORIES:Associazione Campania Danza,Danza,Incontri 2021
ATTACH;FMTTYPE=image/jpeg:https://backup.sistemamedcampania.it/wp-content/uploads/2021/10/elegia.jpg
END:VEVENT
BEGIN:VEVENT
DTSTART;TZID=Europe/Rome:20211017T183000
DTEND;TZID=Europe/Rome:20211017T183000
DTSTAMP:20260423T063042
CREATED:20211011T111325Z
LAST-MODIFIED:20211011T111325Z
UID:6703-1634495400-1634495400@backup.sistemamedcampania.it
SUMMARY:Associazione Campania Danza. Incontri 2021 -Bleu!
DESCRIPTION:Il prossimo appuntamento di Incontri” la rassegna di danza contemporanea realizzata dall’ Associazione Campania Danza\, è con la Compagnia TPO con la coreografia di Anna Balducci\, “Bleu!” \nAttingendo alla mitologia classica e alle storie che il Mediterraneo porta in sé\, Bleu! narra dell’incontro tra due figure: un marinaio e una entità magica e misteriosa\, una ninfa del mare.\nTutto comincia nel momento in cui “Lei” lascia cadere nel mare una perla affinché “Lui” la ritrovi. Il marinaio dovrà percorrere un viaggio avventuroso\, solcando le acque del mare e immergersi in abissi profondi\, trasformando la nostra storia in un percorso di scoperte e conoscenza. \nCrediti:\nCompagnia TPO in co-produzione con TEATRO METASTASIO DI PRATO \n\nartistic direction Francesco Gandi\, Davide Venturini\nchoreography Anna Balducci\nvisual design Elsa Mersi\nsound design Spartaco Cortesi\ncomputer engineering Rossano Monti\, Martin Von Günten\ncostumes Fiamma Ciotti Farulli\nprops Livia Cortesi\n\n  \n  \nPer info e prenotazioni:  \nwww.postoriservato.it – campaniadanza@tiscali.it  – 3289079642
URL:https://backup.sistemamedcampania.it/evento/associazione-campania-danza-incontri-2021-bleu/
LOCATION:Teatro Sala Pasolini\, Lungomare Trieste\, 13\, Salerno\, Italia
CATEGORIES:Associazione Campania Danza,Danza,Incontri 2021
ATTACH;FMTTYPE=image/jpeg:https://backup.sistemamedcampania.it/wp-content/uploads/2021/10/bleu.jpg
END:VEVENT
BEGIN:VEVENT
DTSTART;TZID=Europe/Rome:20211016T210000
DTEND;TZID=Europe/Rome:20211016T210000
DTSTAMP:20260423T063042
CREATED:20211011T112807Z
LAST-MODIFIED:20211011T112807Z
UID:6706-1634418000-1634418000@backup.sistemamedcampania.it
SUMMARY:Associazione Campania Danza. Incontri 2021  - Romeo e Giulietta
DESCRIPTION:“Incontri” la rassegna di danza contemporanea realizzata dall’ Associazione Campania Danza prosegue con “Romeo e Giulietta” della Compagnia Zappalà \nDopo la festa/compleanno del quarto di secolo e gli ultimi anni ricchi dintensa produttività Roberto Zappalà inizia un nuovo progetto dal titolo “Antologia”. Con Antologia si intende recuperare i lavori più interessanti che hanno lasciato un segno nel tempo e nella costruzione della linea coreografica di Zappalà e della compagnia. Il progetto non ha soltanto il compito di recuperare e di rivisitare\, ma anche quello di originare attraverso un nuovo contatto nuove visioni; dove anche il semplice cambiamento degli interpreti può fare da primo mobile per un diverso approccio alla creazione da parte del coreografo. Tutto ciò non solo determinerà una riflessione sul passato ma inevitabilmente porterà a riflettere sul futuro. \n\nCrediti:\n\nCoreografia e regia\, luci e costumi Roberto Zappalà\nMusica Pink Floyd\, Elvis Presley\, Luigi Tenco\, José Altafini\, Mirageman\, John Cage\, Sergei Prokofiev\nInterpreti Maud de la Purification\, Antoine Roux-Briffaud /  Gaetano Montecasino\, Valeria Zampardi\nTesti a cura di Nello Calabrò\nProduzione Scenario Pubblico/Compagnia Zappalà Danza  Centro di Produzione della Danza\nin coproduzione con Orizzonti Festival. Fondazione \n\n  \n  \nPer info e prenotazioni:  \nwww.postoriservato.it – campaniadanza@tiscali.it  – 3289079642
URL:https://backup.sistemamedcampania.it/evento/associazione-campania-danza-incontri-2021-romeo-e-giulietta/
LOCATION:Teatro Sala Pasolini\, Lungomare Trieste\, 13\, Salerno\, Italia
CATEGORIES:Associazione Campania Danza,Danza,Incontri 2021
ATTACH;FMTTYPE=image/jpeg:https://backup.sistemamedcampania.it/wp-content/uploads/2021/10/romeo-e-giulietta.jpg
END:VEVENT
BEGIN:VEVENT
DTSTART;TZID=Europe/Rome:20210904T210000
DTEND;TZID=Europe/Rome:20210904T210000
DTSTAMP:20260423T063042
CREATED:20210830T145316Z
LAST-MODIFIED:20210830T145316Z
UID:6584-1630789200-1630789200@backup.sistemamedcampania.it
SUMMARY:Associazione Campania Danza. Incontri 2021 - 1+1=1
DESCRIPTION:“Incontri” la rassegna di danza contemporanea realizzata dall’ Associazione Campania Danza\, prosegue con Matrafisc Dance in “1+1=1”(filosofia dell’identità)”  di Ina Colizza e Antonello Apicella: in filosofia\, l’identità è la relazione che ogni cosa ha solo con se stessa; l’idea di identità appartiene a quei sistemi filosofici che partendo dalla distinzione tra due realtà eterogenee le considerano poi identiche in relazione a una realtà superiore a cui appartengono le prime due. \n\n  \nPer info e prenotazioni:  \nwww.postoriservato.it – campaniadanza@tiscali.it  – 3289079642
URL:https://backup.sistemamedcampania.it/evento/associazione-campania-danza-incontri-2021-111/
LOCATION:Teatro dei Barbuti di Salerno\, Vicolo Gisolfo II\, 17-19\, Salerno SA\, 84121\, Italia
CATEGORIES:Associazione Campania Danza,Danza,Incontri 2021
ATTACH;FMTTYPE=image/jpeg:https://backup.sistemamedcampania.it/wp-content/uploads/2021/08/matrafisc.jpg
END:VEVENT
BEGIN:VEVENT
DTSTART;TZID=Europe/Rome:20210903T210000
DTEND;TZID=Europe/Rome:20210903T210000
DTSTAMP:20260423T063042
CREATED:20210830T144946Z
LAST-MODIFIED:20210830T144946Z
UID:6580-1630702800-1630702800@backup.sistemamedcampania.it
SUMMARY:Associazione Campania Danza. Incontri 2021 - Non tutti sanno che
DESCRIPTION:Per la rassegna di danza contemporanea “Incontri” realizzata dall’ Associazione Campania Danza\, Elisa Barucchieri presenta “Non tutti sanno che…”\,  per la compagnia Res Extensa un lavoro che rappresenta un piccolo viaggio nel mondo della danza\, visto e quasi vissuto dall’interno attraverso lo sguardo degli interpreti. \n  \n  \nPer info e prenotazioni:  \nwww.postoriservato.it – campaniadanza@tiscali.it  – 3289079642 \n 
URL:https://backup.sistemamedcampania.it/evento/associazione-campania-danza-incontri-2021-non-tutti-sanno-che/
LOCATION:Teatro dei Barbuti di Salerno\, Vicolo Gisolfo II\, 17-19\, Salerno SA\, 84121\, Italia
CATEGORIES:Associazione Campania Danza,Danza,Incontri 2021
ATTACH;FMTTYPE=image/jpeg:https://backup.sistemamedcampania.it/wp-content/uploads/2021/08/non-tutti-sanno-che.jpg
END:VEVENT
BEGIN:VEVENT
DTSTART;TZID=Europe/Rome:20210902T210000
DTEND;TZID=Europe/Rome:20210902T210000
DTSTAMP:20260423T063042
CREATED:20210830T103454Z
LAST-MODIFIED:20210830T103454Z
UID:6577-1630616400-1630616400@backup.sistemamedcampania.it
SUMMARY:Associazione Campania Danza. Incontri 2021 - Man
DESCRIPTION:Per la rassegna di danza contemporanea “Incontri” realizzata dall’ Associazione Campania Danza la compagnia Contart presenta  “Man” un progetto di Anna Rainoldi. \n“I momenti in cui facciamo esperienza di noi stessi come creature indifese sono quelli cruciali nello sviluppo dell’intimità\, nella costruzione di un senso dell’identità e del nostro valore per come viene percepito da noi. Sono questi i momenti in cui accogliamo la vulnerabilità come una risorsa per scoprire e indagare emozioni e sentimenti nuovi\, complessi da restituire solo attraverso la parola. L’intento che guida questa ricerca è quindi dare forma attraverso il corpo a quei moti dell’anima che il linguaggio verbale non riesce a definire o sintetizzare…” \n  \nCoreografia e regia Anna Rainoldi \ncon Michela Priuli \nmusica originale Fabio Malizia e Andrea Cocco \nproduzione DANCEHAUSpiù  \n  \nPer info e prenotazioni:  \nwww.postoriservato.it – campaniadanza@tiscali.it  – 3289079642 \n 
URL:https://backup.sistemamedcampania.it/evento/associazione-campania-danza-incontri-2021-man/
LOCATION:Teatro dei Barbuti di Salerno\, Vicolo Gisolfo II\, 17-19\, Salerno SA\, 84121\, Italia
CATEGORIES:Associazione Campania Danza,Danza,Incontri 2021
ATTACH;FMTTYPE=image/jpeg:https://backup.sistemamedcampania.it/wp-content/uploads/2021/08/man.jpg
END:VEVENT
BEGIN:VEVENT
DTSTART;TZID=Europe/Rome:20210902T210000
DTEND;TZID=Europe/Rome:20210902T210000
DTSTAMP:20260423T063042
CREATED:20210830T102319Z
LAST-MODIFIED:20210830T102319Z
UID:6574-1630616400-1630616400@backup.sistemamedcampania.it
SUMMARY:Associazione Campania Danza. Incontri 2021. Algo-ritmi
DESCRIPTION:Riparte la rassegna di danza contemporanea “Incontri” realizzata dall’ Associazione Campania Danza. Il prossimo appuntamento è con la compagnia Versiliadanza in ” Algo-ritmi” un progetto di Leonardo Diana in collaborazione con Isabella Giustina che intende ricercare l’armonia della divina proporzione attraverso due corpi “matematici” e “geometrici” ma allo stesso tempo “poetici”. \n  \nPer info e prenotazioni:  \nwww.postoriservato.it – campaniadanza@tiscali.it  – 3289079642 \n 
URL:https://backup.sistemamedcampania.it/evento/associazione-campania-danza-incontri-2021-algo-ritmi/
LOCATION:Teatro dei Barbuti di Salerno\, Vicolo Gisolfo II\, 17-19\, Salerno SA\, 84121\, Italia
CATEGORIES:Associazione Campania Danza,Danza,Incontri 2021
ATTACH;FMTTYPE=image/jpeg:https://backup.sistemamedcampania.it/wp-content/uploads/2021/08/algoritmi.jpg
END:VEVENT
BEGIN:VEVENT
DTSTART;TZID=Europe/Rome:20210804T210000
DTEND;TZID=Europe/Rome:20210804T213000
DTSTAMP:20260423T063042
CREATED:20210802T143830Z
LAST-MODIFIED:20210802T143830Z
UID:6568-1628110800-1628112600@backup.sistemamedcampania.it
SUMMARY:Associazione Campania Danza. Incontri 2021- Let's Go
DESCRIPTION:Per il prossimo appuntamento della rassegna di danza contemporanea “Incontri” realizzata dall’ Associazione Campania Danza\, “Let’s Go” di Gjergj Prevazi per Albanian Dance Theater Company. \nUn oggetto\, qualcosa che fa parte del nostro quotidiano\, due danzatori sono sufficienti per trasmettere l’idea della ricerca di un nuovo percorso\, una nuova direzione o meglio un’opportunità\, un’alternativa\, la continua ricerca di un’avventura…I due danzatori Fjorald Doci and Elton Cefa\, riescono a comunicare attraverso la danza l’effettivo tema della partenza dei giovani verso una vita migliore\, un fenomeno molto diffuso nella nostra società. \n  \n  \nProduzione Albanian Dance Theater Company\nConcept e coreografie di Gjergj Prevazi\nDanzatori Fjorald Doci e Elton Cefa \n  \n  \n  \nPer info e prenotazioni: teatroghirelli@casadelcontemporaneo.it  –  3499438958 \n \n  \n 
URL:https://backup.sistemamedcampania.it/evento/associazione-campania-danza-incontri-2021-lets-go/
LOCATION:Teatro Ghirelli\, Viale Antonio Gramsci\, Salerno\, 84126\, Italia
CATEGORIES:Associazione Campania Danza,Danza,Incontri 2021
ATTACH;FMTTYPE=image/jpeg:https://backup.sistemamedcampania.it/wp-content/uploads/2021/08/letsgo.jpg
END:VEVENT
BEGIN:VEVENT
DTSTART;TZID=Europe/Rome:20210728T210000
DTEND;TZID=Europe/Rome:20210728T210000
DTSTAMP:20260423T063042
CREATED:20210721T101939Z
LAST-MODIFIED:20210721T101939Z
UID:6540-1627506000-1627506000@backup.sistemamedcampania.it
SUMMARY:Associazione Campania Danza. Incontri 2021- Sacre. Balletto Teatro di Torino
DESCRIPTION:Per il prossimo appuntamento della rassegna di danza contemporanea “Incontri” realizzata dall’ Associazione Campania Danza il Balletto Teatro di Torino presenta “Sacre” ;  i danzatori del BTT attraversano pratiche di composizione istantanea e partiture di improvvisazione in forte relazione con la musica\, slegandosi da scritture coreografiche fisse ed abbracciando invece territori di movimento che sono aperti\, fluidi e mutevoli\, proseguendo il proprio percorso artistico in forte relazione con la musica dal vivo. \n  \n“La Sagra della Primavera”  di Igor Stravinsky trascrizione per pianoforte a quattro mani \n\n\nAccompagnamento alla ricerca gestuale a cura di Doriana Crema \n  \n\n\nPer info e prenotazioni: campaniadanza@tiscali.it
URL:https://backup.sistemamedcampania.it/evento/associazione-campania-danza-incontri-2021-sacre-balletto-teatro-di-torino/
LOCATION:Teatro dei Barbuti di Salerno\, Vicolo Gisolfo II\, 17-19\, Salerno SA\, 84121\, Italia
CATEGORIES:Associazione Campania Danza,Danza,Incontri 2021
ATTACH;FMTTYPE=image/jpeg:https://backup.sistemamedcampania.it/wp-content/uploads/2021/07/sacre.jpg
END:VEVENT
BEGIN:VEVENT
DTSTART;TZID=Europe/Rome:20210728T210000
DTEND;TZID=Europe/Rome:20210728T210000
DTSTAMP:20260423T063042
CREATED:20210721T091600Z
LAST-MODIFIED:20210721T101954Z
UID:6535-1627506000-1627506000@backup.sistemamedcampania.it
SUMMARY:Associazione Campania Danza. Incontri 2021-  Collective Trip. Borderlinedanza
DESCRIPTION:Prossimo appuntamento della rassegna di danza contemporanea “Incontri” realizzata dall’ Associazione Campania Danza è con la compagnia Borderlinedanza\, in Collective Trip un lavoro coreografico di Claudio Malangone. \n  \n  \nPer info e prenotazioni: campaniadanza@tiscali.it
URL:https://backup.sistemamedcampania.it/evento/campania-danza-collective-trip-borderlinedanza/
LOCATION:Teatro dei Barbuti di Salerno\, Vicolo Gisolfo II\, 17-19\, Salerno SA\, 84121\, Italia
CATEGORIES:Associazione Campania Danza,Borderline Danza,Danza,Incontri 2021
ATTACH;FMTTYPE=image/jpeg:https://backup.sistemamedcampania.it/wp-content/uploads/2019/09/collective-trip-campaniadanza.jpg
END:VEVENT
BEGIN:VEVENT
DTSTART;TZID=Europe/Rome:20210612T200000
DTEND;TZID=Europe/Rome:20210612T200000
DTSTAMP:20260423T063042
CREATED:20210610T171146Z
LAST-MODIFIED:20230531T094637Z
UID:6419-1623528000-1623528000@backup.sistemamedcampania.it
SUMMARY:Campania Danza. Incontri - Ravel.Estratto\, Dèjà Donnè
DESCRIPTION:Per la rassegna Incontri a cura dell’ associazione Campania Danza Ravel.estratto una coreografia di Virginia Spallarossa per la compagnia Dèjà Donnè. \n  \n\n\n\n\nper info: campaniadanza@tiscalil.it
URL:https://backup.sistemamedcampania.it/evento/campania-danza-incontri-ravel-estratto-deja-donne/
LOCATION:Convento di San Francesco\, Via Papa Giovanni XXIII\, Gioi (SA)\, 84056\, Italia
CATEGORIES:Associazione Campania Danza,Danza,Incontri 2021
ATTACH;FMTTYPE=image/jpeg:https://backup.sistemamedcampania.it/wp-content/uploads/2021/06/campaniadanza-1.jpg
END:VEVENT
BEGIN:VEVENT
DTSTART;TZID=Europe/Rome:20210612T200000
DTEND;TZID=Europe/Rome:20210612T200000
DTSTAMP:20260423T063042
CREATED:20210610T170741Z
LAST-MODIFIED:20230531T094736Z
UID:6411-1623528000-1623528000@backup.sistemamedcampania.it
SUMMARY:Campania Danza. Incontri - Le Città Invisibili. ARB Dance Company
DESCRIPTION:Per la rassegna Incontri a cura dell’ associazione Campania Danza\, l’ ARB dance company presenta Le Città Invisibili  (Liberamente ispirato al testo di Italo Calvino) Questo lavoro nasce dal semplice desiderio di raccontare quello che credo sia necessario fare per non lasciare che l’invisibile ci sfugga: lavorare su noi stessi\, spostando la nostra attenzione da fuori a dentro; siamo noi che lasciamo emergere delle cose dimenticandone delle altre\, siamo noi che decidiamo di far parte dell’inferno o di lavorare duramente per dare spazio a ciò che è davvero importante. È proprio l’atteggiamento dell’individuo a fare la differenza\, un atteggiamento vivo\, sveglio\, presente e determinato nella scelta del proprio ordine immaginario delle cose. \n  \nRoberta De Rosa coreografia e danzatrice \nMichele Casella voce recitante \nAnnamaria Di Maio direzione artistica \n  \n\n\n\n\nper info: campaniadanza@tiscalil.it
URL:https://backup.sistemamedcampania.it/evento/campania-danza-incontri-le-citta-invisibili-arb-dance-company/
LOCATION:Convento di San Francesco\, Via Papa Giovanni XXIII\, Gioi (SA)\, 84056\, Italia
CATEGORIES:Associazione Campania Danza,Danza,Incontri 2021
ATTACH;FMTTYPE=image/jpeg:https://backup.sistemamedcampania.it/wp-content/uploads/2021/06/campaniadanza.jpg
END:VEVENT
END:VCALENDAR