BEGIN:VCALENDAR
VERSION:2.0
PRODID:-//Sistema Med Campania - ECPv6.7.0//NONSGML v1.0//EN
CALSCALE:GREGORIAN
METHOD:PUBLISH
X-WR-CALNAME:Sistema Med Campania
X-ORIGINAL-URL:https://backup.sistemamedcampania.it
X-WR-CALDESC:Eventi per Sistema Med Campania
REFRESH-INTERVAL;VALUE=DURATION:PT1H
X-Robots-Tag:noindex
X-PUBLISHED-TTL:PT1H
BEGIN:VTIMEZONE
TZID:Europe/Rome
BEGIN:DAYLIGHT
TZOFFSETFROM:+0100
TZOFFSETTO:+0200
TZNAME:CEST
DTSTART:20220327T010000
END:DAYLIGHT
BEGIN:STANDARD
TZOFFSETFROM:+0200
TZOFFSETTO:+0100
TZNAME:CET
DTSTART:20221030T010000
END:STANDARD
END:VTIMEZONE
BEGIN:VEVENT
DTSTART;TZID=Europe/Rome:20221207T210000
DTEND;TZID=Europe/Rome:20221207T210000
DTSTAMP:20260420T104448
CREATED:20221205T135405Z
LAST-MODIFIED:20221205T135405Z
UID:7791-1670446800-1670446800@backup.sistemamedcampania.it
SUMMARY:Associazione Campania Danza. Incontri 2022 -Bruise
DESCRIPTION:La rassegna di danza contemporanea ““Incontri” \, organizzata dall’ Associazione Campania Danza vedrà protagonisti \nAntonello Apicella e Ina Colizza per la compagnia Matrafisc con “Bruise” . La scintilla di questo progetto è stata una conversazione tra due persone con molto in comune. Entrambi reduci da storie turbolente\, che hanno lasciato sentimenti contrastanti\, oscillanti tra pieno e vuoto\, dolce e amaro e allo stesso tempo ferito e vulnerabile. Quello che Matrafisc porta in scena è la rappresentazione di come\, a volte\, vengono vissuti i veri sentimenti che lasciano segni – soprattutto quelli invisibili – che continuano a crescere dentro di noi. \n  \nInfo 3512398684 – Email: campaniadanza@gmail.com \n 
URL:https://backup.sistemamedcampania.it/evento/associazione-campania-danza-incontri-2022-bruise/
LOCATION:Teatro Ghirelli\, Viale Antonio Gramsci\, Salerno\, 84126\, Italia
CATEGORIES:Associazione Campania Danza,Danza,Incontri 2022
ATTACH;FMTTYPE=image/jpeg:https://backup.sistemamedcampania.it/wp-content/uploads/2022/12/bruise.jpg
END:VEVENT
BEGIN:VEVENT
DTSTART;TZID=Europe/Rome:20221207T210000
DTEND;TZID=Europe/Rome:20221207T210000
DTSTAMP:20260420T104448
CREATED:20221205T084316Z
LAST-MODIFIED:20221205T084316Z
UID:7788-1670446800-1670446800@backup.sistemamedcampania.it
SUMMARY:Associazione Campania Danza. Incontri 2022 - Funamboli
DESCRIPTION:“Incontri” \, la rassegna di danza contemporanea organizzata dall’ Associazione Campania Danza prosegue conuna produzione Akerusia danza\, Funamboli / high wire walks  una poetica messa in scena della vita\, dell’audacia\, della solitudine\, ma allo stesso tempo è mettere in scena il trionfo del gesto\, dell’eleganza\, la ricerca quasi esasperata di un equilibrio\, di una volontà e di una forza interiore tali da superare difficoltà e imprevisti. \nI limiti esistono soltanto nell’anima di chi è a corto di sogni” (Philippe Petit) \n  \nideazione artistica\, coordinamento coreografico e regia Elena D’Aguanno  \n vocal performance e drammaturgia Massimo Finelli \ninterprete e scrittura corporea  Fabrizio Varriale \nelaborazione del progetto Paola Rivazio \nproduzione Akerusia Danza  /con il contributo della Regione Campania \n  \nInfo 3512398684 – Email: campaniadanza@gmail.com
URL:https://backup.sistemamedcampania.it/evento/associazione-campania-danza-incontri-2022-funamboli/
LOCATION:Teatro Ghirelli\, Viale Antonio Gramsci\, Salerno\, 84126\, Italia
CATEGORIES:Akerusia Danza,Associazione Campania Danza,Danza,Incontri 2022
ATTACH;FMTTYPE=image/jpeg:https://backup.sistemamedcampania.it/wp-content/uploads/2022/12/funamboli.jpg
END:VEVENT
BEGIN:VEVENT
DTSTART;TZID=Europe/Rome:20221127T183000
DTEND;TZID=Europe/Rome:20221127T183000
DTSTAMP:20260420T104448
CREATED:20221124T085910Z
LAST-MODIFIED:20221124T085910Z
UID:7776-1669573800-1669573800@backup.sistemamedcampania.it
SUMMARY:Associazione Campania Danza. Incontri 2022 - Precariato
DESCRIPTION:Arb Dance Company è in scena con “Precariato” per “Incontri” \, la rassegna di danza contemporanea organizzata dall’ Associazione Campania Danza allestimento di Roberta De Rosa\, da un progetto coreografico di Zerogrammi. L’idea dello spettacolo nasce nel 2012 sotto forma di studio coreografico che ha avuto l’incipit al completamento\, oggi 2022. «Ci troviamo in un periodo storico in cui la parola precario racchiude infiniti schemi fisici e mentali\, legati alla sensazione del biblico e dell’incertezza tangibile del futuro».  “Il lavoro coreografico diventa l’epilogo di un mondo che è cambiato e che dal suo concetto primordiale\, affonda le radici in un presente precario e capovolto». \n  \nAllestimento Roberta De Rosa \nProgetto coreografico Zerogrammi \nCon Roberta De Rosa\, Sibilla Maria Celesia\, Cristian Cianciulli\, Giulia Miraglia\, Nicola Picardi e Giada Tibaldi \nProduzione ARB Dance Company \n  \nInfo 3512398684 – Email: campaniadanza@gmail.com
URL:https://backup.sistemamedcampania.it/evento/associazione-campania-danza-incontri-2022-precariato/
LOCATION:Teatro Sala Pasolini\, Lungomare Trieste\, 13\, Salerno\, Italia
CATEGORIES:Arabesque,Associazione Campania Danza,Danza,Incontri 2022
ATTACH;FMTTYPE=image/jpeg:https://backup.sistemamedcampania.it/wp-content/uploads/2022/11/precariatoarb.jpg
END:VEVENT
BEGIN:VEVENT
DTSTART;TZID=Europe/Rome:20221126T210000
DTEND;TZID=Europe/Rome:20221126T210000
DTSTAMP:20260420T104448
CREATED:20221124T085428Z
LAST-MODIFIED:20221124T085452Z
UID:7772-1669496400-1669496400@backup.sistemamedcampania.it
SUMMARY:Associazione Campania Danza. Incontri 2022 - Luci di carni
DESCRIPTION:Per “Incontri” \, la rassegna di danza contemporanea organizzata dall’ Associazione Campania Danza\, la compagnia Zerogrammi presenta “Luci di carni“\, spettacolo di teatro danza con la coreografia di Amina Amici. Luci di carni è una creazione per cinque interpreti che nasce da suggestioni legate all’opera di Michelangelo Merisi\, universalmente conosciuto come il Caravaggio. Luce. Ombra. E ancora luce\, luce anche nell’ombra\, attraverso il volume dei corpi\, la loro intensità e concreta realtà. Luce nella storia di corpi dimenticati\, comuni\, ora alla ribalta così come sono. Luce e carne\, appunto. Caravaggio comincia la sua rivoluzione nella quiete e nella meditazione. Nella sua opera\, avvicina chi guarda\, ponendo i suoi soggetti nel «nessun luogo». Le musiche originali sono composte da Bruno De Franceschi. \n  \nprogetto e coreografia Amina Amici  \ncreato con e interpretato da Chiara Guglielmi\, Andrea de Luca\, Riccardo Micheletti\, Cinzia Sità\, Amina Amici  \nconsulenza drammaturgica Carlotta Scioldo \nmusiche originali  Bruno de Franceschi \nproduzione  Zerogrammi con il contributo di HOME Centro Creazione Coreografica – progetto residenze Dance Gallery Perugia\, Workspace Ricerca X\, Research & Dramatury\, Lavanderia a Vapore  \ncon il sostegno di Regione Piemonte\, MIBAC \n  \n  \nInfo 3512398684 – Email: campaniadanza@gmail.com
URL:https://backup.sistemamedcampania.it/evento/associazione-campania-danza-incontri-2022-luci-di-carni/
LOCATION:Teatro Sala Pasolini\, Lungomare Trieste\, 13\, Salerno\, Italia
CATEGORIES:Associazione Campania Danza,Danza,Incontri 2022
ATTACH;FMTTYPE=image/jpeg:https://backup.sistemamedcampania.it/wp-content/uploads/2022/11/luci-carni.jpg
END:VEVENT
BEGIN:VEVENT
DTSTART;TZID=Europe/Rome:20220903T210000
DTEND;TZID=Europe/Rome:20220903T210000
DTSTAMP:20260420T104448
CREATED:20220829T101706Z
LAST-MODIFIED:20220829T101706Z
UID:7509-1662238800-1662238800@backup.sistemamedcampania.it
SUMMARY:Associazione Campania Danza. Incontri 2022 - Puzzle
DESCRIPTION:La prima parte di “Incontri” \, la rassegna di danza contemporanea organizzata dall’ Associazione Campania Danza\, si chiude con la compagnia ResExtensa che si esibirà in “Puzzle”. Cogliendo ispirazione dai lavori di Calvino\, Puzzle è come l’incontro al Castello dei Destini Incrociati\, come la condivisione nella Taverna: una serie di racconti specifici e personali\, che traggono spunto dallo stesso numero finito di elementi\, per moltiplicarsi in infinite storie nuove e differenti. A ognuno\, la propria voce; a ogni spettatore la propria interpretazione. Puzzle accoglie la sfida e riporta le domande al corpo\, al movimento\, all’incastro con l’altro. \n  \nIdeazione\, coreografica e direzione Elisa Barucchieri \n  \n  \n  \nAcquista il tuo biglietto https://www.postoriservato.it \nInfo 3512398684 – Email: campaniadanza@gmail.com
URL:https://backup.sistemamedcampania.it/evento/associazione-campania-danza-incontri-2022-puzzle/
LOCATION:Teatro dei Barbuti di Salerno\, Vicolo Gisolfo II\, 17-19\, Salerno SA\, 84121\, Italia
CATEGORIES:Associazione Campania Danza,Danza,Incontri 2022
ATTACH;FMTTYPE=image/jpeg:https://backup.sistemamedcampania.it/wp-content/uploads/2022/08/puzzle.jpg
END:VEVENT
BEGIN:VEVENT
DTSTART;TZID=Europe/Rome:20220902T210000
DTEND;TZID=Europe/Rome:20220902T210000
DTSTAMP:20260420T104448
CREATED:20220829T101147Z
LAST-MODIFIED:20220829T101147Z
UID:7507-1662152400-1662152400@backup.sistemamedcampania.it
SUMMARY:Associazione Campania Danza. Incontri 2022 - Rossini vs Bach. Indovina chi vince stasera
DESCRIPTION:La seconda serata di “Incontri” \, la rassegna di danza contemporanea organizzata dall’ Associazione Campania Danza per la direzione artistica di Antonella Iannone\, vede protagonista la compagnia GDO/UDA con “Rossini vs Bach. Indovina chi vince stasera”: dal “singolar tensone” del mondo Urban un insolito duello a colpi di note\, una “battle” quella proposta dal Collettivo che fa capo alla “outsider” Ilenja Rossi. Cogliendo l’ironia ed il gioco che Rossini propone ed esalta e la perizia architettonica del patrimonio musicale di Bach contrarissimo all’opera lirica\, il Collettivo mette in scena una ennesima sfida. \ncoreografie Ilenja Rossi \nCollettivo: Giovanni Matteo Patruno\, Giuseppe D’Avanzo\, Iacopo Franceschini\, Domenico Tucci\, Andrea Apostolico. \ndirezione artistica Patrizia Salvatori \n  \nAcquista il tuo biglietto https://www.postoriservato.it \nInfo 3512398684 – Email: campaniadanza@gmail.com
URL:https://backup.sistemamedcampania.it/evento/associazione-campania-danza-incontri-2022-rossini-vs-bach-indovina-chi-vince-stasera/
LOCATION:Teatro dei Barbuti di Salerno\, Vicolo Gisolfo II\, 17-19\, Salerno SA\, 84121\, Italia
CATEGORIES:Associazione Campania Danza,Danza,Incontri 2022
ATTACH;FMTTYPE=image/jpeg:https://backup.sistemamedcampania.it/wp-content/uploads/2022/08/rossini-vs-bach.jpg
END:VEVENT
BEGIN:VEVENT
DTSTART;TZID=Europe/Rome:20220901T210000
DTEND;TZID=Europe/Rome:20220901T210000
DTSTAMP:20260420T104448
CREATED:20220829T095631Z
LAST-MODIFIED:20220829T095631Z
UID:7502-1662066000-1662066000@backup.sistemamedcampania.it
SUMMARY:Associazione Campania Danza. Incontri 2022 - Fera
DESCRIPTION:La V edizione della rassegna di danza contemporanea “Incontri” organizzata dall’ Associazione Campania Danza per la direzione artistica di Antonella Iannone\, parte con la Compagnia Kilo che presenteranno “Fera” una coreografia di Elena Cocci che si è interrogata sulla natura profonda delle donne\, sulla loro fragilità\, sensualità e sul loro coraggio. Centrale è il tema dell’umano/animale come terreno da sondare e scoprire. \n  \nconcept e coreografia Elena Cocci \ntammorra e percussioni Francesco Quartuccio. \nin scena Elisabetta Guttuso\, Yasmina Lammler\, Elena Cocci. \n  \nAcquista il tuo biglietto https://www.postoriservato.it \nInfo 3512398684 – Email: campaniadanza@gmail.com
URL:https://backup.sistemamedcampania.it/evento/associazione-campania-danza-incontri-2022-fera/
LOCATION:Teatro dei Barbuti di Salerno\, Vicolo Gisolfo II\, 17-19\, Salerno SA\, 84121\, Italia
CATEGORIES:Associazione Campania Danza,Danza,Incontri 2022
ATTACH;FMTTYPE=image/jpeg:https://backup.sistemamedcampania.it/wp-content/uploads/2022/08/fera.jpg
END:VEVENT
END:VCALENDAR