BEGIN:VCALENDAR
VERSION:2.0
PRODID:-//Sistema Med Campania - ECPv6.7.0//NONSGML v1.0//EN
CALSCALE:GREGORIAN
METHOD:PUBLISH
X-ORIGINAL-URL:https://backup.sistemamedcampania.it
X-WR-CALDESC:Eventi per Sistema Med Campania
REFRESH-INTERVAL;VALUE=DURATION:PT1H
X-Robots-Tag:noindex
X-PUBLISHED-TTL:PT1H
BEGIN:VTIMEZONE
TZID:Europe/Rome
BEGIN:DAYLIGHT
TZOFFSETFROM:+0100
TZOFFSETTO:+0200
TZNAME:CEST
DTSTART:20190331T010000
END:DAYLIGHT
BEGIN:STANDARD
TZOFFSETFROM:+0200
TZOFFSETTO:+0100
TZNAME:CET
DTSTART:20191027T010000
END:STANDARD
BEGIN:DAYLIGHT
TZOFFSETFROM:+0100
TZOFFSETTO:+0200
TZNAME:CEST
DTSTART:20200329T010000
END:DAYLIGHT
BEGIN:STANDARD
TZOFFSETFROM:+0200
TZOFFSETTO:+0100
TZNAME:CET
DTSTART:20201025T010000
END:STANDARD
END:VTIMEZONE
BEGIN:VEVENT
DTSTART;TZID=Europe/Rome:20200124T193000
DTEND;TZID=Europe/Rome:20200124T193000
DTSTAMP:20260419T223958
CREATED:20200122T121543Z
LAST-MODIFIED:20200122T121543Z
UID:5629-1579894200-1579894200@backup.sistemamedcampania.it
SUMMARY:Associazione Domenico Scarlatti. Festival Internazionale del '700 musicale napoletano-Trio Sonate
DESCRIPTION:Ultimo appuntamento con il Festival Internazionale del ‘700 musicale napoletano\, organizzata dall’ Associazione Domenico Scarlatti\, che si chiuderà con Sonata a tre\, un concerto che offre l’opportunità di ascoltare alcune pagine strumentali dedicate a tale forma musicale da Johann Adolph Hasse\, Niccolò Jommelli e Nicolò Antonio Porpora. Considerati tra i massimi esponenti della Scuola Napoletana\, i tre compositori\, oltre alla copiosa produzione operistica e sacra\, si dedicarono con grande successo anche alla musica strumentale con pregevoli composizioni che\, oltre all’Italia\, conobbero una importante diffusione in Francia\, Inghilterra e Germania grazie alle numerose copie sia manoscritte sia a stampa. \n  \nEleonora Amato\,  Ilaria Perna – violino \nGianpaolo Nigro – violoncello \nStefano Innamorati – clavicembalo. \n  \nfoto di copertina di Marco Gambardella
URL:https://backup.sistemamedcampania.it/evento/associazione-domenico-scarlatti-festival-internazionale-del-700-musicale-napoletano-trio-sonate/
LOCATION:Chiesa di Santa Maria dell’ Aiuto\, Vico S. Maria dell'Aiuto\, 10\, Napoli\, 80134
CATEGORIES:Associazione Domenico Scarlatti,Festival Internazionale del '700 musicale napoletano,Musica
ATTACH;FMTTYPE=image/jpeg:https://backup.sistemamedcampania.it/wp-content/uploads/2020/01/trio-sonate.jpg
END:VEVENT
BEGIN:VEVENT
DTSTART;TZID=Europe/Rome:20200119T113000
DTEND;TZID=Europe/Rome:20200119T123000
DTSTAMP:20260419T223958
CREATED:20200108T124625Z
LAST-MODIFIED:20200115T090631Z
UID:5592-1579433400-1579437000@backup.sistemamedcampania.it
SUMMARY:Associazione Domenico Scarlatti. Festival Internazionale del '700 musicale napoletano-Le Rose di Arben
DESCRIPTION:Il prossimo appuntamento del Festival Internazionale del ‘700 musicale napoletano\, organizzata dall’ Associazione Domenico Scarlatti sarà un particolarissimo concerto dal titolo “Le Rose di Arben”. \nIl progetto riguarda la cultura popolare del mondo Arbereshe che trae origine dalle popolazioni di matrice Albanese che\, alla fine del Medioevo\, partendo dal principato di Arben\, si insediarono a macchia di leopardo nelle regioni del Sud Italia. L’esibizione sarà quindi un “arabesco” sonoro che partirà dalla tradizione fino ad arrivare alle sonorità della musica contemporanea.\nLe Rose di Arben è un lavoro del compositore campano Max Fuschetto\,  capace di creare il perfetto punto di congiunzione tra musica etnica e avanguardia\, tra musica classica e pop\, tra Oriente e Occidente. Con lui in scena l’eclettico chitarrista potentino Pasquale Capobianco\, il versatile percussionista Giulio Costanzo e l’inconfondibile voce della cantante molisana Antonella Pelilli. \n  \n  \ninfo: http://www.domenicoscarlatti.it/ \n 
URL:https://backup.sistemamedcampania.it/evento/associazione-domenico-scarlatti-festival-internazionale-del-700-musicale-napoletano-le-rose-di-arben/
LOCATION:Chiesa di San Severo al Pendino\, Via Duomo 286\, Napoli\, Italia
CATEGORIES:Associazione Domenico Scarlatti,Festival Internazionale del '700 musicale napoletano,Musica
ATTACH;FMTTYPE=image/jpeg:https://backup.sistemamedcampania.it/wp-content/uploads/2020/01/le-rose-di-arben.jpg
END:VEVENT
BEGIN:VEVENT
DTSTART;TZID=Europe/Rome:20200111T203000
DTEND;TZID=Europe/Rome:20200111T203000
DTSTAMP:20260419T223958
CREATED:20200107T145155Z
LAST-MODIFIED:20200107T145155Z
UID:5572-1578774600-1578774600@backup.sistemamedcampania.it
SUMMARY:Associazione Domenico Scarlatti. Festival Internazionale del '700 musicale napoletano-Paisiello e il suo Tempo
DESCRIPTION:La XX edizione del Festival Internazionale del ‘700 musicale napoletano\, organizzata dall’ Associazione Domenico Scarlatti\, vedrà come prossimo protagonista il pianista Francesco Pareti impegnato in un recital incentrato sulla figura di Giovanni Paisiello. Sarà un viaggio nella scrittura tastieristica della tarda scuola napoletana del Settecento. Una scuola che ha orientato gli sviluppi dello stile galante in tutta Europa e\, anche attraverso Paisiello\, ha ricevuto il tributo di musicisti come Mozart e Beethoven. Il pianista Francesco Pareti è impegnato da anni nello studio e nel recupero all’uso concertistico dei diversi tipi di pianoforte che hanno preceduto la standardizzazione moderna\, in vista della possibile attivazione di un vero e proprio corso di Pianoforte Storico presso il Conservatorio di Napoli \, al fine di  recuperare e tutelare lo straordinario patrimonio della collezione di strumenti in esso custoditi. Saranno eseguite musiche di Giovanni Paisiello\, Domenico Scarlatti\, Pietro Alessandro Guglielmi\, Mattia Vento\, Domenico Cimarosa\, Wolfgang Amadeus Mozart\, Ludwig van Beethoven.     \n  \ninfo: http://www.domenicoscarlatti.it/
URL:https://backup.sistemamedcampania.it/evento/associazione-domenico-scarlatti-festival-internazionale-del-700-musicale-napoletano-paisiello-e-il-suo-tempo/
LOCATION:Chiesa di Santa Maria di Donnalbina\, Vico Portapiccola Donnalbina\, 6\, Napoli\, 80134\, Italia
CATEGORIES:Associazione Domenico Scarlatti,Festival Internazionale del '700 musicale napoletano,Musica
ATTACH;FMTTYPE=image/jpeg:https://backup.sistemamedcampania.it/wp-content/uploads/2020/01/domenico-scarlatti.jpg
END:VEVENT
BEGIN:VEVENT
DTSTART;TZID=Europe/Rome:20200110T193000
DTEND;TZID=Europe/Rome:20200110T193000
DTSTAMP:20260419T223958
CREATED:20191230T123016Z
LAST-MODIFIED:20200107T111316Z
UID:5484-1578684600-1578684600@backup.sistemamedcampania.it
SUMMARY:Associazione Domenico Scarlatti. Festival Internazionale del '700 musicale napoletano-Virtuosi
DESCRIPTION:La XX edizione del Festival Internazionale del ‘700 muiscale napoletano\, organizzata dall’ Associazione Domenico Scarlatti\, vedrà come prossima protagonista l’ Orchestra da Camera di Napoli diretta da Enzo Amato\, in un concerto dedicato alle sinfonie di Alessandro e Domenico Scarlatti.             \nEdoardo Ottaiano e Ciro Scala\, flauti \n  \nI Manoscritti delle Sinfonie di Domenico Scarlatti\, si trovano presso la Biblioteca Nazionale Francese a Parigi e fanno parte del fondo del Conservatoire national supérieur de musique et de danse de Paris. Portano quale numero di inventario 4240\, assegnato successivamente al vecchio numero 10513. Verosimilmente   era già presente nella biblioteca del Conservatorio prima del 1850. Non ci sono indicazioni sulle origini di queste Sinfonie\, è probabile che appartengano a lavori giovanili del musicista Partenopeo in quanto\, dalla filigrana della carta che rappresenta un giglio in un cerchio a raggio doppio\,  Edward Heawood studioso di filigrane\, identifica la cartiera come Italiana operante con quel machio dal 1592 al 1638. Il periodo di composizione potrebbe essere tra il 1701 e il 1705 quando quel tipo di carta era ancora in uso. \n  \n  \ninfo: http://www.domenicoscarlatti.it/
URL:https://backup.sistemamedcampania.it/evento/associazione-domenico-scarlatti-festival-internazionale-del-700-musicale-napoletano-virtuosi/
LOCATION:Basilica di San Giovanni Maggiore\, Rampe S. Giovanni Maggiore\, Napoli\, 80134
CATEGORIES:Associazione Domenico Scarlatti,Festival Internazionale del '700 musicale napoletano,Musica
ATTACH;FMTTYPE=image/jpeg:https://backup.sistemamedcampania.it/wp-content/uploads/2019/12/orchestra-da-camera-di-napoli.jpg
END:VEVENT
BEGIN:VEVENT
DTSTART;TZID=Europe/Rome:20200108T203000
DTEND;TZID=Europe/Rome:20200108T203000
DTSTAMP:20260419T223958
CREATED:20191230T122710Z
LAST-MODIFIED:20200107T113616Z
UID:5481-1578515400-1578515400@backup.sistemamedcampania.it
SUMMARY:Associazione Domenico Scarlatti. Festival Internazionale del '700 musicale napoletano-Cimarosa jazz Project
DESCRIPTION:Il prossimo sarà un appuntamento particolare con la XX edizione del Festival Internazionale del ‘700 musicale napoletano\, organizzata dall’ Associazione Domenico Scarlatti. Un sestetto formato da violoncello\, contrabasso\, chitarra\, pianoforte e batteria proporrà un escursus musicale che parte dal concerto di Cimarosa in Do minore per oboe e orchestra e da questo trarrà gli spunti armonici melodici e ritmici che “contamineranno” l’intero programma che passerà per i classici standard del jazz fino alle composizioni originali degli stessi Signorini\, Persico e Amazio. \nUn continuo gioco improvvisativo che alterna i diversi linguaggi della musica in un divertente dialogo tra i musicisti che omaggeranno Cimarosa non solo attraverso le sue composizioni ma soprattutto attraverso il suo inconfondibile stile\, pilastro dell’architettura dell’immenso monumento della musica costruito fino ai nostri giorni. \n  \nLuca Signorini\, violocello \nValerio Mola\, contrabasso \nBruno Persico\, pianoforte \nEnzo Amazio\, chitarra \nEnrico Del Gaudio\, batteria \n  \n  \ninfo: http://www.domenicoscarlatti.it/
URL:https://backup.sistemamedcampania.it/evento/associazione-domenico-scarlatti-festival-internazionale-del-700-musicale-napoletano-cimarosa-jazz-project/
LOCATION:Domus Ars\, Via Santa Chiara\, 10\, Napoli\, Italia
CATEGORIES:Associazione Domenico Scarlatti,Festival Internazionale del '700 musicale napoletano,Musica
ATTACH;FMTTYPE=image/jpeg:https://backup.sistemamedcampania.it/wp-content/uploads/2019/12/cimarosa-jazz-project.jpg
END:VEVENT
BEGIN:VEVENT
DTSTART;TZID=Europe/Rome:20200105T203000
DTEND;TZID=Europe/Rome:20200105T203000
DTSTAMP:20260419T223958
CREATED:20191230T121944Z
LAST-MODIFIED:20191230T121944Z
UID:5479-1578256200-1578256200@backup.sistemamedcampania.it
SUMMARY:Associazione Domenico Scarlatti. Festival Internazionale del '700 musicale napoletano-Cimarosa e la Musica Sacra
DESCRIPTION:La XX edizione del Festival Internazionale del ‘700 muiscale napoletano\, organizzata dall’ Associazione Domenico Scarlatti prosegue con il Coro Filarmonico Jubilate Deo diretto da Giuseppe Polese\, impegnato nelle musiche sacre di Domenico Cimarosa \n  \ninfo: http://www.domenicoscarlatti.it/
URL:https://backup.sistemamedcampania.it/evento/associazione-domenico-scarlatti-festival-internazionale-del-700-musicale-napoletano-cimarosa-e-la-musica-sacra/
LOCATION:Domus Ars\, Via Santa Chiara\, 10\, Napoli\, Italia
CATEGORIES:Associazione Domenico Scarlatti,Festival Internazionale del '700 musicale napoletano,Musica
ATTACH;FMTTYPE=image/jpeg:https://backup.sistemamedcampania.it/wp-content/uploads/2019/12/coro-filarmonico-jubilate-deo.jpg
END:VEVENT
BEGIN:VEVENT
DTSTART;TZID=Europe/Rome:20200104T203000
DTEND;TZID=Europe/Rome:20200104T203000
DTSTAMP:20260419T223958
CREATED:20191230T115707Z
LAST-MODIFIED:20191230T115707Z
UID:5472-1578169800-1578169800@backup.sistemamedcampania.it
SUMMARY:Associazione Domenico Scarlatti. Festival Internazionale del '700 musicale napoletano-Omaggio a Rossini
DESCRIPTION: La XX edizione del Festival Internazionale del ‘700 musicale napoletano\, organizzata dall’ Associazione Domenico Scarlatti rende “Omaggio a Rossini” che  trascorre a Napoli gli anni più intensi della sua carriera\, in cui lavorò molto\, ma si divertì altrettanto. \nGabriella Colecchia\,  una delle più interessanti voci liriche italiane\, vincitrice del prestigioso Luciano Pavarotti International Voice Competition di Philadelphia\, accompagnata al pianoforte da Gianni Gambardella\, un artista di rara sensibilità\, ripercorrerà i Pechés de vieillesse\, in cui Rossini cercò nuove strade e nuove sperimentazioni\, composizioni cameristiche scritte durante i suoi soggiorni parigini e dopo il suo ritiro dalle scene nel 1829. \nAd illustrare l’affascinante percorso musicale del musicista marchigiano\, Il Rossinologo Sergio Ragni. \n\ninfo: http://www.domenicoscarlatti.it/
URL:https://backup.sistemamedcampania.it/evento/associazione-domenico-scarlatti-festival-internazionale-del-700-musicale-napoletano-omaggio-a-rossini/
LOCATION:Fondazione Circolo Artistico Politecnico\, piazza Trieste e Trento 48\, Napoli\, Italia
CATEGORIES:Associazione Domenico Scarlatti,Festival Internazionale del '700 musicale napoletano,Musica
ATTACH;FMTTYPE=image/jpeg:https://backup.sistemamedcampania.it/wp-content/uploads/2019/12/omaggio-a-rossini.jpg
END:VEVENT
BEGIN:VEVENT
DTSTART;TZID=Europe/Rome:20191221T203000
DTEND;TZID=Europe/Rome:20191221T203000
DTSTAMP:20260419T223958
CREATED:20191219T123914Z
LAST-MODIFIED:20191230T122008Z
UID:5420-1576960200-1576960200@backup.sistemamedcampania.it
SUMMARY:Associazione Domenico Scarlatti. Festival Internazionale del '700 musicale napoletano-La Contesa delle Stagioni
DESCRIPTION:La XX edizione del Festival Internazionale del ‘700 muiscale napoletano\, organizzata dall’ Associazione Domenico Scarlatti\, sarà inaugurato con un inedito allestimento della Serenata “La Contesa delle Stagioni” di Domenico Scarlatti  un’opera d’occasione scritta dal musicista napoletano in onore della Regina Maria Anna Giuseppina di Portogallo fu rappresentata forse per la prima ed unica volta\, il 7 settembre del 1720 nel Palacio Real da Ribeira di Lisbona.\n \nSul palco della Domus Ars il Coro Filarmonico Jubilate Deo  diretto da Giuseppe Polese\,  e l’Orchestra Da Camera Di Napoli con Anna Daniela Sestito direttore. La regia è affidata a Riccardo Canessa. Le voci Primavera Angela Luglio\, Estate Valentina Fortunato\, Inverno Eleonora Brescia e Autunno Giulia Mattiello\, ruoli affidati nell’ambito di un Concorso indetto dall’Associazione Domenico Scarlatti “Scarlatti Voice Award”. \n  \ninfo: http://www.domenicoscarlatti.it/
URL:https://backup.sistemamedcampania.it/evento/associazione-domenico-scarlatti-festival-internazionale-del-700-muiscale-napoletano-la-contesa-delle-stagioni/
LOCATION:Domus Ars\, Via Santa Chiara\, 10\, Napoli\, Italia
CATEGORIES:Associazione Domenico Scarlatti,Festival Internazionale del '700 musicale napoletano,Musica
ATTACH;FMTTYPE=image/jpeg:https://backup.sistemamedcampania.it/wp-content/uploads/2019/12/la-contesa-delle-stagioni.jpg
END:VEVENT
END:VCALENDAR