BEGIN:VCALENDAR
VERSION:2.0
PRODID:-//Sistema Med Campania - ECPv6.7.0//NONSGML v1.0//EN
CALSCALE:GREGORIAN
METHOD:PUBLISH
X-WR-CALNAME:Sistema Med Campania
X-ORIGINAL-URL:https://backup.sistemamedcampania.it
X-WR-CALDESC:Eventi per Sistema Med Campania
REFRESH-INTERVAL;VALUE=DURATION:PT1H
X-Robots-Tag:noindex
X-PUBLISHED-TTL:PT1H
BEGIN:VTIMEZONE
TZID:Europe/Rome
BEGIN:DAYLIGHT
TZOFFSETFROM:+0100
TZOFFSETTO:+0200
TZNAME:CEST
DTSTART:20250330T010000
END:DAYLIGHT
BEGIN:STANDARD
TZOFFSETFROM:+0200
TZOFFSETTO:+0100
TZNAME:CET
DTSTART:20251026T010000
END:STANDARD
END:VTIMEZONE
BEGIN:VEVENT
DTSTART;TZID=Europe/Rome:20250523T190000
DTEND;TZID=Europe/Rome:20250523T190000
DTSTAMP:20260419T210348
CREATED:20250505T144804Z
LAST-MODIFIED:20250505T145036Z
UID:9172-1748026800-1748026800@backup.sistemamedcampania.it
SUMMARY:ASS. GIUSEPPE MARTUCCI - Giovanni Mascia
DESCRIPTION:Nella sua 50a Stagione concertistica\, l’Associazione Giuseppe Martucci porta\, venerdì 23 maggio (ore 19) nella splendida cornice dell’Auditorium Sveva Sanseverino del Complesso Monumentale San Tommaso d’Aquino a Piedimonte Matese in provincia di Caserta\, il giovane pianista Giovanni Mascia. \nIn programma\, musiche di Haendel\, Gluck\, Bach\, Busoni e Schumann. \nPer maggiori info www.associazionemusicalegiuseppemartucci.it
URL:https://backup.sistemamedcampania.it/evento/ass-giuseppe-martucci-giovanni-mascia/
LOCATION:Complesso monumetale San Tommaso D’Aquino\, Piemonte Matese\, Caserta\, Caserta\, 81016\, Italy
CATEGORIES:Associazione Giuseppe Martucci,Musica
ATTACH;FMTTYPE=image/jpeg:https://backup.sistemamedcampania.it/wp-content/uploads/2025/05/ass-giuseppe-martucci-giovanni-mascia.jpg
END:VEVENT
BEGIN:VEVENT
DTSTART;TZID=Europe/Rome:20250516T173000
DTEND;TZID=Europe/Rome:20250516T173000
DTSTAMP:20260419T210348
CREATED:20250502T140802Z
LAST-MODIFIED:20250502T141027Z
UID:9169-1747416600-1747416600@backup.sistemamedcampania.it
SUMMARY:ASS. GIUSEPPE MARTUCCI - Youth Orchestra Giuseppe Martucci
DESCRIPTION:Venerdì 16 maggio 2025 all’Istituto Grenoble di Napoli\, la passione e il talento unisce i giovani musicisti della Youth Orchestra Giuseppe Martucci. \nCon la direzione del Maestro Enrico Volpe\, il programma prevede brani di Antonio Vivaldi e Leopold Kozeluch. \nINGRESSO LIBERO \nPer maggiori info www.associazionemusicalegiuseppemartucci.it
URL:https://backup.sistemamedcampania.it/evento/ass-giuseppe-martucci-youth-orchestra-giuseppe-martucci/
LOCATION:Institut Grenoble\, Via Francesco Crispi 86\, Napoli\, Napoli\, 80121\, Italy
CATEGORIES:Associazione Giuseppe Martucci,Musica
ATTACH;FMTTYPE=image/jpeg:https://backup.sistemamedcampania.it/wp-content/uploads/2025/05/ass-giuseppe-martucci-youth-orchestra-2.jpg
END:VEVENT
BEGIN:VEVENT
DTSTART;TZID=Europe/Rome:20250328T173000
DTEND;TZID=Europe/Rome:20250328T173000
DTSTAMP:20260419T210348
CREATED:20250325T180603Z
LAST-MODIFIED:20250325T180603Z
UID:9157-1743183000-1743183000@backup.sistemamedcampania.it
SUMMARY:ASS. GIUSEPPE MARTUCCI - Duo Paola Volpe e Luca Signorini
DESCRIPTION:Paola Volpe e Luca Signorini\, due musicisti di respiro internazionale che vantano al loro attivo un’intensa attività concertistica. In duo (pianoforte e violoncello) si presenteranno al pubblico il 28 marzo (ore 17.30) nella Sala Dumas dell’Istituto Grenoble di Napoli. \nIn programma\, l’Adagio e allegro di Schumann\, seguito da Piace en forme de Habanera di Ravel e infine la Sonata op. 19 di Rachmaninoff. \nL’ingresso è libero fino ad esaurimento posti. Si consiglia di prenotare rivolgendosi alla Segreteria della Società Umanitaria/Humaniter al numero 081 578 0153 o 081 578 2485. \nPer maggiori info www.associazionemusicalegiuseppemartucci.it
URL:https://backup.sistemamedcampania.it/evento/ass-giuseppe-martucci-duo-paola-volpe-e-luca-signorini/
LOCATION:Institut Grenoble\, Via Francesco Crispi 86\, Napoli\, Napoli\, 80121\, Italy
CATEGORIES:Associazione Giuseppe Martucci,Musica
ATTACH;FMTTYPE=image/jpeg:https://backup.sistemamedcampania.it/wp-content/uploads/2025/03/ass-giuseppe-martucci-paola-volpe.jpg
END:VEVENT
BEGIN:VEVENT
DTSTART;TZID=Europe/Rome:20250307T193000
DTEND;TZID=Europe/Rome:20250307T193000
DTSTAMP:20260419T210348
CREATED:20250306T215431Z
LAST-MODIFIED:20250306T215431Z
UID:9126-1741375800-1741375800@backup.sistemamedcampania.it
SUMMARY:L'Orchestra Martucci incontra Pietro Condorelli
DESCRIPTION:L’Associazione Giuseppe Martucci giunge quest’anno al suo 50° anno di attività. \nCosì inaugura la stagione\, venerdì 7 marzo 2025 (ore 19.30) presso l’Auditorium Sveva Sanseverino\, con un concerto che vede l’Orchestra Martucci accompagnare il chitarrista Pietro Condorelli\, uno dei più autorevoli chitarristi del panorama jazzistico contemporaneo. \nIl programma\, dal titolo American Songbook e composizioni originali prevede brani di Cole Porter\, Oscar Peterson\, Harold Arlen\, Pietro Condorelli\, John Barry. \nIngresso libero fino ad esaurimento posti. \nPer maggiori info www.associazionemusicalegiuseppemartucci.it
URL:https://backup.sistemamedcampania.it/evento/lorchestra-martucci-incontra-pietro-condorelli/
LOCATION:Complesso monumetale San Tommaso D’Aquino\, Piemonte Matese\, Caserta\, Caserta\, 81016\, Italy
CATEGORIES:Associazione Giuseppe Martucci,Musica
ATTACH;FMTTYPE=image/jpeg:https://backup.sistemamedcampania.it/wp-content/uploads/2025/03/lorchestra-martucci-incontra-pietro-condorelli.jpg
END:VEVENT
END:VCALENDAR