BEGIN:VCALENDAR
VERSION:2.0
PRODID:-//Sistema Med Campania - ECPv6.7.0//NONSGML v1.0//EN
CALSCALE:GREGORIAN
METHOD:PUBLISH
X-WR-CALNAME:Sistema Med Campania
X-ORIGINAL-URL:https://backup.sistemamedcampania.it
X-WR-CALDESC:Eventi per Sistema Med Campania
REFRESH-INTERVAL;VALUE=DURATION:PT1H
X-Robots-Tag:noindex
X-PUBLISHED-TTL:PT1H
BEGIN:VTIMEZONE
TZID:Europe/Rome
BEGIN:DAYLIGHT
TZOFFSETFROM:+0100
TZOFFSETTO:+0200
TZNAME:CEST
DTSTART:20230326T010000
END:DAYLIGHT
BEGIN:STANDARD
TZOFFSETFROM:+0200
TZOFFSETTO:+0100
TZNAME:CET
DTSTART:20231029T010000
END:STANDARD
BEGIN:DAYLIGHT
TZOFFSETFROM:+0100
TZOFFSETTO:+0200
TZNAME:CEST
DTSTART:20240331T010000
END:DAYLIGHT
BEGIN:STANDARD
TZOFFSETFROM:+0200
TZOFFSETTO:+0100
TZNAME:CET
DTSTART:20241027T010000
END:STANDARD
END:VTIMEZONE
BEGIN:VEVENT
DTSTART;TZID=Europe/Rome:20240616T194500
DTEND;TZID=Europe/Rome:20240616T194500
DTSTAMP:20260423T045020
CREATED:20240610T200049Z
LAST-MODIFIED:20240610T200049Z
UID:9063-1718567100-1718567100@backup.sistemamedcampania.it
SUMMARY:Ass. Igor Stravinsky - Da Bach a Chiambretti
DESCRIPTION:Il pianista di fama internazionale Andrea Bacchetti presenta il suo progetto dal titolo Da Bach a Chiambretti – Quattro secoli di Musica in Televisione. \nL’idea nasce in occasione dei 70 anni della televisione italiana come format televisivo grazie alla collaborazione di Bacchetti con Piero Chiambretti\, con l’obiettivo di portare sul grande schermo un percorso attraverso quattro secoli di musica. \nAdesso diventa un recital pianistico guidato dallo stesso Bacchetti\, che accompagna il pubblico nella spiegazione e nell’esecuzione dei brani. \nPer maggiori info www.associazionestravinsky.it
URL:https://backup.sistemamedcampania.it/evento/ass-igor-stravinsky-da-bach-a-chiambretti/
LOCATION:Terrazza degli artisti\, Via Provinciale 89\, Manocalzati\, Avellino\, 83030\, Italia
CATEGORIES:Associazione Jubilate Deo,Innamorati della Musica - Giugno/Ottobre2024,Musica
ATTACH;FMTTYPE=image/jpeg:https://backup.sistemamedcampania.it/wp-content/uploads/2024/06/ass-stravinsky.jpg
END:VEVENT
BEGIN:VEVENT
DTSTART;TZID=Europe/Rome:20231022T110000
DTEND;TZID=Europe/Rome:20231022T110000
DTSTAMP:20260423T045020
CREATED:20231020T211134Z
LAST-MODIFIED:20231020T211302Z
UID:8746-1697972400-1697972400@backup.sistemamedcampania.it
SUMMARY:Ass. Igor Stravisnky - Il ventre di Napoli...omaggio a Enrico Caruso
DESCRIPTION:Domenica 22 ottobre alle ore 11 nella Sala delle Arti di Manocalzati\, prosegue la rassegna Innamorati della musica promossa dall’Associazione Igor Stravinsky. \nIl ventre di Napoli…omaggio a Enrico Caruso\, un concerto che vede in programma arie d’opera\, romanze da camera e classici napoletani. \nProtagonisti della matinée\, Valeria Viano come voce recitante\, Achille Del Giudice e Pasquale Bottiglieri tenori e Nadia Festa al pianoforte. \nPer info www.associazionestravinsky.it
URL:https://backup.sistemamedcampania.it/evento/8746/
LOCATION:Sala delle Arti\, Via Provinciale 89\, Manocalzati\, Avellino\, 83030\, Italia
CATEGORIES:Associazione Musicale Igor Stravinsky,Musica
ATTACH;FMTTYPE=image/jpeg:https://backup.sistemamedcampania.it/wp-content/uploads/2023/10/ass-igor-stravinsky-1.jpg
END:VEVENT
BEGIN:VEVENT
DTSTART;TZID=Europe/Rome:20231017T190000
DTEND;TZID=Europe/Rome:20231017T190000
DTSTAMP:20260423T045020
CREATED:20231016T182746Z
LAST-MODIFIED:20231016T182746Z
UID:8725-1697569200-1697569200@backup.sistemamedcampania.it
SUMMARY:Ass. Igor Stravinsky - Napule è...omaggio ad Aldo Masullo
DESCRIPTION:Continua la rassegna Innamorati della musica promossa dall’Associazione Igor Stravinsky. \nStavolta\, martedì 17 ottobre alle ore 19 nella Sala delle Arti di Manocalzati\, tocca a Napule è…omaggio ad Aldo Masullo\, filosofo e politico di origine avellinese attivo e operoso fino all’ultimo. \nI protagonisti della serata sono Sabrina Gasparini alla voce\, Gentjan Llukaci al violino e Athos Bassissi alla fisarmonica. Una carrellata di musica napoletana\, dai classici a Pino Daniele. \nPer info www.associazionestravinsky.it \n  \n 
URL:https://backup.sistemamedcampania.it/evento/ass-igor-stravinsky-napule-e-omaggio-ad-aldo-masullo/
LOCATION:Sala delle Arti\, Via Provinciale 89\, Manocalzati\, Avellino\, 83030\, Italia
CATEGORIES:Associazione Musicale Igor Stravinsky,Musica
ATTACH;FMTTYPE=image/jpeg:https://backup.sistemamedcampania.it/wp-content/uploads/2023/10/ass-igor-stravinsky-innamorati-della-musica-napule-e-omaggio-ad-aldo-masullo.jpg
END:VEVENT
BEGIN:VEVENT
DTSTART;TZID=Europe/Rome:20231008T110000
DTEND;TZID=Europe/Rome:20231008T110000
DTSTAMP:20260423T045020
CREATED:20231007T152202Z
LAST-MODIFIED:20231007T152202Z
UID:8700-1696762800-1696762800@backup.sistemamedcampania.it
SUMMARY:Ass. Igor Stravinsky - Il Violoncello...dal classicismo alla modernità
DESCRIPTION:L’Associazione Musicale Igor Stravinsky torna ad animare le domeniche mattina con la rassegna Innamorati della musica\, nella cornice della Sala delle Arti di Manocalzati\, piccolo gioiello incastonato nel meraviglioso panorama delle colline irpine. \nIl primo appuntamento di ottobre è Il Violoncello…dal classicismo alla modernità che vede protagonista il duo costituito da Marco Dalsass al violoncello e Giacomo Dalla Libera al pianoforte\, musiche di Mendelssohn\, Beethoven\, Schumann e Debussy. \nPer info info@associazionestravinsky.it – www.associazionestravinsky.it
URL:https://backup.sistemamedcampania.it/evento/ass-igor-stravinsky-il-violoncello-dal-classicismo-alla-modernita/
LOCATION:Sala delle Arti\, Via Provinciale 89\, Manocalzati\, Avellino\, 83030\, Italia
CATEGORIES:Associazione Musicale Igor Stravinsky,Musica
ATTACH;FMTTYPE=image/jpeg:https://backup.sistemamedcampania.it/wp-content/uploads/2023/10/ass-igor-stravinsky.jpg
END:VEVENT
BEGIN:VEVENT
DTSTART;TZID=Europe/Rome:20230326T113000
DTEND;TZID=Europe/Rome:20230326T113000
DTSTAMP:20260423T045020
CREATED:20230319T213756Z
LAST-MODIFIED:20230319T214004Z
UID:7898-1679830200-1679830200@backup.sistemamedcampania.it
SUMMARY:Associazione Musicale Igor Stravisky - Jea d'eau et d'amour
DESCRIPTION:Domenica 26 marzo alle ore 11:30 una matinée musicale con aperitivo insieme a due dei più rappresentativi musicisti della loro generazione\, a livello nazionale e internazionale. Giuseppe Nova al flauto e Alessandra Targa all’arpa\, nel concerto dal titolo Jeau d’eau et d’amour\, propongono brani tratti dalla Norma di Bellini\, dalla Carmen di Bizet\, oltre a classici di Donizetti\, Mozart e Tulou. \nGIUSEPPE NOVA\, flauto \nALESSANDRA TARGA\, arpa \nPROGRAMMA \nArcangelo Corelli\, Sonata la Follia n. 6 op. V; Wolfgang Amadeus Mozart\, Andante in do maggiore K 315; Vincenzo Bellini\, Casta Diva (Norma); Gaetano Donizetti\, Sonata (Larghetto\, Allegro Gallemberg); Marcel Grandjany\, The Colorado trail op. 28 per arpa sola; J. Naderman – J. Tulou\, Nocturne\, Tyrolienne de Guillaume Tell\, Rondoletto; Jaques François Ibert\, Entr’acte; Georges Bizet\, Entr’Acte e Variazioni sull’ Habanera (Carmen). \nInfo: 340 571 9845; www.associazionestravinsky.it
URL:https://backup.sistemamedcampania.it/evento/associazione-musicale-igor-stravisky-jea-deau-et-damour/
LOCATION:Sala delle Arti\, Via Provinciale 89\, Manocalzati\, Avellino\, 83030\, Italia
CATEGORIES:Associazione Musicale Igor Stravinsky,Musica
ATTACH;FMTTYPE=image/png:https://backup.sistemamedcampania.it/wp-content/uploads/2023/03/associazione-igor-stravinsky-jea-deau-et-damour.png
END:VEVENT
BEGIN:VEVENT
DTSTART;TZID=Europe/Rome:20230324T170000
DTEND;TZID=Europe/Rome:20230324T170000
DTSTAMP:20260423T045020
CREATED:20230319T182500Z
LAST-MODIFIED:20230319T182500Z
UID:7892-1679677200-1679677200@backup.sistemamedcampania.it
SUMMARY:Associazione Musicale Igor Stravinsky - Duo Bolling in omaggio a Morricone
DESCRIPTION:Il duo Primo Oliva al pianoforte e Paolo Zampini al flauto si forma nel 2002 tra le aule del Conservatorio Luigi Cherubini di Firenze\, dove entrambi i musicisti erano docenti. Da allora si sono esibiti in oltre 500 concerti\, riscuotendo particolare successo di pubblico e critica. Diplomati sotto la guida di grandi Maestri e cresciuti musicalmente in ambienti accademici\, ma pronti a sperimentare ogni genere\, dal blues al pop alla musica contemporanea\, si distinguono proprio nel proporre repertori poco frequentati. È Zampini che nel 1985 diventa flautista di Ennio Morricone\, autore a cui il duo ha deciso di dedicare la serata. Inoltre\, il biglietto d’ingresso è comprensivo di caffè o aperitivo da bere in compagnia degli artisti! \n  \nPRIMO OLIVA\, pianoforte \nPAOLO ZAMPINI\, flauto \nInfo: 340 571 9845; www.associazionestravinsky.it \n 
URL:https://backup.sistemamedcampania.it/evento/associazione-musicale-igor-stravinsky-duo-bolling-in-omaggio-a-morricone/
LOCATION:Sala delle Arti\, Via Provinciale 89\, Manocalzati\, Avellino\, 83030\, Italia
CATEGORIES:Associazione Musicale Igor Stravinsky,Musica
ATTACH;FMTTYPE=image/png:https://backup.sistemamedcampania.it/wp-content/uploads/2023/03/associazione-igor-stravinsky-duo-bolling-in-omaggio-a-morricone.png
END:VEVENT
END:VCALENDAR