BEGIN:VCALENDAR
VERSION:2.0
PRODID:-//Sistema Med Campania - ECPv6.7.0//NONSGML v1.0//EN
CALSCALE:GREGORIAN
METHOD:PUBLISH
X-WR-CALNAME:Sistema Med Campania
X-ORIGINAL-URL:https://backup.sistemamedcampania.it
X-WR-CALDESC:Eventi per Sistema Med Campania
REFRESH-INTERVAL;VALUE=DURATION:PT1H
X-Robots-Tag:noindex
X-PUBLISHED-TTL:PT1H
BEGIN:VTIMEZONE
TZID:Europe/Rome
BEGIN:DAYLIGHT
TZOFFSETFROM:+0100
TZOFFSETTO:+0200
TZNAME:CEST
DTSTART:20220327T010000
END:DAYLIGHT
BEGIN:STANDARD
TZOFFSETFROM:+0200
TZOFFSETTO:+0100
TZNAME:CET
DTSTART:20221030T010000
END:STANDARD
END:VTIMEZONE
BEGIN:VEVENT
DTSTART;TZID=Europe/Rome:20220407T203000
DTEND;TZID=Europe/Rome:20220407T203000
DTSTAMP:20260420T070254
CREATED:20220328T105908Z
LAST-MODIFIED:20220404T104849Z
UID:7255-1649363400-1649363400@backup.sistemamedcampania.it
SUMMARY:Associazione Rachmaninov -Concerto di Primavera
DESCRIPTION:L’ Associazione Rachmaninov presenta il Concerto di Primavera con i Solisti del Teatro alla Scala di Milano. Un viaggio musicale nel repertorio classico\, da Mozart a Beethoven\, in una dimensione intima e suggestiva a lume di candela.\n\n\nFabrizio Meloni clarinetto\,\nFabien Thouand oboe\,\nGabriele Screpis fagotto\,\nNatalino Ricciardo corno\nEmilio Aversano pianoforte.\n\n  \nProgramma:  \nDomenico Scarlatti – Sonata k 531 in mi magg.; Sonata k 239 in fa min. \nWolfgang Amadeus Mozart – Quintetto k 452 in mi bem. magg. \nLudwig van Beethoven – Quintetto op.16 in mi bem. magg. \nTiziano Citro – Quintetto”Omaggio a Ludwig” (dedicato a “I Solisti della Scala”) \n\n  \n\nPer info: 3479271097 \nAcquista qui il tuo biglietto
URL:https://backup.sistemamedcampania.it/evento/associazione-rachmaninov-concerto-di-primavera/
LOCATION:Complesso Monumentale Donnaregina – Museo Diocesano Napoli\, Largo Donnaregina\, Napoli\, Italia\, 80138
CATEGORIES:Associazione Rachmaninov,Musica
ATTACH;FMTTYPE=image/jpeg:https://backup.sistemamedcampania.it/wp-content/uploads/2022/03/concerto-di-primavera-copia.jpg
END:VEVENT
END:VCALENDAR