BEGIN:VCALENDAR
VERSION:2.0
PRODID:-//Sistema Med Campania - ECPv6.7.0//NONSGML v1.0//EN
CALSCALE:GREGORIAN
METHOD:PUBLISH
X-WR-CALNAME:Sistema Med Campania
X-ORIGINAL-URL:https://backup.sistemamedcampania.it
X-WR-CALDESC:Eventi per Sistema Med Campania
REFRESH-INTERVAL;VALUE=DURATION:PT1H
X-Robots-Tag:noindex
X-PUBLISHED-TTL:PT1H
BEGIN:VTIMEZONE
TZID:Europe/Rome
BEGIN:DAYLIGHT
TZOFFSETFROM:+0100
TZOFFSETTO:+0200
TZNAME:CEST
DTSTART:20180325T010000
END:DAYLIGHT
BEGIN:STANDARD
TZOFFSETFROM:+0200
TZOFFSETTO:+0100
TZNAME:CET
DTSTART:20181028T010000
END:STANDARD
END:VTIMEZONE
BEGIN:VEVENT
DTSTART;TZID=Europe/Rome:20181210T210000
DTEND;TZID=Europe/Rome:20181210T210000
DTSTAMP:20260419T205736
CREATED:20181205T144852Z
LAST-MODIFIED:20181205T144852Z
UID:4233-1544475600-1544475600@backup.sistemamedcampania.it
SUMMARY:CDTM. Monday Dance - Scarpa \| Shoe - Run
DESCRIPTION:Tornano i Monday Dance del Circuito della danza Campana; 4 lunedì 11 spettacoli. \nUltimo appuntamento con Scarpa \| Shoe – Run \nConcept & Coreografia : Macia Del Prete \nUn elogio della scarpa \,che riveste e protegge il piede \, come medium tra società ed individuo. Oggetto di culto del nostro tempo\, essa è appartenenza e status symbol. Veicolo comunicativo dell’emotività piu intima tanto quanto della leggerezza dello spirito. Una Rappresentazione viscerale e analitica dell accumulo incontrollato ed inarrestabile del superfluo \, che ritrae un mondo in caduta libera ; Vittima e carnefice di se stesso. Specchio dell uomo solo degli anni 2000 … con un tocco di umorismo.\ninfo: https://www.facebook.com/events/2110111529240087/
URL:https://backup.sistemamedcampania.it/evento/cdtm-monday-dance-scarpa-shoe-run/
LOCATION:Teatro Nuovo\, Corso Matteotti 20\, Milano\, Milano\, 20121\, Italia
CATEGORIES:CDTM Circuito Campano della Danza,Danza,Monday Dance
ATTACH;FMTTYPE=image/jpeg:https://backup.sistemamedcampania.it/wp-content/uploads/2018/12/scarpa.shoe_run.jpg
END:VEVENT
BEGIN:VEVENT
DTSTART;TZID=Europe/Rome:20181210T210000
DTEND;TZID=Europe/Rome:20181210T210000
DTSTAMP:20260419T205736
CREATED:20181205T144007Z
LAST-MODIFIED:20181205T144007Z
UID:4229-1544475600-1544475600@backup.sistemamedcampania.it
SUMMARY:CDTM. Monday Dance - Lumen me Lumen
DESCRIPTION:Tornano i Monday Dance del Circuito della danza Campana; 4 lunedì 11 spettacoli. \nUltimo appuntamento con Lumen me Lumen\n \nCoreografia e danza: Simona Perrella\nMusiche: Pete Namlook\, Gyorgy Ligeti\nSupervisione drammaturgica: Giovanni Senio Barbaro Dattena \nLumen me lumen è la ricerca di una possibile equazione che risolva i contrasti che il corpo vive all’interno di sé; e lumen me lumen è il rapporto tra me-qui e me-lì che si rigenera alla luce di un percorso interiore di abitazione mai fissa dei luoghi e del tempo.\nLa problematicità del dentro e del fuori di uno spazio già “dato” conduce il corpo ad esplorare sensazioni e dinamiche che superano\, trasformandosi in gioco degli arti\, una netta divisione a beneficio di una formula di coabitazione e di orbitazione. \n  \ninfo: https://www.facebook.com/events/2110111529240087/
URL:https://backup.sistemamedcampania.it/evento/cdtm-monday-dance-lumen-me-lumen/
LOCATION:Teatro Nuovo\, Via Montecalvario 16\, Napoli\, 80134\, Italia
CATEGORIES:CDTM Circuito Campano della Danza,Danza,Monday Dance
ATTACH;FMTTYPE=image/jpeg:https://backup.sistemamedcampania.it/wp-content/uploads/2018/12/lumen-me-lumen.jpg
END:VEVENT
BEGIN:VEVENT
DTSTART;TZID=Europe/Rome:20181210T210000
DTEND;TZID=Europe/Rome:20181210T210000
DTSTAMP:20260419T205736
CREATED:20181205T143759Z
LAST-MODIFIED:20181205T143759Z
UID:4226-1544475600-1544475600@backup.sistemamedcampania.it
SUMMARY:CDTM. Monday Dance - LOST IN THIS (UN)STABLE LIFE
DESCRIPTION:Tornano i Monday Dance del Circuito della danza Campana; 4 lunedì 11 spettacoli. \nUltimo appuntamento con LOST IN THIS (UN)STABLE LIFE \nAutore e Performer: Nicolas Grimaldi Capitello\nPerformer: Francesco Russo \nNella vita ci sentiamo sempre fuori luogo e in colpa per qualcosa\, rischiando di perdere le cose più importanti della nostra vita.\nSi commettono molti errori e quando la tua vita ti sembra dipinta di nero arriva il momento di ripulire l’anima\, specchiarsi e fare i conti con sè stessi e con il tempo\, una dilatazione temporale lunga e sfiancante. Solo quando sei sul punto di perdere tutto comprendi appieno l’importanza dell’amore in senso universale. \ninfo: https://www.facebook.com/events/2110111529240087/
URL:https://backup.sistemamedcampania.it/evento/cdtm-monday-dance-lost-in-this-unstable-life/
LOCATION:Teatro Nuovo\, Via Montecalvario 16\, Napoli\, 80134\, Italia
CATEGORIES:CDTM Circuito Campano della Danza,Danza,Monday Dance
ATTACH;FMTTYPE=image/jpeg:https://backup.sistemamedcampania.it/wp-content/uploads/2018/12/lost-in-this-unstable-life.jpg
END:VEVENT
BEGIN:VEVENT
DTSTART;TZID=Europe/Rome:20181126T210000
DTEND;TZID=Europe/Rome:20181126T210000
DTSTAMP:20260419T205736
CREATED:20181123T152459Z
LAST-MODIFIED:20181123T152513Z
UID:4149-1543266000-1543266000@backup.sistemamedcampania.it
SUMMARY:CDTM. Monday Dance - Matricola 0541. Borderline Danza
DESCRIPTION:Tornano i Monday Dance del Circuito della danza Campana; 4 lunedì 11 spettacoli. \nProssimo appuntamento con una Borderline Danza in Matricola 0541 \nDi e con Luigi Aruta \nassistente alla creazione Giada Ruoppo \nMatricola 0541 è un esercizio in evoluzione\, che nasce dalla volontà di ricercare il vocabolario motorio umano\, durante lo studio e nel tempo che separa uno studente da un esame. La frenesia\, l’agitazione\, il dondolio\, il prurito\, la sudorazione sono strategie comiche adottate per la sopravvivenza. \n 
URL:https://backup.sistemamedcampania.it/evento/cdtm-monday-dance-matricola-0541/
LOCATION:Teatro Nuovo\, Via Montecalvario 16\, Napoli\, 80134\, Italia
CATEGORIES:Borderline Danza,CDTM Circuito Campano della Danza,Danza,Monday Dance
ATTACH;FMTTYPE=image/jpeg:https://backup.sistemamedcampania.it/wp-content/uploads/2018/11/matricola-0541-monday-dance.jpg
END:VEVENT
BEGIN:VEVENT
DTSTART;TZID=Europe/Rome:20181112T210000
DTEND;TZID=Europe/Rome:20181112T210000
DTSTAMP:20260419T205736
CREATED:20181109T131920Z
LAST-MODIFIED:20181109T131920Z
UID:4039-1542056400-1542056400@backup.sistemamedcampania.it
SUMMARY:CDTM. Monday Dance - Periodo Blu
DESCRIPTION:Tornano i Monday Dance del Circuito della danza Campana; 4 lunedì 11 spettacoli. \nSecondo appuntamento con Periodo Blu\ncoreografia e danza: Antonello Apicella e Ina Colizza \nPeriodo Blu è uno sguardo gentile e talvolta giocoso verso momenti di assurdità e disperazione\, depressione e speranza.\nI due personaggi – uno come bloccato nel passato e l’altro rivolto verso il futuro – mostrano due sfumature di uno stesso colore allo stesso tempo bello e spietato per la sua forza espressiva\, ma soprattutto per il suo struggente valore psicologico\, che permette di trascendere le descrizioni naturali. \n  \ninfo: https://www.facebook.com/events/2314032075277117/
URL:https://backup.sistemamedcampania.it/evento/cdtm-monday-dance-periodo-blu/
LOCATION:Teatro Nuovo\, Via Montecalvario 16\, Napoli\, 80134\, Italia
CATEGORIES:CDTM Circuito Campano della Danza,Danza,Monday Dance
ATTACH;FMTTYPE=image/jpeg:https://backup.sistemamedcampania.it/wp-content/uploads/2018/11/periodo-blu.jpg
END:VEVENT
BEGIN:VEVENT
DTSTART;TZID=Europe/Rome:20181112T210000
DTEND;TZID=Europe/Rome:20181112T210000
DTSTAMP:20260419T205736
CREATED:20181109T131102Z
LAST-MODIFIED:20181109T132037Z
UID:4035-1542056400-1542056400@backup.sistemamedcampania.it
SUMMARY:CDTM. Monday Dance-Autorissimi
DESCRIPTION:Tornano i Monday Dance del Circuito della danza Campana; 4 lunedì 11 spettacoli. \nSecondo appuntamento con Autorissimi\ncoreografie e interpretazione di Gennaro Maione e Andrea Zardi \nChi crea la danza sa a chi sta parlando?\nE di cosa sta parlando?\nE con quali mezzi?\nEssere autori significa sporcarsi le mani con l’attualità\, le idee\, l’emotività\, parlare di vita vera\, strizzare l’occhio alle proprie esperienze e alla propria personalità. Bisogna attraversare il confine del proprio ego e trasportarlo in scena\, condividerlo con il pubblico: per questo occorre consapevolezza. Gli artisti devono avere la capacità di evolversi\, trasformarsi\, ma senza mai rimuovere il proprio passato\, di cui sono portatori sani. \n  \ninfo: https://www.facebook.com/events/2314032075277117/
URL:https://backup.sistemamedcampania.it/evento/cdtm-monday-dance-autorissimi/
LOCATION:Teatro Nuovo\, Via Montecalvario 16\, Napoli\, 80134\, Italia
CATEGORIES:CDTM Circuito Campano della Danza,Danza,Monday Dance
ATTACH;FMTTYPE=image/jpeg:https://backup.sistemamedcampania.it/wp-content/uploads/2018/11/autorissimi.jpg
END:VEVENT
BEGIN:VEVENT
DTSTART;TZID=Europe/Rome:20181029T210000
DTEND;TZID=Europe/Rome:20181029T210000
DTSTAMP:20260419T205736
CREATED:20181026T145522Z
LAST-MODIFIED:20181109T132126Z
UID:3970-1540846800-1540846800@backup.sistemamedcampania.it
SUMMARY:CDTM. Monday Dance-Archeologica
DESCRIPTION:Tornano i Monday Dance del Circuito della danza Campana; 4 lunedì 11 spettacoli. \nPrimo appuntamento con Archeologica \ncoreografie e danza di Valeria D’Antonio \nQuesto lavoro parte da uno studio di sensazioni ed emozioni che\, attraverso un ascolto attento e profondo\, descrive il dialogo intimo tra mente e corpo. \n“Archeologica” vuole esprimere la scoperta di un’essenza ritrovata\, fatta di vuoti e pieni che battono il tempo delle connessioni e delle relazioni interne ed esterne all’animo e al corpo. Proprio l’attenzione posta sui pieni e sui vuoti corporei\, fa sì che infinite possibilità e sensazioni attraversino l’armatura corporea che\, esprimendosi attraverso un lavoro di epurazione\, si apre e si rivela. \n  \ninfo: https://www.facebook.com/events/2314032075277117/
URL:https://backup.sistemamedcampania.it/evento/cdtm-monday-dance-archeologica/
LOCATION:Teatro Nuovo\, Via Montecalvario 16\, Napoli\, 80134\, Italia
CATEGORIES:CDTM Circuito Campano della Danza,Danza,Monday Dance
ATTACH;FMTTYPE=image/jpeg:https://backup.sistemamedcampania.it/wp-content/uploads/2018/10/archeologica.jpg
END:VEVENT
BEGIN:VEVENT
DTSTART;TZID=Europe/Rome:20181029T210000
DTEND;TZID=Europe/Rome:20181029T210000
DTSTAMP:20260419T205736
CREATED:20181026T145043Z
LAST-MODIFIED:20181029T095410Z
UID:3967-1540846800-1540846800@backup.sistemamedcampania.it
SUMMARY:CDTM. Monday Dance-Twin
DESCRIPTION:Tornano i Monday Dance del Circuito della danza Campana; 4 lunedì 11 spettacoli. \nPrimo appuntamento con Twin \nCoreografia e concetto di Luna Cenere\nVisual di Gilles Dubroca\nMusiche di Gerard Valverde \nTwin costituisce il primo step di un processo. Un frammento\, parte di un progetto più ampio che ha come tema principale il binomio Natura-Tecnologia. La ricerca per questo assolo ha inizio con una riflessione sulla relazione tra il corpo e la macchina contemporanea e si sostanzia nell’incontro artistico tra la danzatrice e l’artista visivo. I due artisti si domandano in che maniera l’elemento fisico e quello visuale entrano in comunicazione e qual’è la forma di dialogo che si stabilisce e ricostruisce ad ogni nuova ‘rivoluzione’. \n  \ninfo: https://www.facebook.com/events/2314032075277117/
URL:https://backup.sistemamedcampania.it/evento/cdtm-monday-dance-twin/
LOCATION:Teatro Nuovo\, Via Montecalvario 16\, Napoli\, 80134\, Italia
CATEGORIES:CDTM Circuito Campano della Danza,Danza,Monday Dance
ATTACH;FMTTYPE=image/jpeg:https://backup.sistemamedcampania.it/wp-content/uploads/2018/10/twin.jpg
END:VEVENT
BEGIN:VEVENT
DTSTART;TZID=Europe/Rome:20181029T210000
DTEND;TZID=Europe/Rome:20181029T210000
DTSTAMP:20260419T205736
CREATED:20181026T144704Z
LAST-MODIFIED:20181029T095223Z
UID:3963-1540846800-1540846800@backup.sistemamedcampania.it
SUMMARY:CDTM. Monday Dance-Re-Born
DESCRIPTION:Tornano i Monday Dance del Circuito della danza Campana; 4 lunedì 11 spettacoli. \nPrimo appuntamento con Re-Born \nCoreografie: Martina Fasano\nScenografie: Francesco Leone\nDanzatori: Luigi d’Aiello\, Martina Fasano\, Katia Marocco\, Emanuela Rossitti \nUn tuffo nel vuoto. Tre piani. La vita che sembra spegnersi sull’asfalto. Ma la vita non si lascia mettere al tappeto senza combattere: sarà un lungo testa a testa tra Francesco e la morte. Ciò che da soli sembrava essere insormontabile\, assieme diventa possibile. Ciò che nella spossatezza di un dolore apparentemente insuperabile era apparso come una possibilità di fuga\, si rivela per quello è: una resa senza giustizia. La morte\, prima quasi invocata\, sarà combattuta con ogni fibra\, e sconfitta. \ninfo: https://www.facebook.com/events/2314032075277117/
URL:https://backup.sistemamedcampania.it/evento/cdtm-monday-dance-re-born/
LOCATION:Teatro Nuovo\, Via Montecalvario 16\, Napoli\, 80134\, Italia
CATEGORIES:CDTM Circuito Campano della Danza,Danza,Monday Dance
ATTACH;FMTTYPE=image/jpeg:https://backup.sistemamedcampania.it/wp-content/uploads/2018/02/re-born.jpg
END:VEVENT
END:VCALENDAR