BEGIN:VCALENDAR
VERSION:2.0
PRODID:-//Sistema Med Campania - ECPv6.7.0//NONSGML v1.0//EN
CALSCALE:GREGORIAN
METHOD:PUBLISH
X-ORIGINAL-URL:https://backup.sistemamedcampania.it
X-WR-CALDESC:Eventi per Sistema Med Campania
REFRESH-INTERVAL;VALUE=DURATION:PT1H
X-Robots-Tag:noindex
X-PUBLISHED-TTL:PT1H
BEGIN:VTIMEZONE
TZID:Europe/Rome
BEGIN:DAYLIGHT
TZOFFSETFROM:+0100
TZOFFSETTO:+0200
TZNAME:CEST
DTSTART:20180325T010000
END:DAYLIGHT
BEGIN:STANDARD
TZOFFSETFROM:+0200
TZOFFSETTO:+0100
TZNAME:CET
DTSTART:20181028T010000
END:STANDARD
END:VTIMEZONE
BEGIN:VEVENT
DTSTART;TZID=Europe/Rome:20180420T203000
DTEND;TZID=Europe/Rome:20180420T203000
DTSTAMP:20260419T211055
CREATED:20180418T083557Z
LAST-MODIFIED:20180418T083557Z
UID:3495-1524256200-1524256200@backup.sistemamedcampania.it
SUMMARY:Quelli che la Danza 2018. Collective trip Borderline Danza e Deadline Artedanza
DESCRIPTION:Il Circuito della Danza Campana CDTM riparte con l’ edizione 2018 di Quelli che la Danza. Linguaggi della danza contemporanea.Prossimo appuntamento con BORDERLINEDANZA e ARTEDANZA \nPrima parte: \nCOLLECTIVE TRIP è il titolo/contenitore del nuovo progetto di Borderlinedanza che ha come fine la realizzazione di performances il cui ambito di indagine macroscopico è la presenza del pubblico all’interno dell’area performativa quasi per decostruire le regole consolidate della finzione. Partendo dalla necessità di esplorare\, verificare e mettere in pratica nuovi modi di composizione e del mettere in scena\, i performers (danzatori e pubblico che vuole partecipare all’azione) affronteranno il tema del gender\, della trasformazione\, dell’amore con lucidità e ambiguità attraversando significati e sensazioni e cercando di mettere in discussione ciò che si prova e le certezze di chi osserva. Con i loro agire e le loro storie si sfideranno i presenti a guardarsi dentro e volendo\, a confessare/si l’inconfessabile \nConcept\, regia e coreografia Claudio Malangone\nPerformers: Luigi Aruta\, Adriana Cristiano\, Alessandro De Santis\, Antonio Formisano\, Francesca Montesanto\, Giada Ruoppo \nSeconda parte:\nARTEDANZA presenta DEADLINE#da consumarsi preferibilmente entro la vita.\nStudio interattivo tra pubblico e artisti sulla necessità di apparire e l’intenzione di essere. Tutto ha un tempo\, una SCADENZA… l’aspetto\, il contegno \, il comportamento esteriore. Ognuno decide la sua deadline. \nConcept e coreografia Tiziana Petrone \n 
URL:https://backup.sistemamedcampania.it/evento/la-danza-2018-collective-trip-borderline-danza-deadline-artedanza/
CATEGORIES:Borderline Danza,Danza,Quelli che la Danza 2018
ATTACH;FMTTYPE=image/jpeg:https://backup.sistemamedcampania.it/wp-content/uploads/2018/04/collective.deadline.jpg
END:VEVENT
BEGIN:VEVENT
DTSTART;TZID=Europe/Rome:20180413T210000
DTEND;TZID=Europe/Rome:20180413T210000
DTSTAMP:20260419T211055
CREATED:20180411T122618Z
LAST-MODIFIED:20180411T122618Z
UID:3469-1523653200-1523653200@backup.sistemamedcampania.it
SUMMARY:Quelli che la Danza 2018. Garbage Girls - Gruppo E-motion
DESCRIPTION:Il Circuito della Danza Campana CDTM riparte con l’ edizione 2018 di Quelli che la Danza. Linguaggi della danza contemporanea.Prossimo appuntamento con Garbage Girls del Gruppo E-motion. \nGarbage girls è un viaggio poetico tra i rifiuti\, tra immanente e trascendente\, tra coloro che sono costretti a vivere nella desolazione\, testimoni della crudeltà della vita e dei suoi mille misteri. La creazione si muove alla ricerca di espressioni vitali\, di movimenti naturali\, di dialoghi gestuali che stendono la storia nella quale gli interpreti si lasciano costruire addosso e costruiscono una serie di situazioni che giocano tra il reale\, il grottesco e il trascendentale. \ninfo: \nhttps://www.facebook.com/quellicheladanza/
URL:https://backup.sistemamedcampania.it/evento/la-danza-2018-garbage-girls-gruppo-motion/
LOCATION:Teatro Sala Pasolini\, Lungomare Trieste\, 13\, Salerno\, Italia
CATEGORIES:CDTM Circuito Campano della Danza,Danza,Quelli che la Danza 2018
ATTACH;FMTTYPE=image/jpeg:https://backup.sistemamedcampania.it/wp-content/uploads/2018/04/garbage-girls.jpg
END:VEVENT
BEGIN:VEVENT
DTSTART;TZID=Europe/Rome:20180408T183000
DTEND;TZID=Europe/Rome:20180408T200000
DTSTAMP:20260419T211055
CREATED:20180328T132223Z
LAST-MODIFIED:20180328T132223Z
UID:3445-1523212200-1523217600@backup.sistemamedcampania.it
SUMMARY:Quelli che la Danza 2018. La Teoria dello Sciame Intelligente - Movimento Danza
DESCRIPTION:Il Circuito della Danza Campana CDTM riparte con l’ edizione 2018 di Quelli che la Danza. Linguaggi della danza contemporanea.Prossimo appuntamento con Movimento Danza. \n\nLa teoria dello sciame intelligente è una live performance ideata da Gabriella Stazio in cui i concept compositivi di base si rifanno alla teoria dello Swarm Intelligence ovvero\, sulle incredibili capacità di insetti sociali\, stormi di uccelli\, banchi di pesci\, di risolvere problemi complessi ad una organizzazione senza organizzazione. Il comportamento collettivo in biologia è quel modello di comportamento grazie al quale un sistema di individui reagisce come un unico organismo ad uno stimolo esterno. E dove questa risposta collettiva del sistema è massima vicino al confine tra ordine e disordine. Un gruppo di artisti può essere come un banco di pesci o una colonia di insetti in cui le interazioni tra i soggetti garantiscono la propagazione delle informazioni con un sistema robusto e flessibile? \n  \ninfo: \nhttps://www.facebook.com/quellicheladanza/ \n 
URL:https://backup.sistemamedcampania.it/evento/la-danza-2018-la-teoria-dello-sciame-intelligente-movimento-danza/
LOCATION:Teatro Nuovo\, Via Montecalvario 16\, Napoli\, 80134\, Italia
CATEGORIES:CDTM Circuito Campano della Danza,Danza,Movimento Danza,Quelli che la Danza 2018
ATTACH;FMTTYPE=image/jpeg:https://backup.sistemamedcampania.it/wp-content/uploads/2018/03/la-teoria-dello-sciame-intelligente.jpg
END:VEVENT
BEGIN:VEVENT
DTSTART;TZID=Europe/Rome:20180407T210000
DTEND;TZID=Europe/Rome:20180407T220000
DTSTAMP:20260419T211055
CREATED:20180328T131131Z
LAST-MODIFIED:20180328T131131Z
UID:3442-1523134800-1523138400@backup.sistemamedcampania.it
SUMMARY:Quelli che la Danza 2018. Corpo a Corpo - Compagnia  Zappalà
DESCRIPTION:Il Circuito della Danza Campana CDTM riparte con l’ edizione 2018 di Quelli che la Danza. Linguaggi della danza contemporanea. \nCorpo a Corpo\, prima assoluta marzo 2018\, indaga la violenza che i corpi subiscono e esprimono sin dall’inizio della vita. L’intenzione è quella di meditare sul tema della violenza\, sul bene e il male\, sulle lotte dell’umanità partendo dalle figure di Caino e Abele. Corpo a Corpo è la prima lotta e anche il primo delitto; il primo fratricidio e anche il primo martirio; la prima conseguenza della rottura del rapporto fra gli uomini con Dio. Una rottura così tragica e definitiva da condurre al delitto. Un dittico per indagare una possibilità utopica… ” E se Hitler avesse vinto la Guerra ” insieme a ” e se Napoleone non fosse stato sconfitto a Waterloo ” sono le più usate e classiche ipotesi ucroniche ” E se Caino non avesse ucciso Abele ” è invece l’ucronia positiva non storico sociologica ma biblico religiosa che la nuova creazione di Roberto Zappalà affronta con i mezzi che ovviamente gli sono propri: i corpi\, il movimento\, la danza. \ninfo: \nhttps://www.facebook.com/quellicheladanza/ \n 
URL:https://backup.sistemamedcampania.it/evento/la-danza-2018-corpo-corpo-compagnia-zappala/
LOCATION:Teatro Nuovo\, Via Montecalvario 16\, Napoli\, 80134\, Italia
CATEGORIES:CDTM Circuito Campano della Danza,Danza,Quelli che la Danza 2018
ATTACH;FMTTYPE=image/jpeg:https://backup.sistemamedcampania.it/wp-content/uploads/2018/03/corpo-a-corpo.jpg
END:VEVENT
BEGIN:VEVENT
DTSTART;TZID=Europe/Rome:20180406T210000
DTEND;TZID=Europe/Rome:20180406T220000
DTSTAMP:20260419T211055
CREATED:20180328T113001Z
LAST-MODIFIED:20180328T113001Z
UID:3439-1523048400-1523052000@backup.sistemamedcampania.it
SUMMARY:Quelli che la Danza 2018. Romanzo d' Infanzia - Compagnia Abbondanza Bertoni
DESCRIPTION:Il Circuito della Danza Campana CDTM riparte con l’ edizione 2018 di Quelli che la Danza. Linguaggi della danza contemporanea.  \nRomanzo d’ Infanzia è uno spettacolo in cui il linguaggio del teatro-danza si propone in una formula più narrativa ed immediata in modo da renderlo fruibile anche dai bambini. L’infanzia è il diamante della nostra vita\, grezza e abbagliante. Si può scheggiarlo e offuscare la potenza della sua luce. E questo è male? Non so\, ma fa male\, molto male. Se è vero che d’amore si può impazzire è ancor più vero che senza amore si diventa matti e infelici. E che disastro i bambini senza amore o con troppo amore. Tra gli eterni deboli ci sono i bambini. Si parla del disagio infantile all’interno dei rapporti primari-affettivi\, della violenza fisica e psicologica che l’infanzia subisce a casa o nelle istituzioni\, del delitto di non ascoltare i propri figli\, di colpe senza colpevoli. Due danzatori che si alternano tra essere genitori e figli\, alternano il subire e il ribellarsi e fuggire e difendere e proteggersi e scappare e tornare e farsi rapire per sempre senza ritorni: insomma vivere. \ninfo: \nhttps://www.facebook.com/quellicheladanza/ \n 
URL:https://backup.sistemamedcampania.it/evento/la-danza-2018-romanzo-d-infanzia-compagnia-abbondanza-bertoni/
LOCATION:Teatro Nuovo\, Corso Matteotti 20\, Milano\, Milano\, 20121\, Italia
CATEGORIES:CDTM Circuito Campano della Danza,Danza,Quelli che la Danza 2018
ATTACH;FMTTYPE=image/jpeg:https://backup.sistemamedcampania.it/wp-content/uploads/2018/03/romanzo-dinfanzia.jpg
END:VEVENT
BEGIN:VEVENT
DTSTART;TZID=Europe/Rome:20180405T183000
DTEND;TZID=Europe/Rome:20180405T200000
DTSTAMP:20260419T211055
CREATED:20180328T105402Z
LAST-MODIFIED:20180328T105402Z
UID:3434-1522953000-1522958400@backup.sistemamedcampania.it
SUMMARY:Quelli che la Danza 2018. Home Alone - Balletto di Roma
DESCRIPTION:Il Circuito della Danza Campana CDTM riparte con l’ edizione 2018 di Quelli che la Danza. Linguaggi della danza contemporanea. Appuntamento con Home Alone \nAlessandro Sciarroni torna ad esplorare i temi della multimedialità per gli spettatori più giovani\, il lavoro pone i ragazzi di fronte alla possibilità di osservare i mezzi tecnologici come veicolo di creatività e non di mera alienazione. Home Alone fa divertire e anche riflettere\, proponendo l’idea di muoversi e agire in uno spazio performativo in modi insoliti e imprevisti\, richiama la profonda intelligenza e intuizione che ogni giovane spettatore ( e possibile performer) porta con sé coinvolgendo piccoli e grandi in un sorprendente gioco visivo. Con l’utilizzo di un computer e di uno schermo in scena\, gli interpreti deformeranno\, amplieranno e restringeranno lo spazio adattando il proprio corpo alle immagini di un riflesso multiforme. Parte integrante della performance\, momenti di gioco interattivo in cui i bambini\, sperimenteranno il semplice dispositivo tecnologico alla base della performance. \ninfo: \nhttps://www.facebook.com/quellicheladanza/
URL:https://backup.sistemamedcampania.it/evento/la-danza-2018-home-alone-balletto-roma/
LOCATION:Teatro Nuovo\, Via Montecalvario 16\, Napoli\, 80134\, Italia
CATEGORIES:CDTM Circuito Campano della Danza,Danza,Quelli che la Danza 2018
ATTACH;FMTTYPE=image/jpeg:https://backup.sistemamedcampania.it/wp-content/uploads/2018/03/home-alone.jpg
END:VEVENT
BEGIN:VEVENT
DTSTART;TZID=Europe/Rome:20180404T210000
DTEND;TZID=Europe/Rome:20180404T220000
DTSTAMP:20260419T211055
CREATED:20180328T103342Z
LAST-MODIFIED:20180328T105332Z
UID:3430-1522875600-1522879200@backup.sistemamedcampania.it
SUMMARY:Quelli che la Danza 2018. Giselle - Balletto di Roma
DESCRIPTION:Il Circuito della Danza Campana CDTM riparte con l’ edizione 2018 di Quelli che la Danza. Linguaggi della danza contemporanea. \nAppuntamento con Giselle e il Balletto di Roma che ha deciso di affidare questo titolo ai due autori contemporanei. Il primo atto è affidato alla danza materica e intensa di Itamar Serussi\, che sceglie di approfondire il tema dell’amore e del tradimento\, che porterà in scena grazie alla sua abilità di tessere relazioni senza la necessità di un contatto fisico tra i danzatori\, con una danza che porta lo spettatore a vedere con naturalezza un immaginario e traducendo i famosi passi a due e gli assoli di Giselle in una danza che è un invito alla curiosità. Il secondo atto è affidato invece a Chris Haring\, che non sceglie l’amore come tema\, bensì la vendetta: della rivalsa di una donna su un uomo\, ma anche di una vendetta legata al tradimento in generale. In entrambi gli atti infatti\, tutti i danzatori interpretano di volta in volta tutti i personaggi del balletto originale\, sottolineando ancora una volta l’universalità della vicenda di Giselle. \ninfo: \nhttps://www.facebook.com/quellicheladanza/ \n 
URL:https://backup.sistemamedcampania.it/evento/la-danza-2018-giselle-balletto-roma/
LOCATION:Teatro Nuovo\, Via Montecalvario 16\, Napoli\, 80134\, Italia
CATEGORIES:CDTM Circuito Campano della Danza,Danza,Quelli che la Danza 2018
ATTACH;FMTTYPE=image/jpeg:https://backup.sistemamedcampania.it/wp-content/uploads/2018/03/giselle.jpg
END:VEVENT
BEGIN:VEVENT
DTSTART;TZID=Europe/Rome:20180316T210000
DTEND;TZID=Europe/Rome:20180316T210000
DTSTAMP:20260419T211055
CREATED:20180309T145320Z
LAST-MODIFIED:20180309T145320Z
UID:3347-1521234000-1521234000@backup.sistemamedcampania.it
SUMMARY:Quelli che la Danza 2018. JUST TWO. Sull'identità. Look me Inside
DESCRIPTION:Il Circuito della Danza Campana CDTM riparte con l’ edizione 2018 di Quelli che la Danza. Linguaggi della danza contemporanea. Quarto appuntamento. \nIn una serata condivisa\, due coreografi palermitani over 40\, Giuseppe Muscarello e Giovanna Velardi\, propongono due assoli sul tema dell’espressività e dell’identità. Due coreografi dal respiro internazionale\, la cui cifra linguistica e stilistica è fortemente radicata nella sicilianità.\nSull’identità\, di e con Giuseppe Muscarello\, è un disegno coreografico di sfumature differenti\, la cui danza è realizzata con semplicità meccanica. in cui il protagonista Gengè indossa l’immagine esteriore cui è affidata la quotidianità. Immagini di sé\, proiezioni personali e sociali di un soggetto smarrito nella frammentazione.\nLook me inside\,di e con Giovanna Velardi\, è il ritratto di Lu una donna che si mette simbolicamente a nudo ed indaga il corpo esposto allo sguardo degli altri. Lu si accende e si spegne come il suo costume di luce e quando è accesa è pura luce\, si esprime libera\, senza timore di alcun giudizio\, incita il pubblico a trovare lo stesso slancio.
URL:https://backup.sistemamedcampania.it/evento/la-danza-2018-just-two-sullidentita-look-inside/
LOCATION:Teatro Sala Pasolini\, Lungomare Trieste\, 13\, Salerno\, Italia
CATEGORIES:CDTM Circuito Campano della Danza,Danza,Quelli che la Danza 2018
ATTACH;FMTTYPE=image/jpeg:https://backup.sistemamedcampania.it/wp-content/uploads/2018/03/just-two.jpg
END:VEVENT
BEGIN:VEVENT
DTSTART;TZID=Europe/Rome:20180302T180000
DTEND;TZID=Europe/Rome:20180302T180000
DTSTAMP:20260419T211055
CREATED:20180223T121811Z
LAST-MODIFIED:20180223T121811Z
UID:3305-1520013600-1520013600@backup.sistemamedcampania.it
SUMMARY:Quelli che la Danza 2018. Quintetto. Aldes Compagnia.
DESCRIPTION:Il Circuito della Danza Campana CDTM riparte con l’ edizione 2018 di Quelli che la Danza. Linguaggi della danza contemporanea. Terzo appuntamento con Quintetto. \nDi e con Marco Chenevier \nIl “5” \, nell’esoterismo\, è il numero che simboleggia la vita universale \, l’individualità umana\, la volontà\, l’intelligenza\, l’ispirazione e il genio.\nSimboleggia anche l’evoluzione verticale \, il movimento progressivo ascendente .                                                                                  Per l’esoterismo il “5” è il numero dell’uomo come punto mediano tra terra e cielo\, e indica che l’ascensione verso una condizione superiore è possibile . Esso contiene la sintesi dei cinque sensi\, il numero delle dita di un uomo\, è la base decimale\nmatematica\, è il numero del pentacolo ed il numero della stella a cinque punte .\nSi tratta di una cifra dell’uomo\, a cui gli uomini hanno attribuito significati trascendentali fin dalla notte dei tempi.\nMa oggi c’è la crisi… \ninfo: \nhttps://www.facebook.com/pg/quellicheladanza/events/?ref=page_internal
URL:https://backup.sistemamedcampania.it/evento/la-danza-2018-quintetto-aldes-compagnia/
LOCATION:Teatro Sala Pasolini\, Lungomare Trieste\, 13\, Salerno\, Italia
CATEGORIES:CDTM Circuito Campano della Danza,Danza,Quelli che la Danza 2018
ATTACH;FMTTYPE=image/jpeg:https://backup.sistemamedcampania.it/wp-content/uploads/2018/02/quintetto.jpg
END:VEVENT
BEGIN:VEVENT
DTSTART;TZID=Europe/Rome:20180223T210000
DTEND;TZID=Europe/Rome:20180223T210000
DTSTAMP:20260419T211055
CREATED:20180214T125117Z
LAST-MODIFIED:20180214T125117Z
UID:3280-1519419600-1519419600@backup.sistemamedcampania.it
SUMMARY:Quelli che la Danza 2018. Re-Born. ARB Dance Company
DESCRIPTION:Il Circuito della Danza Campana CDTM riparte con l’ edizione 2018 di Quelli che la Danza. Linguaggi della danza contemporanea. Secondo appuntamento con Re- Born \nDanzatori: \nLuigi d’Aiello \nMartina Fasano \nKatia Marocco \nCamilla Rega \nCoreografie: Martina Fasano \nUn tuffo nel vuoto. Tre piani. La vita che sembra spegnersi sull’asfalto. La vita di Francesco\, il protagonista\, giovane pittore e musicista\, e con la sua\, la vita di chi lo ama. A testa in giù verso l’abisso. \nMa la vita non si lascia mettere al tappeto senza combattere: sarà un lungo testa a testa tra Francesco\, con i suoi quadri\, le sue canzoni\, e la morte; colori e musica che combattono con il buio e con il silenzio. \nNel limbo del coma affioreranno ricordi ed echi di un passato felice: la famiglia\, l’esperienza come volontario in Africa\, la fede. Ciò che da soli sembrava essere insormontabile\, assieme diventa possibile. Ciò che la solitudine aveva camuffato da via d’uscita\, ciò che nella spossatezza di un dolore apparentemente insuperabile era apparso come una possibilità di fuga\, si rivela per quello è: una resa senza giustizia. La morte\, prima quasi invocata\, sarà combattuta con ogni fibra\, e sconfitta. Nell’arte\, la rinascita. \ninfo: \nhttps://www.facebook.com/pg/quellicheladanza/events/?ref=page_internal \n 
URL:https://backup.sistemamedcampania.it/evento/la-danza-2018-re-born-arb-dance-company/
LOCATION:Teatro Sala Pasolini\, Lungomare Trieste\, 13\, Salerno\, Italia
CATEGORIES:Arabesque,CDTM Circuito Campano della Danza,Danza,Quelli che la Danza 2018
ATTACH;FMTTYPE=image/jpeg:https://backup.sistemamedcampania.it/wp-content/uploads/2018/02/re-born.jpg
END:VEVENT
BEGIN:VEVENT
DTSTART;TZID=Europe/Rome:20180216T210000
DTEND;TZID=Europe/Rome:20180216T210000
DTSTAMP:20260419T211055
CREATED:20180209T135202Z
LAST-MODIFIED:20180214T124919Z
UID:3247-1518814800-1518814800@backup.sistemamedcampania.it
SUMMARY:Quelli che la Danza 2018. Kosmograph. Associazione Campania Danza
DESCRIPTION:Il Circuito della Danza Campana CDTM riparte con l’ edizione 2018 di Quelli che la Danza. Linguaggi della danza contemporanea. \nPrimo appuntamento con Kosmograph \nCoreografie di Annarita Pasculli\nRegia di Pasquale De Cristofaro \nAttori: Rosanna Di Palma\, Alfonso Liguori\, Giovanni Pisciotta.\nDanzatori: Cristian Cianciulli\, Giorgio Loffredo\, Silvia Manfredi\, Nunzia Prisco. \n  \n“Kosmograph” è un’azione scenica che\, sciogliendo i nodi di una imbarazzante quanto contraddittoria narratività drammatizzata di tante pagine pirandelliane\, si risolve in un flusso di immagini-azioni tendenti a recuperare la profonda costruzione paradossale e ambivalente\, inquieta e inconscia del suo immaginario. Il titolo è preso in prestito da uno dei suoi romanzi più belli ma meno conosciuti\, “I quaderni di Serafino Gubbio\, operatore”. Un romanzo straordinario sul cinema che in quegli anni (siamo nei primi decenni del novecento) muove i primi passi per affermarsi quale nuovo ed efficacissimo strumento artistico per un pubblico sempre meno elitario e popolare. In un serrato confronto tra il corpo teatrale e il corpo cinematografico\, lo spettacolo intende approfondire i rapporti nuovi tra la realtà e l’immaginazione in un universo artistico che si sta ripensando radicalmente rispetto a una tradizione che non regge più e cede sotto i colpi di uno spirito iconoclasta e avanguardista che ne determinerà il suo definitivo tramonto. Ad una dismissione quasi totale della parola\, impossibilitata ormai a dare senso ad una troppo usurata comunicazione\, si contrappone\, qui\, la necessità e il bisogno di sostituirla con una nuova sintassi e grammatica visiva che sappia ridare nuovo slancio e motivazione a noi uomini di questa tarda modernità. Nel momento in cui tutto sembra congiurare contro l’uomo a favore di una realtà post-umana\, ci è sembrato opportuno ritornare al Pirandello ultimo dei “Giganti” e alla sua dolente e inconclusa poesia. \n  \ninfo: \nhttps://www.facebook.com/pg/quellicheladanza/events/?ref=page_internal
URL:https://backup.sistemamedcampania.it/evento/la-danza-2018-kosmograph-associazione-campania-danza/
LOCATION:Teatro Sala Pasolini\, Lungomare Trieste\, 13\, Salerno\, Italia
CATEGORIES:CDTM Circuito Campano della Danza,Danza,Quelli che la Danza 2018
ATTACH;FMTTYPE=image/jpeg:https://backup.sistemamedcampania.it/wp-content/uploads/2018/02/kosmograph.jpg
END:VEVENT
END:VCALENDAR