BEGIN:VCALENDAR
VERSION:2.0
PRODID:-//Sistema Med Campania - ECPv6.7.0//NONSGML v1.0//EN
CALSCALE:GREGORIAN
METHOD:PUBLISH
X-WR-CALNAME:Sistema Med Campania
X-ORIGINAL-URL:https://backup.sistemamedcampania.it
X-WR-CALDESC:Eventi per Sistema Med Campania
REFRESH-INTERVAL;VALUE=DURATION:PT1H
X-Robots-Tag:noindex
X-PUBLISHED-TTL:PT1H
BEGIN:VTIMEZONE
TZID:Europe/Rome
BEGIN:DAYLIGHT
TZOFFSETFROM:+0100
TZOFFSETTO:+0200
TZNAME:CEST
DTSTART:20220327T010000
END:DAYLIGHT
BEGIN:STANDARD
TZOFFSETFROM:+0200
TZOFFSETTO:+0100
TZNAME:CET
DTSTART:20221030T010000
END:STANDARD
END:VTIMEZONE
BEGIN:VEVENT
DTSTART;TZID=Europe/Rome:20220527T183000
DTEND;TZID=Europe/Rome:20220527T183000
DTSTAMP:20260420T022107
CREATED:20220524T110546Z
LAST-MODIFIED:20220524T110546Z
UID:7449-1653676200-1653676200@backup.sistemamedcampania.it
SUMMARY:Collegium Philarmonicum. Giovani D' Intorno - Paese Mio Bello
DESCRIPTION:Giovani D’ Intorno dell ’associazione Collegium Philarmonicum prosegue con un concerto a quattro voci e due chitarre.La guida all’ ascolto è a cura di Chiara Macor \n  \nLello Giulivo\, Gianni Lamagna\, Anna Spagnuolo e Patrizia Spinosi\, voci \nMichele Bonè\, Paolo Propoli\, chitarre \n  \n\n\n\n\n Info e prenotazioni : Whatsapp e Telefono 328 869 2445\n\nAcquista il tuo biglietto: https://www.etes.it
URL:https://backup.sistemamedcampania.it/evento/collegium-philarmonicum-giovani-d-intorno-paese-mio-bello/
LOCATION:Chiesa dei Santi Cosma e Damiano\, Largo Banchi Nuovi\, Napoli\, 80134\, Italia
CATEGORIES:Collegium Philarmonicum,Giovani D' Intorno,Musica
ATTACH;FMTTYPE=image/jpeg:https://backup.sistemamedcampania.it/wp-content/uploads/2022/05/paese-mio-bello.jpg
END:VEVENT
BEGIN:VEVENT
DTSTART;TZID=Europe/Rome:20220522T183000
DTEND;TZID=Europe/Rome:20220522T183000
DTSTAMP:20260420T022107
CREATED:20220517T155847Z
LAST-MODIFIED:20220517T155847Z
UID:7419-1653244200-1653244200@backup.sistemamedcampania.it
SUMMARY:Collegium Philarmonicum. Giovani D' Intorno - Divertimenti tra Napoli e Venezia
DESCRIPTION:Giovani D’ Intorno dell ’associazione Collegium Philarmonicum prosegue con un repertorio variegato che spazia da Vivaldi a Barbella\, con voci soliste\, passando a brani tratti dai Passatempi Musicali di Cottreau. Lorenzo Corrado ci guiderà all’ ascolto \n  \nFrancesco Russo\, mandolino \nSalvatore Ruggiero\, oboe \nSabrina Sanza\, soprano \nElide Facciuto\, mezzosoprano \nAndrea Cataldo\, tenore \nGiuseppe Todisco\, baritono \nOrchestra Collegium Philarmonicum \nDirettore Gennaro Cappabianca \nOrchestrazione di Carlo Mormile \n  \n\n\n\n\n Info e prenotazioni : Whatsapp e Telefono 328 869 2445\n\nAcquista il tuo biglietto: https://www.etes.it
URL:https://backup.sistemamedcampania.it/evento/collegium-philarmonicum-giovani-d-intorno-divertimenti-tra-napoli-e-venezia/
LOCATION:Chiesa di Santa Maria di Donnalbina\, Vico Portapiccola Donnalbina\, 6\, Napoli\, 80134\, Italia
CATEGORIES:Collegium Philarmonicum,Giovani D' Intorno,Musica
ATTACH;FMTTYPE=image/jpeg:https://backup.sistemamedcampania.it/wp-content/uploads/2022/05/divertimenti.jpg
END:VEVENT
BEGIN:VEVENT
DTSTART;TZID=Europe/Rome:20220507T183000
DTEND;TZID=Europe/Rome:20220507T183000
DTSTAMP:20260420T022107
CREATED:20220502T130149Z
LAST-MODIFIED:20220502T130149Z
UID:7356-1651948200-1651948200@backup.sistemamedcampania.it
SUMMARY:Collegium Philarmonicum. Giovani D' Intorno - Chambercelli
DESCRIPTION:Giovani D’ Intorno dell ’associazione Collegium Philarmonicum prosegue con un ensemble d’eccezione:  un gruppo di violoncelli con un repertorio che spazia dal classico al pop\, guidati dal mº Aurelio Bertucci. La guida all’ascolto è a cura di Rossella Gaglione.\n\nMusiche di Händel\, Caccini\, Pergolesi\, Vivaldi\, Beethoven\, Lacalle.     \n\n\n\n\n\n\n Info e prenotazioni : Whatsapp e Telefono 328 869 2445
URL:https://backup.sistemamedcampania.it/evento/collegium-philarmonicum-giovani-d-intorno-chambercelli/
LOCATION:Chiesa dei Santi Cosma e Damiano\, Largo Banchi Nuovi\, Napoli\, 80134\, Italia
CATEGORIES:Collegium Philarmonicum,Giovani D' Intorno,Musica
ATTACH;FMTTYPE=image/jpeg:https://backup.sistemamedcampania.it/wp-content/uploads/2022/05/chamebercelli.jpg
END:VEVENT
BEGIN:VEVENT
DTSTART;TZID=Europe/Rome:20220501T183000
DTEND;TZID=Europe/Rome:20220501T183000
DTSTAMP:20260420T022107
CREATED:20220427T152313Z
LAST-MODIFIED:20220427T152313Z
UID:7343-1651429800-1651429800@backup.sistemamedcampania.it
SUMMARY:Collegium Philarmonicum. Giovani D' Intorno - Quartetto Eilat
DESCRIPTION:Il primo concerto del mese di maggio della rassegna Giovani D’ Intorno dell ’associazione Collegium Philarmonicum\, vede ancora protagonista una formazione di Cameristi dell’ Orchestra Collegium Philarmonicum. Ospite il Quartetto Eilat insieme ai solisti Vincenzo Musone al corno e Simone Sirugo al clarinetto; in programma un repertorio di Mozart e Brahms. La guida all’ ascolto è a cura di Alba Brundo.\n\n\nSimona Cappabianca e Margherita Finamonti\, violini\nMargherita Fanton\, viola\nEnrico Graziani\, violoncello\n\n\n\n\n\n\n\n\nPer info e prenotazioni : Whatsapp e Telefono 328 869 2445
URL:https://backup.sistemamedcampania.it/evento/collegium-philarmonicum-giovani-d-intorno-quartetto-eilat/
LOCATION:Chiesa dei Santi Cosma e Damiano\, Largo Banchi Nuovi\, Napoli\, 80134\, Italia
CATEGORIES:Collegium Philarmonicum,Giovani D' Intorno,Musica
ATTACH;FMTTYPE=image/jpeg:https://backup.sistemamedcampania.it/wp-content/uploads/2022/04/quartetto-eilat.jpg
END:VEVENT
BEGIN:VEVENT
DTSTART;TZID=Europe/Rome:20220421T183000
DTEND;TZID=Europe/Rome:20220421T183000
DTSTAMP:20260420T022107
CREATED:20220419T083528Z
LAST-MODIFIED:20220419T083528Z
UID:7311-1650565800-1650565800@backup.sistemamedcampania.it
SUMMARY:Collegium Philarmonicum. Giovani D' Intorno -InDiferencias
DESCRIPTION:La rassegna Giovani D’ Intorno dell ’associazione Collegium Philarmonicum\, prosegue con InDiferencias\, un programma radiofonico in forma di concerto di Antonello Paliotti con la guida all’ ascolto a cura di Giovanni Block.  \nMusiche di J. Bosco\, A. Paliotti\, E Gismonti\, Ch. Aznavour\, B. Bachrach\, L. Tenco \n  \nSimona Cappabianca\, violino \nGennaro Cappabianca\, viola \nFrancopaolo Perreca\, clarinetto e sax soprano \nAntonello Paliotti\, chitarra \nAurelio Bertucci ed Enrico Graziani\, violoncello \nGianni Stocco\, contrabbasso \nRoberto Iannuzzi\, chitarra \nAntonella Ippolito\, voce \n  \n  \n\n\nAcquista qui il tuo biglietto: https://www.etes.it/\n\n\n\nPer info e prenotazioni : Whatsapp e Telefono 328 869 2445\n\n\n\n\n\n\n\n  \n 
URL:https://backup.sistemamedcampania.it/evento/collegium-philarmonicum-giovani-d-intorno-indiferencias/
LOCATION:Chiesa dei Santi Cosma e Damiano\, Largo Banchi Nuovi\, Napoli\, 80134\, Italia
CATEGORIES:Collegium Philarmonicum,Giovani D' Intorno,Musica
ATTACH;FMTTYPE=image/jpeg:https://backup.sistemamedcampania.it/wp-content/uploads/2022/04/indiferencias-copia.jpg
END:VEVENT
BEGIN:VEVENT
DTSTART;TZID=Europe/Rome:20220415T183000
DTEND;TZID=Europe/Rome:20220415T193000
DTSTAMP:20260420T022107
CREATED:20220411T105331Z
LAST-MODIFIED:20220411T105331Z
UID:7289-1650047400-1650051000@backup.sistemamedcampania.it
SUMMARY:Collegium Philarmonicum. Giovani D' Intorno - Stabat Mater
DESCRIPTION:Nel prossimo appuntamento della rassegna Giovani D’ Intorno dell ’associazione Collegium Philarmonicum\, l’Orchestra da Camera Collegium Philarmonicum diretta dal Mº Gennaro Cappabianca farà rivivere lo Stabat Mater di Pergolesi-Paisiello.\n\nIntorno al 1810\, settantacinque anni dopo la creazione della composizione pergolesiana dello Stabat Mater\, Giovanni Paisiello\, all’apice della sua carriera\, decise di stendere in partitura una versione con un organico più ampio. Egli\, in particolar modo\, introdusse una sezione di strumenti a fiato come flauti\, oboi\, clarinetti\, fagotti e corni e raddoppiò le voci aggiungendo quelle del Tenore e del Basso rispetto all’originale che prevedeva due voci femminili\, un Soprano e un Mezzosoprano.\n\n\n\nGennaro Cappabianca\, direttore\nChiara Polese\, Soprano\nElide Facciuto\, Mezzosoprano\nAndrea Cataldo\, Tenore\nDavide Sabatino\, Basso\n\n\n\n\n\n\nAcquista qui il tuo biglietto: https://www.etes.it/\n\n\n\nPer info e prenotazioni : Whatsapp e Telefono 328 869 2445
URL:https://backup.sistemamedcampania.it/evento/collegium-philarmonicum-giovani-d-intorno-stabat-mater/
LOCATION:Chiesa di Santa Maria di Donnalbina\, Vico Portapiccola Donnalbina\, 6\, Napoli\, 80134\, Italia
CATEGORIES:Collegium Philarmonicum,Giovani D' Intorno,Musica
ATTACH;FMTTYPE=image/jpeg:https://backup.sistemamedcampania.it/wp-content/uploads/2022/04/stabat-mater.jpg
END:VEVENT
BEGIN:VEVENT
DTSTART;TZID=Europe/Rome:20220403T183000
DTEND;TZID=Europe/Rome:20220403T183000
DTSTAMP:20260420T022107
CREATED:20220328T100442Z
LAST-MODIFIED:20220328T145121Z
UID:7251-1649010600-1649010600@backup.sistemamedcampania.it
SUMMARY:Collegium Philarmonicum. Giovani D' Intorno - Il Corno Italiano
DESCRIPTION:Parte la rassegna Giovani D’ Intorno dell ’associazione Collegium Philarmonicum. Per il primo o appuntamento l’ Orchestra da camera Collegium Philarmonicum accompagna Francesco Mattioli\, 1° Corno del Teatro San Carlo di Napoli. \nGuida all’ ascolto a cura di Chiara Macor \n  \nProgramma: \nSaverio Mercadante – concerto in Re min per corno ed orchestra da cera;  variazioni per corno e orchestra d’n archi \nFrancesco Durante – “La Pazzia” Concerto n.8 il La per archi (trascrizione di Adriano Luald) \nOttorino Respighi – Antiche danze ed arie per liuto\, suite n°3 \n  \n  \n\nAcquista qui il tuo biglietto: IlCornoItaliano_FrancescoMattioli\n\n\n\n\nPer info e prenotazioni : Whatsapp e Telefono 328 869 2445 \n\n\n\n\n\n\n  \n 
URL:https://backup.sistemamedcampania.it/evento/collegium-philarmonicum-giovani-d-intorno-il-corno-italiano/
LOCATION:Chiesa dei Santi Cosma e Damiano\, Largo Banchi Nuovi\, Napoli\, 80134\, Italia
CATEGORIES:Collegium Philarmonicum,Giovani D' Intorno,Musica
ATTACH;FMTTYPE=image/jpeg:https://backup.sistemamedcampania.it/wp-content/uploads/2022/03/corno-italiano.jpg
END:VEVENT
END:VCALENDAR