BEGIN:VCALENDAR
VERSION:2.0
PRODID:-//Sistema Med Campania - ECPv6.7.0//NONSGML v1.0//EN
CALSCALE:GREGORIAN
METHOD:PUBLISH
X-WR-CALNAME:Sistema Med Campania
X-ORIGINAL-URL:https://backup.sistemamedcampania.it
X-WR-CALDESC:Eventi per Sistema Med Campania
REFRESH-INTERVAL;VALUE=DURATION:PT1H
X-Robots-Tag:noindex
X-PUBLISHED-TTL:PT1H
BEGIN:VTIMEZONE
TZID:Europe/Rome
BEGIN:DAYLIGHT
TZOFFSETFROM:+0100
TZOFFSETTO:+0200
TZNAME:CEST
DTSTART:20210328T010000
END:DAYLIGHT
BEGIN:STANDARD
TZOFFSETFROM:+0200
TZOFFSETTO:+0100
TZNAME:CET
DTSTART:20211031T010000
END:STANDARD
BEGIN:DAYLIGHT
TZOFFSETFROM:+0100
TZOFFSETTO:+0200
TZNAME:CEST
DTSTART:20220327T010000
END:DAYLIGHT
BEGIN:STANDARD
TZOFFSETFROM:+0200
TZOFFSETTO:+0100
TZNAME:CET
DTSTART:20221030T010000
END:STANDARD
END:VTIMEZONE
BEGIN:VEVENT
DTSTART;TZID=Europe/Rome:20220430T213000
DTEND;TZID=Europe/Rome:20220430T213000
DTSTAMP:20260420T052112
CREATED:20220414T100531Z
LAST-MODIFIED:20220414T100531Z
UID:7306-1651354200-1651354200@backup.sistemamedcampania.it
SUMMARY:Compagnia Funa-Favole senza fili +1
DESCRIPTION:La Compagnia Funa riporta in scena Favole senza fili +1 uno spettacolo che unisce la danza\, la prosa e la danza aerea in un’atmosfera onirica con i personaggi fantastici presi in prestito dal genio della letteratura Gianni Rodari.  \n  \ndrammaturgia Martina di Matteo \nregia e coreografia Marianna Moccia \naiuto regia Sara Lupoli \nperformer Maria Anzivino\, Chiara Barassi\, Alessia di Maio\, Valeri Nappi\, Viola Russo \nmusiche Valerio Middione\, Giuseppe di Taranto\, Alfredo Pumilia \nproduzione FUNA \ncon il sostegno di Teatri associati di Napoli\, Art garage\, Ex Asilo Filangieri\, Körper\, Teatro Bolivar \n  \nPer info e prenotazioni scrivere a: info@funaperformingarts.com-   whatsapp: 3891726549
URL:https://backup.sistemamedcampania.it/evento/compagnia-funa-favole-senza-fili-1-3/
LOCATION:Teatro Bolivar\, Via Bartolomeo Caracciolo Detto Carafa\, 30\, Napoli\, 80136\, Italia
CATEGORIES:Compagnia Funa,Danza
ATTACH;FMTTYPE=image/jpeg:https://backup.sistemamedcampania.it/wp-content/uploads/2022/04/favole-senza-fili.jpg
END:VEVENT
BEGIN:VEVENT
DTSTART;TZID=Europe/Rome:20220428T210000
DTEND;TZID=Europe/Rome:20220428T210000
DTSTAMP:20260420T052112
CREATED:20220414T100159Z
LAST-MODIFIED:20220414T100159Z
UID:7302-1651179600-1651179600@backup.sistemamedcampania.it
SUMMARY:Compagnia Funa-Favole senza fili +1
DESCRIPTION:La Compagnia Funa riporta in scena Favole senza fili +1 uno spettacolo che unisce la danza\, la prosa e la danza aerea in un’atmosfera onirica con i personaggi fantastici presi in prestito dal genio della letteratura Gianni Rodari.  \n  \n  \ndrammaturgia Martina di Matteo \nregia e coreografia Marianna Moccia \naiuto regia Sara Lupoli \nperformer Maria Anzivino\, Chiara Barassi\, Alessia di Maio\, Valeri Nappi\, Viola Russo \nmusiche Valerio Middione\, Giuseppe di Taranto\, Alfredo Pumilia \nproduzione FUNA \ncon il sostegno di Teatri associati di Napoli\, Art garage\, Ex Asilo Filangieri\, Körper\, Teatro Bolivar \n  \nPer info e prenotazioni: http://www.teatriassociatinapoli.it  –   teatriassociatimapoli@gmail.com  – 0815851096 \n 
URL:https://backup.sistemamedcampania.it/evento/compagnia-funa-favole-senza-fili-1-2/
LOCATION:Teatro Area Nord\, Via nuova Dietro la Vigna 20\, Napoli\, Italia
CATEGORIES:Compagnia Funa,Danza
ATTACH;FMTTYPE=image/jpeg:https://backup.sistemamedcampania.it/wp-content/uploads/2022/04/favole-senza-fili.jpg
END:VEVENT
BEGIN:VEVENT
DTSTART;TZID=Europe/Rome:20211130T200000
DTEND;TZID=Europe/Rome:20211130T200000
DTSTAMP:20260420T052112
CREATED:20211108T162805Z
LAST-MODIFIED:20211108T162805Z
UID:6832-1638302400-1638302400@backup.sistemamedcampania.it
SUMMARY:Compagnia Funa - Favole senza fili +1
DESCRIPTION:Al Piccolo Bellini la Compagnia Funa porta in scena Favole senza fili +1  uno spettacolo che unisce la danza e la prosa. \nCinque personaggi\, ognuno incastrato nella propria storia – che nessuno racconta più -\, si incontrano sul palcoscenico. Sono inizialmente involucri stilizzati che si muovono soltanto per necessità: ripercorrono la loro storia in modo sempre identico\, senza uno scopo. Senza uno sforzo fantastico è per loro impossibile intraprendere nuove strade e iniziare nuove avventure…hanno bisogno di lettori\, hanno bisogno di pubblico\, hanno bosgno di qualcuno che creda ancora in loro. Non fanno caso l’uno all’altro\, vivono nei gesti assoluti della loro più intima essenza: il tratto di chi li ha scritti\, immaginandoli. Ma scrivere e immaginare un personaggio significa restituirlo al mondo\, raccontarlo in ogni orecchio\, lasciare che gli altri si specchino nella loro storia e che si compia il piccolo miracolo della fantasia. Una favola\, più favole fuse insieme che danno vita ad un viaggio immaginifico e fantastico. \n  \ndrammaturgia Martina di Matteo \nregia e coreografia Marianna Moccia \naiuto regia Sara Lupoli \nperformer Maria Anzivino\, Chiara Barassi\, Alessia di Maio\, Valeri Nappi\, Viola Russo \nmusiche Valerio Middione\, Giuseppe di Taranto\, Alfredo Pumilia \nproduzione FUNA \ncon il sostegno di Teatri associati di Napoli\, Art garage\, Ex Asilo Filangieri \n  \nPer info http://www.teatrobellini.it
URL:https://backup.sistemamedcampania.it/evento/compagnia-funa-favole-senza-fili-1/
LOCATION:Piccolo Bellini\, Via Conte di Ruvo\, 14\, Napoli
CATEGORIES:Compagnia Funa,Danza
ATTACH;FMTTYPE=image/jpeg:https://backup.sistemamedcampania.it/wp-content/uploads/2021/11/favole-senza-fili.jpg
END:VEVENT
END:VCALENDAR