BEGIN:VCALENDAR
VERSION:2.0
PRODID:-//Sistema Med Campania - ECPv6.7.0//NONSGML v1.0//EN
CALSCALE:GREGORIAN
METHOD:PUBLISH
X-WR-CALNAME:Sistema Med Campania
X-ORIGINAL-URL:https://backup.sistemamedcampania.it
X-WR-CALDESC:Eventi per Sistema Med Campania
REFRESH-INTERVAL;VALUE=DURATION:PT1H
X-Robots-Tag:noindex
X-PUBLISHED-TTL:PT1H
BEGIN:VTIMEZONE
TZID:Europe/Rome
BEGIN:DAYLIGHT
TZOFFSETFROM:+0100
TZOFFSETTO:+0200
TZNAME:CEST
DTSTART:20200329T010000
END:DAYLIGHT
BEGIN:STANDARD
TZOFFSETFROM:+0200
TZOFFSETTO:+0100
TZNAME:CET
DTSTART:20201025T010000
END:STANDARD
END:VTIMEZONE
BEGIN:VEVENT
DTSTART;TZID=Europe/Rome:20200224T173000
DTEND;TZID=Europe/Rome:20200224T173000
DTSTAMP:20260419T222929
CREATED:20200211T141910Z
LAST-MODIFIED:20200211T141910Z
UID:5715-1582565400-1582565400@backup.sistemamedcampania.it
SUMMARY:Amici dello Spettacolo. Diciasette & Trenta classica 2020-Maurizio Baglini
DESCRIPTION:Il prossimo appuntamento della rassegna di concerti Diciassette & Trenta Classica dell’ Associazione Amici dello Spettacolo sarà con il pianista Maurizio Baglini che proporrà la nona sinfonia di L. V. Beethoven nella trascrizione per solo piano di F. Liszt. \n  \n  \ninfo: http://www.teatrodiana.it/ \n 
URL:https://backup.sistemamedcampania.it/evento/amici-dello-spettacolo-diciasette-trenta-classica-2020-maurizio-baglini/
LOCATION:Teatro Diana\, Via Luca Giordano 64\, Napoli\, Italia
CATEGORIES:Associazione Amici dello Spettacolo,Diciasette & Trenta classica 2020,Musica
ATTACH;FMTTYPE=image/jpeg:https://backup.sistemamedcampania.it/wp-content/uploads/2020/02/baglini.jpg
END:VEVENT
BEGIN:VEVENT
DTSTART;TZID=Europe/Rome:20200207T173000
DTEND;TZID=Europe/Rome:20200207T173000
DTSTAMP:20260419T222929
CREATED:20200203T134028Z
LAST-MODIFIED:20200203T134028Z
UID:5688-1581096600-1581096600@backup.sistemamedcampania.it
SUMMARY:Amici dello Spettacolo. Diciasette & Trenta classica 2020-Concerti brandeburghesi
DESCRIPTION:Terzo appuntamento dell’edizione 2020 della rassegna di concerti Diciassette & Trenta Classica dell’ Associazione Amici dello Spettacolo conFilippo Zigante e l’Orchestra da Camera dell’Accademia di Santa Sofia di Benevento impegnati nei concerti brandeburghesi e le sinfonie giovanili di Mendelssohn. I cosiddetti ‘concerti brandeburghesi’ sono sei concerti composti da Johann Sebastian Bach\, dedicati al margravio di Brandeburgo\, nei quali il compositore tedesco sperimentò diverse soluzioni formali\, compositive e strumentali. Le sinfonie di Mendelssohn\, invece\, sono state composte quando l’autore aveva circa 14 anni e pur tuttavia già ricche di un’inventiva fresca e vivace\, capace ancora oggi di affascinare l’ascoltatore. Grazie a Mendelssohn\, la musica di Bach è stata rivalutata (fu lui a riscoprire la composizione sacra “Passione secondo Matteo”) e da allora è stata riconsiderata come il fondamento della musica colta occidentale. \n  \nMusiche di J. S. Bach\, F. Mendelssohn \n  \ninfo: http://www.teatrodiana.it/
URL:https://backup.sistemamedcampania.it/evento/amici-dello-spettacolo-diciasette-trenta-classica-2020-concerti-brandeburghesi/
LOCATION:Teatro Diana\, Via Luca Giordano 64\, Napoli\, Italia
CATEGORIES:Associazione Amici dello Spettacolo,Diciasette & Trenta classica 2020,Musica
ATTACH;FMTTYPE=image/jpeg:https://backup.sistemamedcampania.it/wp-content/uploads/2020/02/concerti-brandburghesi.jpg
END:VEVENT
BEGIN:VEVENT
DTSTART;TZID=Europe/Rome:20200131T173000
DTEND;TZID=Europe/Rome:20200131T173000
DTSTAMP:20260419T222929
CREATED:20200124T111037Z
LAST-MODIFIED:20200124T111037Z
UID:5650-1580491800-1580491800@backup.sistemamedcampania.it
SUMMARY:Amici dello Spettacolo. Diciasette & Trenta classica 2020-Ginevra Negri Costantini
DESCRIPTION:Il secondo appuntamento dell’edizione 2020 della rassegna di concerti Diciassette & Trenta Classica dell’ Associazione Amici dello Spettacolo\,  è dedicato al giovane talento del pianoforte\, Ginevra Negri Costantini\, insignita il 13 maggio 2019 dal Presidente della Repubblica Sergio Mattarella con l’onorificenza di Alfiere della Repubblica per meriti artistici\, che proporrà un concerto interamente dedicato a Gioacchino Rossini\n \nMusiche di G. Rossini \n  \nFoto di copertina: Arnaldo Abba Legnazzi \ninfo: http://www.teatrodiana.it/ \n  \n 
URL:https://backup.sistemamedcampania.it/evento/amici-dello-spettacolo-diciasette-trenta-classica-2020-ginevra-negri-costantini/
LOCATION:Teatro Diana\, Via Luca Giordano 64\, Napoli\, Italia
CATEGORIES:Associazione Amici dello Spettacolo,Diciasette & Trenta classica 2020,Musica
ATTACH;FMTTYPE=image/jpeg:https://backup.sistemamedcampania.it/wp-content/uploads/2020/01/ginevra-negri-costantini.jpg
END:VEVENT
BEGIN:VEVENT
DTSTART;TZID=Europe/Rome:20200117T173000
DTEND;TZID=Europe/Rome:20200117T173000
DTSTAMP:20260419T222929
CREATED:20200108T131326Z
LAST-MODIFIED:20200108T131326Z
UID:5602-1579282200-1579282200@backup.sistemamedcampania.it
SUMMARY:Amici dello Spettacolo. Diciasette & Trenta classica 2020-Vivaldiana
DESCRIPTION:Apre l’edizione 2020 della rassegna di concerti Diciassette & Trenta Classica dell’ Associazione Amici dello Spettacolo\,  l’ Orchestra da camera Accademia di Santa Sofia che anche quest’anno sarà presente nella rassegna organizzata dal Teatro Diana. Il concerto inaugurale sarà interamente dedicato a Vivaldi. \n \nMusiche di A. Vivaldi \n  \n  \ninfo: http://www.teatrodiana.it/ \n 
URL:https://backup.sistemamedcampania.it/evento/amici-dello-spettacolo-diciasette-trenta-classica-2020-vivaldiana/
LOCATION:Teatro Diana\, Via Luca Giordano 64\, Napoli\, Italia
CATEGORIES:Associazione Amici dello Spettacolo,Diciasette & Trenta classica 2020
ATTACH;FMTTYPE=image/jpeg:https://backup.sistemamedcampania.it/wp-content/uploads/2020/01/vivaldiana.jpg
END:VEVENT
END:VCALENDAR