BEGIN:VCALENDAR
VERSION:2.0
PRODID:-//Sistema Med Campania - ECPv6.7.0//NONSGML v1.0//EN
CALSCALE:GREGORIAN
METHOD:PUBLISH
X-WR-CALNAME:Sistema Med Campania
X-ORIGINAL-URL:https://backup.sistemamedcampania.it
X-WR-CALDESC:Eventi per Sistema Med Campania
REFRESH-INTERVAL;VALUE=DURATION:PT1H
X-Robots-Tag:noindex
X-PUBLISHED-TTL:PT1H
BEGIN:VTIMEZONE
TZID:Europe/Rome
BEGIN:DAYLIGHT
TZOFFSETFROM:+0100
TZOFFSETTO:+0200
TZNAME:CEST
DTSTART:20200329T010000
END:DAYLIGHT
BEGIN:STANDARD
TZOFFSETFROM:+0200
TZOFFSETTO:+0100
TZNAME:CET
DTSTART:20201025T010000
END:STANDARD
BEGIN:DAYLIGHT
TZOFFSETFROM:+0100
TZOFFSETTO:+0200
TZNAME:CEST
DTSTART:20210328T010000
END:DAYLIGHT
BEGIN:STANDARD
TZOFFSETFROM:+0200
TZOFFSETTO:+0100
TZNAME:CET
DTSTART:20211031T010000
END:STANDARD
BEGIN:DAYLIGHT
TZOFFSETFROM:+0100
TZOFFSETTO:+0200
TZNAME:CEST
DTSTART:20220327T010000
END:DAYLIGHT
BEGIN:STANDARD
TZOFFSETFROM:+0200
TZOFFSETTO:+0100
TZNAME:CET
DTSTART:20221030T010000
END:STANDARD
BEGIN:DAYLIGHT
TZOFFSETFROM:+0100
TZOFFSETTO:+0200
TZNAME:CEST
DTSTART:20230326T010000
END:DAYLIGHT
BEGIN:STANDARD
TZOFFSETFROM:+0200
TZOFFSETTO:+0100
TZNAME:CET
DTSTART:20231029T010000
END:STANDARD
END:VTIMEZONE
BEGIN:VEVENT
DTSTART;TZID=Europe/Rome:20231118T203000
DTEND;TZID=Europe/Rome:20231118T203000
DTSTAMP:20260419T221815
CREATED:20231116T190029Z
LAST-MODIFIED:20231116T190029Z
UID:8817-1700339400-1700339400@backup.sistemamedcampania.it
SUMMARY:Dissonanzen - Cenerentola\, Carmen e altri corti di Lotte Reiniger
DESCRIPTION:La sonorizzazione dei corti della Reiniger\, pioniera del cinema di animazione di ispirazione fiabesca\, si costruisce attraverso musicalità jazzistiche che ne esaltano tutta la dimensione onirico descrittiva. Un’animazione insolita che mette in scena silhouette e non disegni\, recuperando la tradizione del teatro d’ombre cinesi. \nLuigi Lombardi tastiere e musica\nEnrico Valanzuolo tromba\nAldo Capasso contrabbasso\nin collaborazione con il Conservatorio di Napoli \nPer info www.dissonanzen.it
URL:https://backup.sistemamedcampania.it/evento/dissonanzen-cenerentola-carmen-e-altri-corti-di-lotte-reiniger/
LOCATION:Monastero delle Trentatrè\, Via Luciano Armanni 16\, Napoli\, Napoli\, 80138\, Italia
CATEGORIES:Dissonanzen,Musica
ATTACH;FMTTYPE=image/jpeg:https://backup.sistemamedcampania.it/wp-content/uploads/2023/11/dissonanzen.jpg
END:VEVENT
BEGIN:VEVENT
DTSTART;TZID=Europe/Rome:20231013T180000
DTEND;TZID=Europe/Rome:20231013T180000
DTSTAMP:20260419T221815
CREATED:20231012T202938Z
LAST-MODIFIED:20231012T202938Z
UID:8722-1697220000-1697220000@backup.sistemamedcampania.it
SUMMARY:Dissonanzen - La nuova scuola compositiva napoletana
DESCRIPTION:Si consolida la collaborazione tra il Conservatorio napoletano e Dissonanzen dando spazio sia alla creatività delle nuove generazioni di autori iscritti alle classi di composizione che all’interpretazione di giovani musicisti.\n\nSette pezzi in prima esecuzione che testimoniano altrettanto diversi approcci ai linguaggi di oggi\, con estetiche e ispirazioni differenti. L’organico dell’ensemble si affiancherà così a giovani esecutori nel segno di una continuità e un’ attenzione per l’innovazione.\n\nPer info www.dissonanzen.it – info@tommasorossi.it
URL:https://backup.sistemamedcampania.it/evento/dissonanzen-la-nuova-scuola-compositiva-napoletana/
LOCATION:Conservatorio di musica di Napoli San Pietro a Majella\, Via San Pietro a Majella\, 35\, Napoli\, Italia
CATEGORIES:Dissonanzen,Musica
ATTACH;FMTTYPE=image/jpeg:https://backup.sistemamedcampania.it/wp-content/uploads/2023/10/dissonanzen-la-nuova-scuola.jpg
END:VEVENT
BEGIN:VEVENT
DTSTART;TZID=Europe/Rome:20230924T203000
DTEND;TZID=Europe/Rome:20230924T203000
DTSTAMP:20260419T221815
CREATED:20230923T155337Z
LAST-MODIFIED:20230923T155337Z
UID:8673-1695587400-1695587400@backup.sistemamedcampania.it
SUMMARY:Dissonanzen - Follie solitarie
DESCRIPTION:Terzo e ultimo appuntamento della quarta edizione di Suoni in Certosa!\, rassegna organizzata da Dissonanzen alla Certosa di San Martino di Napoli. \nFollie solitarie vede Laura Pontecorvo\, una delle massime esperte di flauto traverso barocco\, confrontarsi con letterature e strumenti differenti: dal traversiere di Assisi al flauto costruito nella Francia di Luigi XIV da Jean-Jacques Hotteterre fino ai flauti costruiti nella Germania del primo Settecento\, abbinati al coevo repertorio franco-tedesco. \nLaura Pontecorvo flauto traverso barocco \ncon la partecipazione di Tommaso Rossi flauto traverso barocco \nMusiche di Jacob Van Eyck\, Marin Marais\, Pierre Philidor\, Georg Philipp Telemann\, Johann Sebastian Bach \nLa partecipazione al concerto è compresa nel biglietto di ingresso al museo \nPer info www.dissonanzen.it – info@dissonanzen.it – 350 945 6706
URL:https://backup.sistemamedcampania.it/evento/dissonanzen-follie-solitarie/
LOCATION:Certosa e Museo di San Martino\, Largo S. Martino\, 5\,\, Napoli\, 80129\, Italia
CATEGORIES:Dissonanzen,Musica
ATTACH;FMTTYPE=image/jpeg:https://backup.sistemamedcampania.it/wp-content/uploads/2023/09/dissonanzen-suoni-in-certosa.jpg
END:VEVENT
BEGIN:VEVENT
DTSTART;TZID=Europe/Rome:20230923T200000
DTEND;TZID=Europe/Rome:20230923T200000
DTSTAMP:20260419T221815
CREATED:20230922T164639Z
LAST-MODIFIED:20230922T164639Z
UID:8660-1695499200-1695499200@backup.sistemamedcampania.it
SUMMARY:Dissonanzen - Benedetto Marcello: nobiltà della musica
DESCRIPTION:Con questo concerto si conclude l’integrale de Le Sonate per flauto di Benedetto Marcello\, dopo il programma dello scorso anno del primo concerto. \nLe Sonate costituiscono un esempio di grande bellezza melodica\, un meraviglioso caleidoscopio di colori\, un piccolo osservatorio della varietà delle forme e degli stili della musica barocca. \nMarcello\, musicista proveniente dalla nobiltà veneziana\, è una delle figure più interessanti della musica del primo ‘700. Compositore\, ma anche poeta\, scrittore e polemista è una figura di grande originalità perché rifuggendo il facile virtuosismo elabora una ricerca compositiva protesa verso lo sperimentalismo. \nEnsemble Barocco di Napoli \nTommaso Rossi flauto dolce e traversiere \nPatrizia Varone clavicembalo \nUgo Di Giovanni arciliuto \nManuela Albano violoncello \nPer info www.dissonanzen.it – info@tommasorossi.it – 350 945 6706
URL:https://backup.sistemamedcampania.it/evento/dissonanzen-benedetto-marcello-nobilta-della-musica/
LOCATION:Villa Pignatelli\, Riviera di Chiaia\, 200\, Napoli\, 80121\, Italia
CATEGORIES:Dissonanzen,Musica
ATTACH;FMTTYPE=image/jpeg:https://backup.sistemamedcampania.it/wp-content/uploads/2023/09/dissonanzen.jpg
END:VEVENT
BEGIN:VEVENT
DTSTART;TZID=Europe/Rome:20230916T203000
DTEND;TZID=Europe/Rome:20230916T203000
DTSTAMP:20260419T221815
CREATED:20230914T145502Z
LAST-MODIFIED:20230914T145502Z
UID:8602-1694896200-1694896200@backup.sistemamedcampania.it
SUMMARY:Dissonanzen - A tre voci
DESCRIPTION:Continua la IV edizione di Suoni in Certosa!\, rassegna organizzata da Dissonanzen alla Certosa di San Martino. \nQuesto secondo appuntamento\, dal titolo A tre voci\, si dedica al flauto dolce: Tommaso Rossi\, Alessandro De Carolis e Lorenza Maio interpreteranno un repertorio polifonico quattro/cinquecentesco. \nIn programma\, musiche anonime dal manoscritto MS Q. 16 (Bologna 1487)\, di Guillaume Dufay\, Antoine Busnois\, Josquin Desprez\, Cristopher Tye\, Vincenzo Ruffo. \nPer info 350 945 6706 – info@dissonanzen.it – www.dissonanzen.it
URL:https://backup.sistemamedcampania.it/evento/dissonanzen-a-tre-voci/
LOCATION:Certosa e Museo di San Martino\, Largo S. Martino\, 5\,\, Napoli\, 80129\, Italia
CATEGORIES:Dissonanzen,Musica
ATTACH;FMTTYPE=image/jpeg:https://backup.sistemamedcampania.it/wp-content/uploads/2023/09/dissonanzen-a-tre-voci.jpg
END:VEVENT
BEGIN:VEVENT
DTSTART;TZID=Europe/Rome:20230629T210000
DTEND;TZID=Europe/Rome:20230629T210000
DTSTAMP:20260419T221815
CREATED:20230621T161532Z
LAST-MODIFIED:20230621T161532Z
UID:8372-1688072400-1688072400@backup.sistemamedcampania.it
SUMMARY:Dissonanzen - Il cinema suona!
DESCRIPTION:Un altro appuntamento con la rassegna estiva di Dissonanzen tra musica e cinema. \nProtagonista sarà il film la Bambola di carne del 1919 di Ernst Lubitsch. \nMentre le sonorizzazioni live toccano agli allievi delle Scuole di Composizione Jazz e di Musica Elettronica del Conservatorio San Pietro a Majella di Napoli: stavolta è il turno delle musiche originali di Marco Autiero. \nCon Marco Autiero\, Paolo Montella\, Francesco Santagata \nPer info info@dissonanzen.it – 350 945 6705 – www.dissonanzen.it
URL:https://backup.sistemamedcampania.it/evento/dissonanzen-il-cinema-suona-3/
LOCATION:Villa Campolieto\, Corso Resina 283\, Ercolano\, Napoli\, 80056\, Italia
CATEGORIES:Dissonanzen,Musica
ATTACH;FMTTYPE=image/jpeg:https://backup.sistemamedcampania.it/wp-content/uploads/2023/06/dissonanzen-il-cinema-suona-1.jpg
END:VEVENT
BEGIN:VEVENT
DTSTART;TZID=Europe/Rome:20230622T210000
DTEND;TZID=Europe/Rome:20230622T210000
DTSTAMP:20260419T221815
CREATED:20230619T224916Z
LAST-MODIFIED:20230619T224916Z
UID:8357-1687467600-1687467600@backup.sistemamedcampania.it
SUMMARY:Dissonanzen - Il cinema suona!
DESCRIPTION:Torna la rassegna estiva\, messa su da Dissonanzen\, in cui musica e cinema si incontrano. \nNella splendida cornice di Villa Campolieto\, gli allievi delle Scuole di Composizione Jazz e di Musica Elettronica del Conservatorio San Pietro a Majella di Napoli firmano partiture originali per creare sonorizzazioni di vecchi film. \nStavolta tocca a Fiddlesticks (1926) e Saturday Afternoon (1927) con Harry Langdon\, che prendono vita musicale attraverso le composizioni di Nicola Sgaramella. \nNicola Sgaramella piano\nMattia Di Nunzio sax contralto\nAndrè Ferreira contrabbasso \nPer info info@dissonanzen.it – 350 945 6705 – www.dissonanzen.it
URL:https://backup.sistemamedcampania.it/evento/dissonanzen-il-cinema-suona-2/
LOCATION:Villa Campolieto\, Corso Resina 283\, Ercolano\, Napoli\, 80056\, Italia
CATEGORIES:Dissonanzen,Musica
ATTACH;FMTTYPE=image/jpeg:https://backup.sistemamedcampania.it/wp-content/uploads/2023/06/dissonanzen-il-cinema-suona.jpg
END:VEVENT
BEGIN:VEVENT
DTSTART;TZID=Europe/Rome:20230615T210000
DTEND;TZID=Europe/Rome:20230615T210000
DTSTAMP:20260419T221815
CREATED:20230611T213723Z
LAST-MODIFIED:20230611T213723Z
UID:8319-1686862800-1686862800@backup.sistemamedcampania.it
SUMMARY:Dissonanzen - Il cinema suona!
DESCRIPTION:In collaborazione con le Scuole di Composizione Jazz e di Musica Elettronica del Conservatorio napoletano\, Dissonanzen propone partiture originali per le sonorizzazioni live della nuova edizione de Il Cinema Suona!\, storica rassegna organizzata insieme al Goethe Institut Neapel e la Fondazione Murnau\, nell’ambito del FestiVark\, festival della creatività sociale messo su da Variabile K in coprogettazione con Fondazione Ente Ville Vesuviane. \nIl primo appuntamento vede come protagonisti i cortometraggi d’animazione di Lotte Reineger con le musiche originali di Luigi Lombardi\, eseguite da Luigi Lombardi\, Enirco Valanzuolo e Aldo Capasso. \nPer info  info@dissonanzen.it – 350 945 6705 – www.dissonanzen.it
URL:https://backup.sistemamedcampania.it/evento/dissonanzen-il-cinema-suona/
LOCATION:Villa Campolieto\, Corso Resina 283\, Ercolano\, Napoli\, 80056\, Italia
CATEGORIES:Dissonanzen,Musica
ATTACH;FMTTYPE=image/jpeg:https://backup.sistemamedcampania.it/wp-content/uploads/2023/06/dissonanzen-il-cinema-suona-lotte-reineger-musiche-di-luigi-lombardi1.jpg
END:VEVENT
BEGIN:VEVENT
DTSTART;TZID=Europe/Rome:20230606T210000
DTEND;TZID=Europe/Rome:20230606T210000
DTSTAMP:20260419T221815
CREATED:20230601T201427Z
LAST-MODIFIED:20230601T201427Z
UID:8269-1686085200-1686085200@backup.sistemamedcampania.it
SUMMARY:Dissonanzen - Mozart Nostro Contemporaneo
DESCRIPTION:L’intento della sezione “Gli Antichi e i Moderni” è quello di accostare le Sinfonie di Mozart nella trascrizione di Maurizio Clementi per flauto\, violino\, violoncello e pianoforte a brani di autori contemporanei. \nCosì il terzo concerto della serie Mozart Nostro Contemporaneo prevede un abbinamento per contrasto: la Sinfonia K 551 in Do Maggiore Jupiter\, caratterizzata da un’olimpica grandiosità formale\, verrà preceduta dal Trio per violino\, violoncello e pianoforte Löico di Nicola Sani\, lavoro del 2021 ispirato al XXVII canto dell’Inferno dantesco. \nPrevendite Azzurro Service \nINFO: info@dissonanzen.it – 350 945 6705 – www.dissonanzen.it
URL:https://backup.sistemamedcampania.it/evento/dissonanzen-mozart-nostro-contemporaneo/
LOCATION:Monastero delle Trentatrè\, Via Luciano Armanni 16\, Napoli\, Napoli\, 80138\, Italia
CATEGORIES:Dissonanzen,Musica
ATTACH;FMTTYPE=image/jpeg:https://backup.sistemamedcampania.it/wp-content/uploads/2023/06/dissonanzen-mozart-nostro-contemporaneo.jpg
END:VEVENT
BEGIN:VEVENT
DTSTART;TZID=Europe/Rome:20230526T210000
DTEND;TZID=Europe/Rome:20230526T210000
DTSTAMP:20260419T221815
CREATED:20230509T191037Z
LAST-MODIFIED:20230509T191037Z
UID:8110-1685134800-1685134800@backup.sistemamedcampania.it
SUMMARY:Dissonanzen - Risonanze
DESCRIPTION:Il duo Cappelli-Clemente nasce dall’intenzione di esplorare forme al confine fra improvvisazione e composizione elettroacustica\, facendo convergere in un unico flusso tanto l’estemporaneo quanto elementi pre-concepiti e disponibili alla rielaborazione. Ogni gesto\, ogni suono vive dunque una duplice potenzialità: al fianco della realizzazione concreta di un pensiero astratto pregresso si pone quella potenzialità di variazione infinita che inverte il processo\, procedendo dal concreto del sonoro alla sua astrazione. \nchitarra Marco Cappelli \nelettronica Manfredi Clemente \nINFO:  info@tommasorossi.it – www.dissonanzen.it \n 
URL:https://backup.sistemamedcampania.it/evento/dissonanzen-risonanze/
LOCATION:Auditorium Novecento Napoli\, Via Enrico De Marinis\, 4\, Napoli NA\, 80134
CATEGORIES:Dissonanzen,Musica
ATTACH;FMTTYPE=image/png:https://backup.sistemamedcampania.it/wp-content/uploads/2023/05/dissonanzen-risonanze-marco-cappelli-manfredi-clemente.png
END:VEVENT
BEGIN:VEVENT
DTSTART;TZID=Europe/Rome:20230517T180000
DTEND;TZID=Europe/Rome:20230517T180000
DTSTAMP:20260419T221815
CREATED:20230501T182042Z
LAST-MODIFIED:20230501T182042Z
UID:8084-1684346400-1684346400@backup.sistemamedcampania.it
SUMMARY:Dissonanzen - Messiaen Regards
DESCRIPTION:Questi “venti sguardi sul bambino Gesù” sono altrettanti pezzi autoconchiusi che compongono un ciclo pianistico la cui monumentalità è paragonabile solo all’altro grande ciclo di Messiaen\, il Catalogue d’oiseaux. Mentre lì veniva celebrata la magnificenza della natura\, nei Regards emerge il tema religioso\, ricorrente nel compositore francese. Anche in questo egli non assomiglia ad alcun altro: i suoi lavori non rientrano in nessuna delle categorie del grande corpus della musica religiosa occidentale: non sono liturgici (come le messe)\, né sacri (come gli oratori)\, men che meno genericamente spirituali o mistici. \npianoforte Ciro Longobardi\nmusiche di Olivier Messiaen\nin collaborazione con il Conservatorio S. Pietro a Majella di Napoli \nINFO:  info@tommasorossi.it – www.dissonanzen.it
URL:https://backup.sistemamedcampania.it/evento/dissonanzen-messiaen-regards/
LOCATION:Conservatorio di musica di Napoli San Pietro a Majella\, Via San Pietro a Majella\, 35\, Napoli\, Italia
CATEGORIES:Dissonanzen,Musica
ATTACH;FMTTYPE=image/png:https://backup.sistemamedcampania.it/wp-content/uploads/2023/05/dissonanzen-messiaen-regards-ciro-longobardi1.png
END:VEVENT
BEGIN:VEVENT
DTSTART;TZID=Europe/Rome:20220409T193000
DTEND;TZID=Europe/Rome:20220409T193000
DTSTAMP:20260419T221815
CREATED:20220408T141854Z
LAST-MODIFIED:20220408T141921Z
UID:7283-1649532600-1649532600@backup.sistemamedcampania.it
SUMMARY:Asssociazione Dissonanzen - Actus Tragicus
DESCRIPTION:L’ Associazione Dissonanzen in collaborazione con l’ Associazione Mysterium Vocis presentano\, con il patrocinio morale del Goethe Institut Neapel\, il concerto Actus Tragicus Il Sacro di Bach e Telemann\, un omaggio al genio indiscusso dei due compositori. «L’Actus Tragicus di Johann Sebastian Bach\, con cui si chiude il concerto\, ovvero la cantata BWV 106\, è un capolavoro assoluto\, di raro ascolto» – spiega Tommaso Rossi – «Per realizzarlo è necessario un organico particolare che comprende due flauti e due viole da gamba. L’Ensemble Barocco di Napoli\, di cui Dissonanzen ne ha acquisito il marchio\, e il Coro Mysterium Vocis\, che festeggia i trenta anni di attività\, lo realizzeranno insieme a altre suggestive composizioni dei due autori tedeschi.» \n  \nEnsemble Barocco di Napoli \nTommaso Rossi\, flauti  \nAlessandro De Carolis\, flauto dolce  \nMarco e Amalia Ottone\, viole da gamba \nManuela Albano\, violoncello  \nGiorgio Sanvito\, violone  \nAngelo Trancone\, organo  \nSoli: \nAngela Luglio\, Sabrina Santoro\, soprani  \nMarina Esposito\, contralto  \nAlessandro Caro\, Rosario Totaro\, tenori  \nRoberto Gaudino\, basso \nCoro Mysterium Vocis \nRosario Totaro – direttore  \nCoro: \nAngela Luglio\, Carolina Napoletano\, Fiorella Orazzo\, Sabrina Santoro\, Apollonia Vergolino\, soprani  \nRoberta De Mattia\, Marina Esposito\, Tiziana Fabbricatti\, Marina Meo\, contralti  \nAlessandro Caro\, Marcello Della Gatta\, Guido Mandaglio\, Mattia Totaro\, tenori  \nCesario Vincenzo Angelino\, Roberto Gaudino\, Guglielmo Gisonni\, Fabio Todisco\, bassi  \n  \n  \n  \nAcquista il tuo biglietto: https://www.azzurroservice.net \nPer info:  www.dissonanzen.it info@dissonanzen.it mob. 350 945 67 06
URL:https://backup.sistemamedcampania.it/evento/asssociazione-dissonanzen-actus-tragicus/
LOCATION:Chiesa Anglicana di Napoli\, Via San Pasquale a Chiaia\, 15B\, Napoli\, 80121
CATEGORIES:Dissonanzen,Musica
ATTACH;FMTTYPE=image/jpeg:https://backup.sistemamedcampania.it/wp-content/uploads/2022/04/dissonanzen.jpg
END:VEVENT
BEGIN:VEVENT
DTSTART;TZID=Europe/Rome:20200207T170000
DTEND;TZID=Europe/Rome:20200207T190000
DTSTAMP:20260419T221815
CREATED:20200205T111141Z
LAST-MODIFIED:20200205T111141Z
UID:5694-1581094800-1581102000@backup.sistemamedcampania.it
SUMMARY:Dissonanzen-Pulcinella//XXI
DESCRIPTION:Dissonanzen presenta Pulcinella//XXI un’ opera per flauti\, violoncello\, pianoforte e danzatrice di Rosalba Quindici  commissionata dal Museo e Real Bosco di Capodimonte\, in occasione della mostra “Napoli Napoli. Di lava\, porcellana e musica”. \nPulcinella//XXI è il frutto di un articolato lavoro di ricerca svolto dalla compositrice a partire da alcuni aspetti della figura di Pulcinella\, centrati sul problema della maschera\, della diversità e della metamorfosi. Superandone gli stereotipi con cui troppo spesso se ne è mortificata la ramificata ricchezza antropologica\, l’autrice si è soffermata a indagare e a rappresentare la maschera napoletana come espressione idealtipica dell’alterità. \n  \nIdeazione dell’opera e musica Rosalba Quindici \nCoreografia Rosalba Quindici – Rossella Petruzziello \nEnsemble Dissonanzen\nTommaso Rossi\, flauti\nManuela Albano\, violoncello\nCiro Longobardi\, pianoforte \ndanzatrice Rossella Petruzziello \n  \nINGRESSO CON PAGAMENTO DEL BIGLIETTO RIDOTTO DEL MUSEO DI 8 EURO \nPRENOTAZIONE CONSIGLIATA TRAMITE E-MAIL: info@quidra.it \n 
URL:https://backup.sistemamedcampania.it/evento/dissonanzen-pulcinella-xxi/
LOCATION:Museo e Real Bosco di Capodimonte\,\, Via Miano\, 2\, Napoli\, 80131\, Italia
CATEGORIES:Dissonanzen,Musica
ATTACH;FMTTYPE=image/jpeg:https://backup.sistemamedcampania.it/wp-content/uploads/2020/02/pulcinella-xi.jpg
END:VEVENT
END:VCALENDAR