BEGIN:VCALENDAR
VERSION:2.0
PRODID:-//Sistema Med Campania - ECPv6.7.0//NONSGML v1.0//EN
CALSCALE:GREGORIAN
METHOD:PUBLISH
X-WR-CALNAME:Sistema Med Campania
X-ORIGINAL-URL:https://backup.sistemamedcampania.it
X-WR-CALDESC:Eventi per Sistema Med Campania
REFRESH-INTERVAL;VALUE=DURATION:PT1H
X-Robots-Tag:noindex
X-PUBLISHED-TTL:PT1H
BEGIN:VTIMEZONE
TZID:Europe/Rome
BEGIN:DAYLIGHT
TZOFFSETFROM:+0100
TZOFFSETTO:+0200
TZNAME:CEST
DTSTART:20190331T010000
END:DAYLIGHT
BEGIN:STANDARD
TZOFFSETFROM:+0200
TZOFFSETTO:+0100
TZNAME:CET
DTSTART:20191027T010000
END:STANDARD
END:VTIMEZONE
BEGIN:VEVENT
DTSTART;TZID=Europe/Rome:20191120T210000
DTEND;TZID=Europe/Rome:20191120T210000
DTSTAMP:20260419T211225
CREATED:20191118T151143Z
LAST-MODIFIED:20191118T151143Z
UID:5092-1574283600-1574283600@backup.sistemamedcampania.it
SUMMARY:Dissonanzen. La Forza del Dialogo-Omaggio a Luciano Berio
DESCRIPTION:Dissonanzen per la rassegna La Forza del Dialogo ritorna sull’importante figura di Luciano Berio con un omaggio che prende le mosse da O King\, storico lavoro dedicato a Martin Luther King e alla sua figura di martire per i diritti civili\, di fautore del dialogo e della lotta non violenta. Accanto al brano per voce e quintetto\, le Quattro Canzoni popolari\, opera giovanile che confluirà nelle celeberrime Folk Songs\, un classico come Sequenza I per flauto\, e un breve\, tardo omaggio a György Kurtág. A completamento del programma\, due brani provenienti dal mondo americano\, a cui Berio fu legatissimo per tutta la vita. Di particolare interesse i Party Pieces\, che furono scritti da Cage\, Cowell\, Harrison\, Thomson con la tecnica del cadavre exquis. \n  \nEnsemble Dissonanzen \nEleonora Claps\, voce \nTommaso Rossi\, flauto \nFrancesco Filisdeo\, clarinetto \nFrancesco Solombrino\, violino \nManuela Albano\, violoncello \nCiro Longobardi\, pianoforte \n  \nMusiche di Luciano Berio\, Heitor Villa-Lobos\, John Cage\, Henry Cowell\, Lou Harrison\, Virgil Thomso \n  \ninfo: https://www.teatrostabilenapoli.it
URL:https://backup.sistemamedcampania.it/evento/dissonanzen-la-forza-del-dialogo-omaggio-a-luciano-berio/
LOCATION:Teatro Mercadante\, Piazza Municipio\, Napoli\, Italia
CATEGORIES:Associazione Dissonanzen,La Forza del Dialogo. Siae classici di oggi,Musica
ATTACH;FMTTYPE=image/jpeg:https://backup.sistemamedcampania.it/wp-content/uploads/2019/11/omaggio-a-LUCIANO-BERIO.jpg
END:VEVENT
BEGIN:VEVENT
DTSTART;TZID=Europe/Rome:20191119T210000
DTEND;TZID=Europe/Rome:20191119T210000
DTSTAMP:20260419T211225
CREATED:20191118T145809Z
LAST-MODIFIED:20191118T145809Z
UID:5089-1574197200-1574197200@backup.sistemamedcampania.it
SUMMARY:Dissonanzen. La Forza del Dialogo-Li Duo Soli 2
DESCRIPTION:L’ Ensemble Dissonanzen continua la propria attività in collaborazione con la Siae\, e torna con la rassegna La Forza del Dialogo. Il primo dei 4 appuntamenti vedrà protagonisti Li Duo Soli 2  in una nuova prospettiva sul recital solistico\, un dialogo tra due musicisti che si esibiscono in set separati. In scena strumenti che raramente si trovano da soli sul palco (con l’eccezione delle Suites di Bach per violoncello) ma che dalla creazione contemporanea hanno ricevuto nuova linfa per i rispettivi repertori. Protagonisti due campioni della performance contemporanea: Michele Marco Rossi\, violoncellista\, che proporrà brani recentissimi di Fedele\, Perocco\, Corrado e un brano storico di Xenakis; Francesco Gesualdi\, fisarmonicista-compositore\, che oltre a lavori propri eseguirà alcuni classici della fisarmonica contemporanea. Non si esclude un fuori programma in duo a sorpresa! \n  \nMichele Marco Rossi\, violoncello \nFrancesco Gesualdi\, fisarmonica \nMusiche di: Ivan Fedele\, Filippo Perocco\, Pasquale Corrado\, Iannis Xenakis\, Carlo Galante\, Giancarlo Cardini\, Marco Lenzi\, Bruno Bartolozzi\, Francesco Gesualdi. \n  \n  \ninfo: https://www.teatrostabilenapoli.it \n  \n 
URL:https://backup.sistemamedcampania.it/evento/dissonanzen-la-forza-del-dialogo-li-duo-soli-2/
LOCATION:Teatro Mercadante\, Piazza Municipio\, Napoli\, Italia
CATEGORIES:Associazione Dissonanzen,La Forza del Dialogo. Siae classici di oggi,Musica
ATTACH;FMTTYPE=image/jpeg:https://backup.sistemamedcampania.it/wp-content/uploads/2019/11/LI-DUO-SOLI-2.jpg
END:VEVENT
END:VCALENDAR