BEGIN:VCALENDAR
VERSION:2.0
PRODID:-//Sistema Med Campania - ECPv6.7.0//NONSGML v1.0//EN
CALSCALE:GREGORIAN
METHOD:PUBLISH
X-WR-CALNAME:Sistema Med Campania
X-ORIGINAL-URL:https://backup.sistemamedcampania.it
X-WR-CALDESC:Eventi per Sistema Med Campania
REFRESH-INTERVAL;VALUE=DURATION:PT1H
X-Robots-Tag:noindex
X-PUBLISHED-TTL:PT1H
BEGIN:VTIMEZONE
TZID:Europe/Rome
BEGIN:DAYLIGHT
TZOFFSETFROM:+0100
TZOFFSETTO:+0200
TZNAME:CEST
DTSTART:20220327T010000
END:DAYLIGHT
BEGIN:STANDARD
TZOFFSETFROM:+0200
TZOFFSETTO:+0100
TZNAME:CET
DTSTART:20221030T010000
END:STANDARD
END:VTIMEZONE
BEGIN:VEVENT
DTSTART;TZID=Europe/Rome:20220925T113000
DTEND;TZID=Europe/Rome:20220925T170000
DTSTAMP:20260420T023325
CREATED:20220923T125800Z
LAST-MODIFIED:20220923T125800Z
UID:7599-1664105400-1664125200@backup.sistemamedcampania.it
SUMMARY:Associazione Dissonanzen. Suoni in Certosa! - Principio di Virtù. Intorno all'istampitta medievale
DESCRIPTION:Per il prossimo appuntamento di Suoni in Certosa!\, dell’ Associazione Dissonanzen in programma partiture di danza strumentali che rappresentano degli unica nella produzione musicale di epoca medievale\, in gran parte dominata da composizioni vocali. \nMusiche dal London Codex e dallo Chansonnier du Roi \n  \nAlessandro De Carolis\, flauto dolce \nPeppe Frana\, liuto \n  \nLa partecipazione al concerto è compresa nel biglietto di ingresso al museo certosa-e-museo-di-san-martino\nSi consiglia la prenotazione\nInfo: www.dissonanzen.it\ninfo@dissonanzen.it mob. 350 945 67 06 \n  \n 
URL:https://backup.sistemamedcampania.it/evento/associazione-dissonanzen-suoni-in-certosa-principio-di-virtu-intorno-allistampitta-medievale/
LOCATION:Certosa e Museo di San Martino\, Largo S. Martino\, 5\,\, Napoli\, 80129\, Italia
CATEGORIES:Associazione Dissonanzen,Musica,Suoni in Certosa ! III edizione
ATTACH;FMTTYPE=image/jpeg:https://backup.sistemamedcampania.it/wp-content/uploads/2022/09/de-carolisfrana.jpg
END:VEVENT
BEGIN:VEVENT
DTSTART;TZID=Europe/Rome:20220918T110000
DTEND;TZID=Europe/Rome:20220918T170000
DTSTAMP:20260420T023325
CREATED:20220915T100006Z
LAST-MODIFIED:20220915T100006Z
UID:7576-1663498800-1663520400@backup.sistemamedcampania.it
SUMMARY:Associazione Dissonanzen. Suoni in Certosa! - Samuele Telari
DESCRIPTION:Nel Refettorio della Certosa di San Martino al via la terza edizione della Rassegna musicale Suoni in Certosa!\, nata dalla collaborazione tra la Direzione regionale Musei Campania e l’Associazione Dissonanzen. Inaugura una inedita versione per fisarmonica delle Variazioni Goldberg di Bach realizzata da Samuele Telari.  \n  \nLa partecipazione al concerto è compresa nel biglietto di ingresso al museo certosa-e-museo-di-san-martino\nSi consiglia la prenotazione\nInfo: www.dissonanzen.it\ninfo@dissonanzen.it mob. 350 945 67 06 \n  \n 
URL:https://backup.sistemamedcampania.it/evento/associazione-dissonanzen-suoni-in-certosa-samuele-telari/
LOCATION:Certosa e Museo di San Martino\, Largo S. Martino\, 5\,\, Napoli\, 80129\, Italia
CATEGORIES:Associazione Dissonanzen,Musica,Suoni in Certosa ! III edizione
ATTACH;FMTTYPE=image/jpeg:https://backup.sistemamedcampania.it/wp-content/uploads/2022/09/telari.jpg
END:VEVENT
END:VCALENDAR