BEGIN:VCALENDAR
VERSION:2.0
PRODID:-//Sistema Med Campania - ECPv6.7.0//NONSGML v1.0//EN
CALSCALE:GREGORIAN
METHOD:PUBLISH
X-ORIGINAL-URL:https://backup.sistemamedcampania.it
X-WR-CALDESC:Eventi per Sistema Med Campania
REFRESH-INTERVAL;VALUE=DURATION:PT1H
X-Robots-Tag:noindex
X-PUBLISHED-TTL:PT1H
BEGIN:VTIMEZONE
TZID:Europe/Rome
BEGIN:DAYLIGHT
TZOFFSETFROM:+0100
TZOFFSETTO:+0200
TZNAME:CEST
DTSTART:20190331T010000
END:DAYLIGHT
BEGIN:STANDARD
TZOFFSETFROM:+0200
TZOFFSETTO:+0100
TZNAME:CET
DTSTART:20191027T010000
END:STANDARD
BEGIN:DAYLIGHT
TZOFFSETFROM:+0100
TZOFFSETTO:+0200
TZNAME:CEST
DTSTART:20200329T010000
END:DAYLIGHT
BEGIN:STANDARD
TZOFFSETFROM:+0200
TZOFFSETTO:+0100
TZNAME:CET
DTSTART:20201025T010000
END:STANDARD
BEGIN:DAYLIGHT
TZOFFSETFROM:+0100
TZOFFSETTO:+0200
TZNAME:CEST
DTSTART:20210328T010000
END:DAYLIGHT
BEGIN:STANDARD
TZOFFSETFROM:+0200
TZOFFSETTO:+0100
TZNAME:CET
DTSTART:20211031T010000
END:STANDARD
BEGIN:DAYLIGHT
TZOFFSETFROM:+0100
TZOFFSETTO:+0200
TZNAME:CEST
DTSTART:20220327T010000
END:DAYLIGHT
BEGIN:STANDARD
TZOFFSETFROM:+0200
TZOFFSETTO:+0100
TZNAME:CET
DTSTART:20221030T010000
END:STANDARD
BEGIN:DAYLIGHT
TZOFFSETFROM:+0100
TZOFFSETTO:+0200
TZNAME:CEST
DTSTART:20230326T010000
END:DAYLIGHT
BEGIN:STANDARD
TZOFFSETFROM:+0200
TZOFFSETTO:+0100
TZNAME:CET
DTSTART:20231029T010000
END:STANDARD
END:VTIMEZONE
BEGIN:VEVENT
DTSTART;TZID=Europe/Rome:20230728T203000
DTEND;TZID=Europe/Rome:20230728T203000
DTSTAMP:20260420T011934
CREATED:20230726T150518Z
LAST-MODIFIED:20230726T154751Z
UID:8444-1690576200-1690576200@backup.sistemamedcampania.it
SUMMARY:Fondazione F.M Napolitano - Anna Tifu & I Virtuosi di Sansevero
DESCRIPTION:Continua il festival Dal Barocco al Jazz messo su dalla Fondazione F.M. Napolitano. Venerdì 28 luglio la terrazza dell’Hotel Caesar Augustus di Anacapri ospiterà la violinista Anna Tifu\, considerata una delle migliori interpreti della sua generazione\, che si esibirà insieme all’Ensemble di archi “I Virtuosi di Sansevero”. In programma\, la Ciaccona di Antonio Vitali\, il concerto di Bach in La min. per violino e archi\, il concerto di Bach in Re minore per due violini e archi\, con Riccardo Zamuner altro violino solista\, e la Carmen Fantasy di Sarasate. \nPer info fondazionenapolitano@gmail.com –  www.fondazionenapolitano.com \n 
URL:https://backup.sistemamedcampania.it/evento/8444/
LOCATION:Hotel Caesar Augustus di Anacapri\, Via Giuseppe Orlandi 4\, Anacapri\, Napoli\, 80071\, Italia
CATEGORIES:Fondazione Franco Michele Napolitano,Musica
ATTACH;FMTTYPE=image/jpeg:https://backup.sistemamedcampania.it/wp-content/uploads/2023/07/fondazione-fm-napolitano-dal-barocco-al-jazz-anna-tifu-i-virtuosi-di-sansevero.jpg
END:VEVENT
BEGIN:VEVENT
DTSTART;TZID=Europe/Rome:20230727T200000
DTEND;TZID=Europe/Rome:20230727T200000
DTSTAMP:20260420T011934
CREATED:20230726T153959Z
LAST-MODIFIED:20230726T153959Z
UID:8441-1690488000-1690488000@backup.sistemamedcampania.it
SUMMARY:Fondazione F.M. Napolitano - Buon compleanno RYCO
DESCRIPTION:Arriva la XXI edizione del festival Dal Barocco al Jazz organizzato dalla Fondazione F.M. Napolitano in collaborazione con il Comune di Anacapri e curato nell’ideazione e nella direzione artistica da Maria Sbeglia. \nSi parte giovedì 27 luglio con un evento dal sapore speciale: Buon compleanno RYCO\, il concerto della Rotary Youth Chamber Orchestra a dieci anni dal primo suo debutto\, avvenuto proprio ad Anacapri il 27 luglio 2013. \nL’orchestra d’archi giovanile\, divenuta nel tempo un punto di riferimento nel panorama musicale cittadino\, fu ideata\, infatti\, dalla stessa Maria Sbeglia con l’intento di offrire a giovani musicisti l’opportunità di creare un organico orchestrale stabile. Attraverso lo slogan “Adotta un orchestrale”\, numerosi club Rotary\, ispirati dal progetto di Sbeglia\, hanno offerto borse di studio ai giovani e alle giovani orchestrali\, tra i 16 e i 30 anni\, provenienti dai Conservatori campani. \nLa serata\, che festeggerà il decennale\, vedrà l’orchestra diretta dal Maestro Nicola Colafelice con la partecipazione straordinaria del flautista Salvatore Lombardi. \nPer info fondazionenapolitano@gmail.com – www.fondazionenapolitano.com
URL:https://backup.sistemamedcampania.it/evento/fondazione-f-m-napolitano-buon-compleanno-ryco/
LOCATION:Hotel Caesar Augustus di Anacapri\, Via Giuseppe Orlandi 4\, Anacapri\, Napoli\, 80071\, Italia
CATEGORIES:Fondazione Franco Michele Napolitano,Musica
ATTACH;FMTTYPE=image/jpeg:https://backup.sistemamedcampania.it/wp-content/uploads/2023/07/fondazione-fm-napolitano-dal-barocco-al-jazz-buon-compleanno-ryco.jpg
END:VEVENT
BEGIN:VEVENT
DTSTART;TZID=Europe/Rome:20230614T200000
DTEND;TZID=Europe/Rome:20230614T200000
DTSTAMP:20260420T011934
CREATED:20230612T111807Z
LAST-MODIFIED:20230612T111807Z
UID:8335-1686772800-1686772800@backup.sistemamedcampania.it
SUMMARY:Fondazione F. M. Napolitano - The Neapolitan Songbook
DESCRIPTION:Mercoledì 14 giugno (ore 20)\, al Circolo Canottieri di Napoli\, in scena un nuovo appuntamento della stagione concertistica organizzata dalla Fondazione F. M. Napolitano. \nQuesta volta tocca a Emilia Zamuner\, cantante jazz classe 1993\, che in questi anni si è distinta per il suo talento lavorando al fianco di artisti come Massimo Moriconi e Daniele Sepe. \nZamuner\, che si contraddistingue per una precisione ritmica e una spiccata dote improvvisativa\, oltre che da un timbro vocale purissimo\, presenterà al pubblico The Neapolitan Songbook\, un progetto interamente dedicato alla canzone napoletana\, classica e contemporanea. \nAl fianco della cantante\, tre musicisti d’eccezione: il trombettista Enrico Valanzuolo\, che solo un anno fa ha pubblicato per l’etichetta Gleam Records il suo disco d’esordio Dream Big\, il chitarrista Francesco Scelzo\, docente di chitarra classica e poliedrico interprete con all’attivo tre CD\, e Antonello Iannotta\, percussionista straordinario già collaboratore di artisti come Vinicio Capossela\, Daniele Sepe e Stefano Bollani. \nIl quartetto racconterà la tradizione musicale napoletana attraverso gli stili che contraddistinguono gli artisti – dall’approccio classico di Scelzo\, a quello jazz di Valanzuolo e Zamuner passando per quello tradizionale ed etnico di Innotta – costruendo\, durante la serata\, un viaggio nelle sonorità partenopee di tutti i tempi: da Di Giacomo a Murolo fino ad arrivare a Pino Daniele ed Enzo Gragnaniello. \nPer info e prenotazioni fondazionenapolitano@gmail.com – www.fondazionenapolitano.com
URL:https://backup.sistemamedcampania.it/evento/fondazione-f-m-napolitano-the-neapolitan-songbook/
LOCATION:Circolo Canottieri\, Via Molosiglio 1\, Napoli\, 80133\, Italia
CATEGORIES:Fondazione Franco Michele Napolitano,Musica
ATTACH;FMTTYPE=image/jpeg:https://backup.sistemamedcampania.it/wp-content/uploads/2023/06/fondazione-f-m-napolitano-the-neapolitan-songbook.jpg
END:VEVENT
BEGIN:VEVENT
DTSTART;TZID=Europe/Rome:20230605T193000
DTEND;TZID=Europe/Rome:20230605T193000
DTSTAMP:20260420T011934
CREATED:20230603T161339Z
LAST-MODIFIED:20230603T161339Z
UID:8283-1685993400-1685993400@backup.sistemamedcampania.it
SUMMARY:Fondazione F.M Napolitano - Gennaro Cardaropoli & I Virtuosi di Sansevero
DESCRIPTION:Il violinista Gennaro Cardaropoli\, uno dei migliori giovani talenti italiani di oggi\, va in scena al Circolo Canottieri di Napoli insieme a I Virtuosi di Sansevero\, ensemble ideato e diretto da Riccardo Zamuner. \nPresentato dalla Fondazione F. M. Napolitano ed inserito all’interno della rassegna de “I Virtuosi di Sansevero”\, il concerto sarà interamente dedicato a due importanti compositori italiani: Gioacchino Rossini e Niccolò Paganini. \nPrevendita biglietti sul sito Etes \nPer info e prenotazioni fondazionenapolitano@gmail.com – www.fondazionenapolitano.com
URL:https://backup.sistemamedcampania.it/evento/fondazione-f-m-napolitano-gennaro-cardaropoli-i-virtuosi-di-sansevero/
LOCATION:Circolo Canottieri\, Via Molosiglio 1\, Napoli\, 80133\, Italia
CATEGORIES:Fondazione Franco Michele Napolitano,Musica
ATTACH;FMTTYPE=image/jpeg:https://backup.sistemamedcampania.it/wp-content/uploads/2023/06/fondazione-fm-napolitano-gennaro-cardaropoli-i-virtuosi-di-sansevero.jpg
END:VEVENT
BEGIN:VEVENT
DTSTART;TZID=Europe/Rome:20230517T200000
DTEND;TZID=Europe/Rome:20230517T200000
DTSTAMP:20260420T011934
CREATED:20230514T190544Z
LAST-MODIFIED:20230514T190544Z
UID:8108-1684353600-1684353600@backup.sistemamedcampania.it
SUMMARY:Fondazione F.M Napolitano - Concerto a menù
DESCRIPTION:«Eccoci qui ad infrangere la tradizione con la nostra offerta musicale». Da oltre trenta anni l’amicizia fra Lorenzo Parisi e Giuseppe Maiorca si è trasformata in un sodalizio musicale consolidato. In questo lungo tempo insieme hanno toccato tutti gli stili e le epoche\, dal Settecento al Classicismo\, dal Romanticismo al Novecento italiano ed europeo.Si sono esibiti nelle principali città italiane\, ma anche in Spagna\, Repubblica Ceca\, Belgio e Francia\, riuscendo sempre ad appassionare il pubblico per l’intensità delle proprie esecuzioni e riscuotendo grandi consensi dalla critica. \nAntipasto: A.Vitali – Ciaccona \nPrimi : E. Elgar – 1° tempo da Sonata; J. Brahms – 1° tempo da 3° Sonata \nSecondo: L. van Beethoven – Romanza op.50 \nSorbetto: C. Gardel – Por una cabeza; E. Grieg – Romanza da Sonata op.45 \nDessert: L. van Beethoven – Scherzo da Sonata “La Primavera”; J. Brahms – Scherzo da FAE Sonata \nviolino Lorenzo Parisi \npianoforte Giuseppe Maiorca \nINFO:  fondazionenapolitano@gmail.com
URL:https://backup.sistemamedcampania.it/evento/fondazione-f-m-napolitano-concerto-a-menu/
LOCATION:Circolo Canottieri\, Via Molosiglio 1\, Napoli\, 80133\, Italia
CATEGORIES:Fondazione Franco Michele Napolitano,Musica
ATTACH;FMTTYPE=image/png:https://backup.sistemamedcampania.it/wp-content/uploads/2023/05/fondazione-fm-napolitano-concerto-a-menu-lorenzo-parisi-giuseppe-maiorca.png
END:VEVENT
BEGIN:VEVENT
DTSTART;TZID=Europe/Rome:20230513T183000
DTEND;TZID=Europe/Rome:20230513T183000
DTSTAMP:20260420T011934
CREATED:20230428T150620Z
LAST-MODIFIED:20230509T134644Z
UID:8067-1684002600-1684002600@backup.sistemamedcampania.it
SUMMARY:Fondazione F.M Napolitano - Capolavori tardo-romantici\, Lyudmil Angelov e I Virtuosi di Sansevero
DESCRIPTION:Il concerto fa parte della rassegna “I concerti de I Virtuosi di Sansevero” e si terrà presso lo splendido salone del Circolo Nazionale dell’Unione di Napoli. Insieme ai giovani e talentuosi musicisti Riccardo Zamuner al violino\, Andrea De Martino viola e Ludovica Rana violoncello\, si esibirà il famoso pianista bulgaro Lyudmil Angelov. In programma due capolavori del repertorio tardo-romantico: il quartetto di Mahler e il quartetto di Strauss. \npianoforte Lyudmil Angelov \nviolino Riccardo Zamuner \nviola Andrea De Martino \nvioloncello Ludovica Rana \nINFO  fondazionenapolitano@gmail.com
URL:https://backup.sistemamedcampania.it/evento/fondazione-f-m-napolitano-capolavori-tardo-romantici-lyudmil-angelov-e-i-virtuosi-di-sansevero/
LOCATION:Circolo Nazionale dell’Unione\, Via San Carlo 99\, Napoli\, Napoli\, 80132\, Italia
CATEGORIES:Fondazione Franco Michele Napolitano,Musica
ATTACH;FMTTYPE=image/png:https://backup.sistemamedcampania.it/wp-content/uploads/2023/04/fondazione-fm-napolitano-lyudmil-angelov-e-i-virtuosi-di-sansevero.png
END:VEVENT
BEGIN:VEVENT
DTSTART;TZID=Europe/Rome:20230503T190000
DTEND;TZID=Europe/Rome:20230503T190000
DTSTAMP:20260420T011934
CREATED:20230501T174007Z
LAST-MODIFIED:20230501T212903Z
UID:8056-1683140400-1683140400@backup.sistemamedcampania.it
SUMMARY:Fondazione F. M Napolitano - The best of Italy
DESCRIPTION:Un omaggio alla musica italiana organizzato dalla Fondazione Franco Michele Napolitano. Protagonisti la cantante Sabrina Gasparini\, il violinista Gentjan Llukaci e il pianista Alessandro Di Marco. Un programma ricchissimo: da Nino Rota e Ennio Morricone a un omaggio a Venezia con i brani di Rondò Veneziano fino a una dedica ai cantautori della scuola genovese per poi concludere la serata con alcuni classici della canzone napoletana. \nINFO  fondazionenapolitano@gmail.com
URL:https://backup.sistemamedcampania.it/evento/fondazione-f-m-napolitano-the-best-of-italy/
LOCATION:Circolo Canottieri\, Via Molosiglio 1\, Napoli\, 80133\, Italia
CATEGORIES:Fondazione Franco Michele Napolitano,Musica
ATTACH;FMTTYPE=image/png:https://backup.sistemamedcampania.it/wp-content/uploads/2023/04/fondazione-fm-napolitano-the-best-of-italy.png
END:VEVENT
BEGIN:VEVENT
DTSTART;TZID=Europe/Rome:20230419T200000
DTEND;TZID=Europe/Rome:20230419T200000
DTSTAMP:20260420T011934
CREATED:20230328T145204Z
LAST-MODIFIED:20230328T145204Z
UID:7963-1681934400-1681934400@backup.sistemamedcampania.it
SUMMARY:Fondazione F. M Napolitano - Violoncelliade
DESCRIPTION:Violoncelliade nacque a Napoli nel 2016 da un’idea di Luca Signorini in collaborazione con la Pietà de’ Turchini: una performance ininterrotta della durata di circa dodici ore alla quale parteciparono numerosi professionisti e studenti e che vide l’esecuzione di brani di ogni epoca dedicati al violoncello. Il progetto è stato riproposto lo scorso anno in una nuova forma al Conservatorio di San Pietro a Majella: un gruppo di violoncellisti si è esibito sotto la guida di Luca Signorini e il pubblico è rimasto entusiasta. In quest’occasione\, il repertorio spazierà dal 700′ al contemporaneo\, senza tralasciare alcune pratiche improvvisative. Il termine Violocelliade vuole racchiudere i brani\, appositamente scritti\, eseguiti dai giovani studenti. \nINFO: fondazionenapolitano@gmail.com
URL:https://backup.sistemamedcampania.it/evento/fondazione-f-m-napolitano-violoncelliade/
LOCATION:Circolo Canottieri\, Via Molosiglio 1\, Napoli\, 80133\, Italia
CATEGORIES:Fondazione Franco Michele Napolitano,Musica
ATTACH;FMTTYPE=image/png:https://backup.sistemamedcampania.it/wp-content/uploads/2023/03/fondazione-fm-napolitano-violon.png
END:VEVENT
BEGIN:VEVENT
DTSTART;TZID=Europe/Rome:20221123T193000
DTEND;TZID=Europe/Rome:20221123T193000
DTSTAMP:20260420T011934
CREATED:20221121T160039Z
LAST-MODIFIED:20221121T160039Z
UID:7735-1669231800-1669231800@backup.sistemamedcampania.it
SUMMARY:Fondazione Franco Michele Napolitano - I Virtuosi di San Severo e Bruno Giuranna
DESCRIPTION:La Fondazione Franco Michele Napolitano presenta un concerto dei Virtuosi di San Severo in quartetto e quintetto. Bruno Giuranna e  Stefania Redaelli pianoforte artisti ospiti della serata. Fin dalla sua fondazione\, l’ organico dei giovani talenti si affianca a musicisti di fama internazionale. Scopo del progetto è formare un gruppo dove l’esperienza di concertisti affermati insieme all’entusiasmo e al talento di giovani in carriera\, possano far rinascere quelle eccellenze culturali ed artistiche che hanno reso la nostra città\, unica al mondo. \n\n\n\n\n  \nBruno Giuranna viola \nStefania Redaelli pianoforte \n\n\n\n\nRiccardo Zamuner violino \nFederica Tranzillo violino \nRaffaella Cardaropoli violoncello \n  \nProgramma \nW.A. Mozart – Quartetto d’archi con pianoforte n.1 in Sol min K.478 allegro andante rondò \n\n\n\nC. Frank – Quintetto d’archi con pianoforte in Fa min molto moderato quasi lento lento\, con molto sentimento allegro non troppo\, ma con fuoco \n\n\n\n  \nprenotazione obbligatoria: \n whatsapp al numero 3345947887 \nsul sito https://www.fondazionenapolitano.com/contatti
URL:https://backup.sistemamedcampania.it/evento/fondazione-franco-michele-napolitano-i-virtuosi-di-san-severo-e-bruno-giuranna/
LOCATION:Reale Cappella del Tesoro di San Gennaro\, Via Duomo\, 147\, Napoli NA\, 80138
CATEGORIES:Fondazione Franco Michele Napolitano,Musica
ATTACH;FMTTYPE=image/jpeg:https://backup.sistemamedcampania.it/wp-content/uploads/2022/11/fmn.jpg
END:VEVENT
BEGIN:VEVENT
DTSTART;TZID=Europe/Rome:20220428T193000
DTEND;TZID=Europe/Rome:20220428T193000
DTSTAMP:20260420T011934
CREATED:20220426T093745Z
LAST-MODIFIED:20220426T093745Z
UID:7328-1651174200-1651174200@backup.sistemamedcampania.it
SUMMARY:Fondazione Franco Michele Napolitano - I Virtuosi di San Severo in Trio
DESCRIPTION: I Virtuosi di Sansevero si esibiranno in trio con la partecipazione speciale del pianista Bruno Canino.\n Verranno eseguite musiche di Schubert e Brahms.\n\n\nBruno Canino\, pianoforte\nRiccardo Zamuner\, violino\nRaffaella Cardaropoli\, violoncello\n\n\nAcquista il tuo biglietto:  https://www.etes.it
URL:https://backup.sistemamedcampania.it/evento/fondazione-franco-michele-napolitano-i-virtuosi-di-san-severo-in-trio/
LOCATION:Chiesa dei Santi Cosma e Damiano\, Largo Banchi Nuovi\, Napoli\, 80134\, Italia
CATEGORIES:Fondazione Franco Michele Napolitano,Musica
ATTACH;FMTTYPE=image/jpeg:https://backup.sistemamedcampania.it/wp-content/uploads/2022/04/scarlatti.jpg
END:VEVENT
BEGIN:VEVENT
DTSTART;TZID=Europe/Rome:20211221T203000
DTEND;TZID=Europe/Rome:20211221T203000
DTSTAMP:20260420T011934
CREATED:20211217T165135Z
LAST-MODIFIED:20211217T165255Z
UID:7118-1640118600-1640118600@backup.sistemamedcampania.it
SUMMARY:Fondazione Franco Michele Napolitano-Concerto di Natale alla Cappella San Severo
DESCRIPTION:La Fondazione Napolitano in collaborazione con la Cappella Sansevero presenta il concerto di Natale; ospite d’eccezione Salvatore Accardo insieme alla violinista Laura Gorna\, al contrabbassista Ermanno Calzolari e alla camerata dei Virtuosi di Sansevero. \nUn evento speciale per salutare le festività natalizie\, il cui incasso sarà interamente devoluto all’associazione Onlus – Aemas\, Orchestra Sinfonica dei Quartieri Spagnoli di Napoli. \nIn programma il Concerto per due violini in re minore di Bach\, solisti Salvatore Accardo e Laura Gorna\, il Concerto per due violini in la minore di Vivaldi\, solisti Riccardo Zamuner e Giulia Rimonda\, il Concerto per tre violini in fa maggiore di Vivaldi\, solisti Vincenzo Meriani\, Ivos Margoni e Federica Tranzillo e si chiuderà con il Gran Duo Concertante per Violino e Contrabbasso di Giovanni Bottesini\, solisti Salvatore Accardo ed Ermanno Calzolari. \nIl concerto\, darà il via alla rassegna di musica da camera “I concerti dei Virtuosi di Sansevero” ideata dal giovane violinista Riccardo Zamuner.  \n  \nINFO: Biglietti in vendita su www.azzurroservice.net hanno un costo di € 50\,00 (incluse commissioni di prevendita)\, la disponibilità è limitata a 80 posti (per accedere al concerto è necessario esibire il super green pass e durante lo spettacolo sarà obbligatorio l’uso della mascherina). \n  \n 
URL:https://backup.sistemamedcampania.it/evento/fondazione-franco-michele-napolitano-concerto-di-natale-alla-cappella-san-severo/
LOCATION:Museo Cappella Sansevero\, Via Francesco de Sanctis\, 19/21\, Napoli NA\, 80134
CATEGORIES:Fondazione Franco Michele Napolitano,Musica
ATTACH;FMTTYPE=image/jpeg:https://backup.sistemamedcampania.it/wp-content/uploads/2021/12/concerto-di-natale-1.jpg
END:VEVENT
BEGIN:VEVENT
DTSTART;TZID=Europe/Rome:20190522T200000
DTEND;TZID=Europe/Rome:20190522T200000
DTSTAMP:20260420T011934
CREATED:20190513T124241Z
LAST-MODIFIED:20190522T115726Z
UID:4622-1558555200-1558555200@backup.sistemamedcampania.it
SUMMARY:Fondazione Franco Michele Napolitano. Stagione concertistica 2018/2019- Mat Swing band
DESCRIPTION:Ultimo appuntamento della XIX  stagione concertistica della Fondazione Franco Michele Napolitano.  Per concludere una stagione ricca e variegata di musica\, la Fondazione ospita la Mat Swing Band e il loro standards jazz&swing.\n \nGianni Carbone\, pianoforte\nMariano Elvetico\, sax-tenore\nAmedeo Sorge\, chitarra\nPasquale Litterio\, contrabasso\nFranco Napolitano\, batteria\n \n  \n info: https://www.facebook.com/fondazione.franco.michele.napolitano/
URL:https://backup.sistemamedcampania.it/evento/fondazione-franco-michele-napolitano-stagione-concertistica-20182019-mat-swing-band/
LOCATION:Circolo Canottieri\, Via Molosiglio 1\, Napoli\, 80133\, Italia
CATEGORIES:Fondazione Franco Michele Napolitano,Musica,Stagione concertistica 2018-2019
ATTACH;FMTTYPE=image/jpeg:https://backup.sistemamedcampania.it/wp-content/uploads/2019/05/mat-swing-band.jpg
END:VEVENT
BEGIN:VEVENT
DTSTART;TZID=Europe/Rome:20190320T200000
DTEND;TZID=Europe/Rome:20190320T200000
DTSTAMP:20260420T011934
CREATED:20190315T135503Z
LAST-MODIFIED:20190315T135503Z
UID:4510-1553112000-1553112000@backup.sistemamedcampania.it
SUMMARY:Fondazione Franco Michele Napolitano. Stagione concertistica 2018/2019- Orchestra RYCO
DESCRIPTION:La Fondazione Franco Michele Napolitano torna con l’edizione XIX della stagione concertistica. Prossimo appuntamento con l’Orchestra d’archi giovanile del Rotary\, diretta dal Maestro Luca Signorini con Francesca Salvemini al flauto\, Luigi Puddu alla chitarra.\n \n  \n  \n info: https://www.facebook.com/fondazione.franco.michele.napolitano/
URL:https://backup.sistemamedcampania.it/evento/fondazione-franco-michele-napolitano-stagione-concertistica-20182019-orchestra-ryco/
LOCATION:Circolo Canottieri\, Via Molosiglio 1\, Napoli\, 80133\, Italia
CATEGORIES:Fondazione Franco Michele Napolitano,Musica,Stagione concertistica 2018-2019
ATTACH;FMTTYPE=image/jpeg:https://backup.sistemamedcampania.it/wp-content/uploads/2019/03/orchestra-RYCO.jpg
END:VEVENT
BEGIN:VEVENT
DTSTART;TZID=Europe/Rome:20190306T200000
DTEND;TZID=Europe/Rome:20190306T200000
DTSTAMP:20260420T011934
CREATED:20190301T133216Z
LAST-MODIFIED:20190301T133216Z
UID:4480-1551902400-1551902400@backup.sistemamedcampania.it
SUMMARY:Fondazione Franco Michele Napolitano. Stagione concertistica 2018/2019- Riccardo Gagliardi
DESCRIPTION:La Fondazione Franco Michele Napolitano torna con l’edizione XIX della stagione concertistica. Prossimo appuntamento con Riccardo Gagliardi in un viaggio tra i capolavori del repertorio pianistico.  Il concerto sarà introdotto dal Prof. Massimo Lo Iacono\n \n  \n  \n info: https://www.facebook.com/fondazione.franco.michele.napolitano/
URL:https://backup.sistemamedcampania.it/evento/fondazione-franco-michele-napolitano-stagione-concertistica-20182019-riccardo-gagliardi/
LOCATION:Circolo Canottieri\, Via Molosiglio 1\, Napoli\, 80133\, Italia
CATEGORIES:Fondazione Franco Michele Napolitano,Musica,Stagione concertistica 2018-2019
ATTACH;FMTTYPE=image/jpeg:https://backup.sistemamedcampania.it/wp-content/uploads/2019/03/riccardo-gagliardi.jpg
END:VEVENT
BEGIN:VEVENT
DTSTART;TZID=Europe/Rome:20190227T200000
DTEND;TZID=Europe/Rome:20190227T200000
DTSTAMP:20260420T011934
CREATED:20190222T110140Z
LAST-MODIFIED:20190222T110140Z
UID:4453-1551297600-1551297600@backup.sistemamedcampania.it
SUMMARY:Fondazione Franco Michele Napolitano. Stagione concertistica 2018/2019- Duo Sconcerto
DESCRIPTION:La Fondazione Franco Michele Napolitano torna con l’edizione XIX della stagione concertistica. Prossimo appuntamento con il Duo Sconcerto:  Matteo Ferrari  e  Andrea Candeli\, flauto e chitarra.  Un “irresistibile mistura di arte e tecnica”\, l’ensemble offrirà uno dei propri programmi all’insegna della musica comprensibile\, destinati a rendere pop il classico.  Il concerto sarà introdotto dal Prof. Massimo Lo Iacono\n \n  \n  \n info: https://www.facebook.com/fondazione.franco.michele.napolitano/
URL:https://backup.sistemamedcampania.it/evento/fondazione-franco-michele-napolitano-stagione-concertistica-20182019-duo-sconcerto/
LOCATION:Circolo Canottieri\, Via Molosiglio 1\, Napoli\, 80133\, Italia
CATEGORIES:Fondazione Franco Michele Napolitano,Musica,Stagione concertistica 2018-2019
ATTACH;FMTTYPE=image/jpeg:https://backup.sistemamedcampania.it/wp-content/uploads/2019/02/duo-sconcerto.jpg
END:VEVENT
BEGIN:VEVENT
DTSTART;TZID=Europe/Rome:20190206T200000
DTEND;TZID=Europe/Rome:20190206T200000
DTSTAMP:20260420T011934
CREATED:20190204T130107Z
LAST-MODIFIED:20190204T130107Z
UID:4398-1549483200-1549483200@backup.sistemamedcampania.it
SUMMARY:Fondazione F.M. Napolitano. Stagione Concertistica 2018/2019-Marco Dalsass & Giacomo Dalla Libera
DESCRIPTION:La Fondazione Franco Michele Napolitano torna con l’edizione XIX della stagione concertistica. Prossimo appuntamento con un Duo per Violoncello e Pianoforte; Marco Dalsass e Giacomo Dalla Libera. \nIl concerto sarà introdotto dal Prof. Massimo Lo Iacono\n \n  \n info: https://www.facebook.com/fondazione.franco.michele.napolitano/
URL:https://backup.sistemamedcampania.it/evento/fondazione-f-m-napolitano-stagione-concertistica-20182019-marco-dalsass-giacomo-dalla-libera/
LOCATION:Circolo Canottieri\, Via Molosiglio 1\, Napoli\, 80133\, Italia
CATEGORIES:Fondazione Franco Michele Napolitano,Musica,Stagione concertistica 2018-2019
ATTACH;FMTTYPE=image/jpeg:https://backup.sistemamedcampania.it/wp-content/uploads/2019/02/dalsass-dalla-libera.jpg
END:VEVENT
BEGIN:VEVENT
DTSTART;TZID=Europe/Rome:20190123T200000
DTEND;TZID=Europe/Rome:20190123T200000
DTSTAMP:20260420T011934
CREATED:20190123T105254Z
LAST-MODIFIED:20190123T105313Z
UID:4379-1548273600-1548273600@backup.sistemamedcampania.it
SUMMARY:Fondazione F.M. Napolitano. Stagione Concertistica 2018/2019-Galà Lirico
DESCRIPTION:La Fondazione Franco Michele Napolitano torna con l’edizione XIX della stagione concertistica. Prossimo appuntamento con un concerto lirico con due splendide voci: il soprano Anna Giovanna Salerno e il mezzosoprano Elide Facciuto accompagnate al pianoforte da Gabriella Orlando: Il concerto sarà introdotto dal Prof. Massimo Lo Iacono\n \nIn programma arie di Verdi\, Puccini\, Cilea\, Boito\, Bellini\, Bizet\, Gluck\, Massnet\, Rossini\, Offenbach. \n  \n info: https://www.facebook.com/fondazione.franco.michele.napolitano/
URL:https://backup.sistemamedcampania.it/evento/fondazione-f-m-napolitano-stagione-concertistica-20182019-gala-lirico/
LOCATION:Circolo Canottieri\, Via Molosiglio 1\, Napoli\, 80133\, Italia
CATEGORIES:Fondazione Franco Michele Napolitano,Musica,Stagione concertistica 2018-2019
ATTACH;FMTTYPE=image/jpeg:https://backup.sistemamedcampania.it/wp-content/uploads/2019/01/galà-lirico.jpg
END:VEVENT
END:VCALENDAR