BEGIN:VCALENDAR
VERSION:2.0
PRODID:-//Sistema Med Campania - ECPv6.7.0//NONSGML v1.0//EN
CALSCALE:GREGORIAN
METHOD:PUBLISH
X-WR-CALNAME:Sistema Med Campania
X-ORIGINAL-URL:https://backup.sistemamedcampania.it
X-WR-CALDESC:Eventi per Sistema Med Campania
REFRESH-INTERVAL;VALUE=DURATION:PT1H
X-Robots-Tag:noindex
X-PUBLISHED-TTL:PT1H
BEGIN:VTIMEZONE
TZID:Europe/Rome
BEGIN:DAYLIGHT
TZOFFSETFROM:+0100
TZOFFSETTO:+0200
TZNAME:CEST
DTSTART:20210328T010000
END:DAYLIGHT
BEGIN:STANDARD
TZOFFSETFROM:+0200
TZOFFSETTO:+0100
TZNAME:CET
DTSTART:20211031T010000
END:STANDARD
END:VTIMEZONE
BEGIN:VEVENT
DTSTART;TZID=Europe/Rome:20211008T200000
DTEND;TZID=Europe/Rome:20211008T200000
DTSTAMP:20260420T071549
CREATED:20211005T104830Z
LAST-MODIFIED:20211005T104830Z
UID:6692-1633723200-1633723200@backup.sistemamedcampania.it
SUMMARY:Il Canto di Virgilio & Cappella Neapolitana. Sicut Sagittae -Affetti e Tastiature
DESCRIPTION:Chiude l’ edizione 2021 di Sicut Sagittae\, il festival prodotto da Il Canto di Virgilio\, in collaborazione con l’Associazione Cappella Neapolitana\, la Cappella Musicale Corradiana in “Affetti e Tastiature” Il canto della voce e dell’ organo nel Barocco Italiano \nIsabella Leonarda (1620-1704) attratta fin da giovanissima dalla musica\, è stata una delle prime donne ad aver pubblicato Sonate per strumenti\, anche se nella sua produzione prevale il mottetto a voce sola e basso continuo. La sua produzione è essenzialmente sacra e mostra una musicista notevolmente raffinata\, il cui stile compositivo corrisponde alle necessità della pratica musicale nel convento femminile di appartenenza. Il livello tecnico della sua produzione musicale rivela\, inoltre\, l’evidente alto grado di specializzazione vocale e strumentale degli ensemble attivi all’interno dei conventi più prestigiosi nel XVII secolo. \n  \nAnna Maria Bellocchio\, soprano \nGaetano Magarelli \, organo. \n  \nProgramma:  \nBernardo Pasquini Sonata \nIsabella Leonarda Placare Domine\, op. VI; O flammæ\, op. VI; Spes mondane\, op. VI; Alta del ciel Regina (canzonetta sagra)\, op. XIV; Queste ch’à voi consagro (cantata morale)\, op. XV. \nBernardo Storace Toccata \nAlessandro Scarlatti Sonata; Fuga del 3° Tono.  \n  \n  \nPrenotazione obbligatoria. L’accesso è consentito solo ai possessori di Green pass \nInfo: infoeventi@domusars.it tel. 08134255603 \n 
URL:https://backup.sistemamedcampania.it/evento/il-canto-di-virgilio-cappella-neapolitana-sicut-sagittae-affetti-e-tastiature/
LOCATION:Domus Ars\, Via Santa Chiara\, 10\, Napoli\, Italia
CATEGORIES:Cappella Neapolitana,Il Canto di Virgilio,Musica,Sicut Sagittare 2021
ATTACH;FMTTYPE=image/jpeg:https://backup.sistemamedcampania.it/wp-content/uploads/2021/10/cappella-corradiana.jpg
END:VEVENT
BEGIN:VEVENT
DTSTART;TZID=Europe/Rome:20211007T200000
DTEND;TZID=Europe/Rome:20211007T200000
DTSTAMP:20260420T071549
CREATED:20211005T104230Z
LAST-MODIFIED:20211005T104230Z
UID:6688-1633636800-1633636800@backup.sistemamedcampania.it
SUMMARY:Il Canto di Virgilio & Cappella Neapolitana. Sicut Sagittae -Cantemus\, Psallamus
DESCRIPTION:Prosegue Sicut Sagittae\, il festival prodotto da Il Canto di Virgilio\, in collaborazione con l’Associazione Cappella Neapolitana. Prossimo appuntamento con l’ ensemble Port de voix in “Cantemus\, Psallamus”  Mottetti a 2 voci di Francesco Provenzale.  \nAlcuni tra i mottetti più impervi e di rara bellezza dell’intero Seicento napoletano\, verranno eseguiti in questo concerto dall’ensemble “Port de voix”\, creato a Napoli su incoraggiamento di Antonio Florio. L’autore è Francesco Provenzale\, il più importante “maestro dei maestri” nella catena didattica napoletana del Seicento.I brani sono tratti da una raccolta a stampa di 13 mottetti\, editi nel 1689\, composti e dedicati alla “Fidelissima Città di Napoli” nel 1689\, anno in cui Provenzale\, che aveva già raggiunto le più alte cariche artistiche cittadine\, fu nominato anche Maestro del Tesoro di San Gennaro in Duomo. \n  \nLeslie Visco\, Giuseppina Perna soprani. \nAngelo Trancone\, organo e direzione. \nrevisione di Antonio Florio \n  \nProgramma \nFrancesco  Provenzale Angelicaementes a due voci \nBernardoStorace  :Follia (da “Selva di varie compositioni d’intavolatura per cimbalo(sec.XVII)  et organo) \nFrancesco  ProvenzaleO Jesu\, mea spes a due voci e b.c. \nBernardo Storace:Ciaccona \nFrancesco Provenzale Cantemus\, psallamus a due voci e b.c. \n  \n  \n  \nPrenotazione obbligatoria. L’accesso è consentito solo ai possessori di Green pass \nInfo: infoeventi@domusars.it tel. 08134255603
URL:https://backup.sistemamedcampania.it/evento/il-canto-di-virgilio-cappella-neapolitana-sicut-sagittae-cantemus-psallamus/
LOCATION:Domus Ars\, Via Santa Chiara\, 10\, Napoli\, Italia
CATEGORIES:Cappella Neapolitana,Il Canto di Virgilio,Musica,Sicut Sagittare 2021
ATTACH;FMTTYPE=image/jpeg:https://backup.sistemamedcampania.it/wp-content/uploads/2021/10/port-xoix.jpg
END:VEVENT
BEGIN:VEVENT
DTSTART;TZID=Europe/Rome:20211001T200000
DTEND;TZID=Europe/Rome:20211001T200000
DTSTAMP:20260420T071549
CREATED:20210928T093949Z
LAST-MODIFIED:20210928T093949Z
UID:6664-1633118400-1633118400@backup.sistemamedcampania.it
SUMMARY:Il Canto di Virgilio & Cappella Neapolitana. Sicut Sagittae - Je Chante
DESCRIPTION:Pino De Vittorio sarà il protagonista del prossimo appuntamento del Festival Sicut Sagittae\, prodotto da Il Canto di Virgilio\, in collaborazione con l’Associazione Cappella Neapolitana. Accompagnato da Francesco Caramiello al pianoforte\, De Vittorio ci regalerà un giro del Mondo con vere canzoni d’ autore del ‘900 da John Cage a F.Poulenc \nDopo mille anni la forma “canzone” è rimasta più o meno la stessa che usavano i Trovatori dall’XI secolo: \nUna semplice melodia che esalta una poesia raffinata\, divisa tra strofe e ritornelli\, di breve durata e grande capacità per comunicare emozioni. Il suo segreto è il connubio tra versi e musica ed ha affascinato da sempre i grandi poeti come i grandi compositori senza barriere di lingua o nazione. Reynaldo Hahn era giunto dal Venezuela a Parigi dove condivise gli ambienti di Proust\, ed anticipo’ le successive generazioni di autori come Chaeles Trenet e Charles Dumont. Ma si può dire che ogni nazione europea abbia avuto i suoi autori di canzoni immortali\, come dimostrano i brani dell’olandese Goemans\, del belga Poulenc\, e del londinese Lloyd Webber\, il principe del musical. Dall’altra parte dell’oceano Atlantico\, anche un simbolo della musica radicale come John Cage può inserirsi in un catalogo idelale di canzoni del Novecento\, anche se ovviamente il suo testo è piuttosto ermetico\, tratto da Joyce. E si ritorna in America Latina con la sua peculiare visione della nebbiosa capitale Argentina. Un giro del mondo in 15 straordinarie canzoni d’autore. \n  \nPrenotazione obbligatoria. L’accesso è consentito solo ai possessori di Green pass \nInfo: infoeventi@domusars.it tel. 08134255603
URL:https://backup.sistemamedcampania.it/evento/il-canto-di-virgilio-cappella-neapolitana-sicut-sagittae-je-chante/
LOCATION:Domus Ars\, Via Santa Chiara\, 10\, Napoli\, Italia
CATEGORIES:Cappella Neapolitana,Il Canto di Virgilio,Musica,Sicut Sagittare 2021
ATTACH;FMTTYPE=image/jpeg:https://backup.sistemamedcampania.it/wp-content/uploads/2021/09/de-vittorio.jpg
END:VEVENT
BEGIN:VEVENT
DTSTART;TZID=Europe/Rome:20210928T193000
DTEND;TZID=Europe/Rome:20210928T193000
DTSTAMP:20260420T071549
CREATED:20210928T085759Z
LAST-MODIFIED:20210928T090042Z
UID:6660-1632857400-1632857400@backup.sistemamedcampania.it
SUMMARY:Il Canto di Virgilio & Cappella Neapolitana. Sicut Sagittae - D’Amore e di Morte
DESCRIPTION:Il prossimo appuntamento del Festival di Musica Barocca Sicut Sagittae\, prodotto da Il Canto di Virgilio\, in collaborazione con l’Associazione Cappella Neapolitana è con il soprano Ester Facchini\, accompagnata dalla tiorba di Franco Pavan in  Arie\, madrigali e lamenti del ‘600. \nL’amore\, la morte. Inevitabile il loro incontro\, nei secoli delle letterature\, delle arti\, dei pensieri di tutti\, tanto da divenire spesso metafora l’una dell’altra. Esplode questo binomio con la nascita della nuova musica agli albori del Seicento\, quando essa diviene serva dell’orazione e i testi poetici ci travolgono con la loro intensità. Ne vogliamo cogliere le tracce in brani che abbiamo recuperato dall’oblio totale\, piangendo con la moglie di SidìMamet sulle spiagge africane\, raccontando strofe perdute del primo brano di Monteverdi in programma\, scherzando con la delicatezza del misconosciuto Miniscalchi\, rincorrendo amori di un giovane adolescente come Domenico Obizzi. E saràGiulio Caccini\, il Caccini appassionato di fiori\, piante\, giardini\, che freme per poter avere nel suo orto un giacinto cipressino\, ad accompagnarci a quell’infinito ritorno di Amore\, per non farci naufragare nella morte.(F.Pavan) \n  \nProgramma: \nClaudio Monteverdi Ecco di dolci raggi il sole armato \nFilippo Vitali O felice quel giorno \nGuglielmo Miniscalchi Sospiro si: ma pur?  \nLoreto Vitto Lamento della Prencipessa di Tunisi  \nGiacomo Antonio Pfender Battaglia \nGuglielmo Miniscalchi Battaglia \nDomenico Obizzi S’io fossi un giorno ardito \nClaudio Monteverdi Lettera amorosa \nJohannes HieronimusKapsperger Romanesca  \nGiulio Caccini Vedrò il mio Sol – Torna\, deh torna \n  \n  \nPrenotazione obbligatoria. L’accesso è consentito solo ai possessori di Green pass \nInfo: infoeventi@domusars.it tel. 08134255603
URL:https://backup.sistemamedcampania.it/evento/il-canto-di-virgilio-cappella-neapolitana-sicut-sagittae-damore-e-di-morte/
LOCATION:Domus Ars\, Via Santa Chiara\, 10\, Napoli\, Italia
CATEGORIES:Cappella Neapolitana,Il Canto di Virgilio,Musica,Sicut Sagittare 2021
ATTACH;FMTTYPE=image/jpeg:https://backup.sistemamedcampania.it/wp-content/uploads/2021/09/facchini.jpg
END:VEVENT
BEGIN:VEVENT
DTSTART;TZID=Europe/Rome:20210926T200000
DTEND;TZID=Europe/Rome:20210926T200000
DTSTAMP:20260420T071549
CREATED:20210922T144547Z
LAST-MODIFIED:20210922T144547Z
UID:6648-1632686400-1632686400@backup.sistemamedcampania.it
SUMMARY:Il Canto di Virgilio & Cappella Neapolitana. Sicut Sagittae - Il Viaggio Armonico
DESCRIPTION:Il secondo appuntamento del Festival di Musica Barocca Sicut Sagittae\, prodotto da Il Canto di Virgilio\, in collaborazione con l’Associazione Cappella Neapolitana vedrà protagonista la Compagnia de Violini in “Il Viaggio Armonico” \, ovvero: un appassionante racconto in musica\, costruito con l’esecuzione di sonate di celebri violinisti virtuosi che hanno animato la scena musicale europea dell’epoca barocca. Senaillè\, Mascitti\, Valentini \,Veracini e tanti altri famosi strumentisti in tour nelle principali corti europee. \n  \nProgramma: \nJ.B.Senaillé Sonata VI dal Premier livre de sonates à violonseul  Preludio\, Allemanda\, Adagio\, Gavotta  \nMichele Mascitti Sonata OP II\, 4 Allemanda-largo\, Allegro\, Adagio\, Giga-allegro \n Giuseppe Valentini Allettamento per camera op VIII\, 1 Andante affettuoso\, Allegro\, Amoroso\, Presto \nAndrea Zani Sonata OP I\, 2  Adagio\, Allegro\, Andante\, Allegro  \nFrancesco Maria Veracini Sonata OP I\, 6  Fantasia\, Allemanda\, Pastorale\, Giga  \n  \nCompagnia de Violini \nAlessandro Ciccolini\, violino barocco    \nFrancesco Baroni\, clavicembalo \n  \n  \nPrenotazione obbligatoria. L’accesso è consentito solo ai possessori di Green pass \nInfo: infoeventi@domusars.it tel. 08134255603
URL:https://backup.sistemamedcampania.it/evento/il-canto-di-virgilio-cappella-neapolitana-sicut-sagittae-il-viaggio-armonico/
LOCATION:Domus Ars\, Via Santa Chiara\, 10\, Napoli\, Italia
CATEGORIES:Cappella Neapolitana,Il Canto di Virgilio,Musica,Sicut Sagittare 2021
ATTACH;FMTTYPE=image/jpeg:https://backup.sistemamedcampania.it/wp-content/uploads/2021/09/compagnia-de-violinio.jpg
END:VEVENT
BEGIN:VEVENT
DTSTART;TZID=Europe/Rome:20210924T200000
DTEND;TZID=Europe/Rome:20210924T200000
DTSTAMP:20260420T071549
CREATED:20210922T143919Z
LAST-MODIFIED:20210922T143919Z
UID:6645-1632513600-1632513600@backup.sistemamedcampania.it
SUMMARY:Il Canto di Virgilio & Cappella Neapolitana. Sicut Sagittae - L’Oratorio di S. Antonio da Padova
DESCRIPTION:Al via la VI edizione del Festival di Musica Barocca Sicut Sagittae\, prodotto da Il Canto di Virgilio\, in collaborazione con l’Associazione Cappella Neapolitana. Il Festival sarà inaugurato con una prima esecuzione moderna\, a cura della Cappella Neapolitana diretta da Antonio Florio\,  di Donato Veneziano con L’Oratorio di S. Antonio da Padova\, un oratorio a 5 violini.  \nGaetano Veneziano è uno dei più importanti compositori nella catena didattica avviata nei Conservatori napoletani del Seicento\, in quanto allievo prediletto di Francesco Provenzale\, il maestro dei maestri di quella “scuola”. \nDopo aver rieseguito per la prima volta in tempi moderni La SantissimaTrinità (che è diventato anche un acclamato cd pubblicato dalla casa ispano-tedesca Glossa)\, Antonio Florio con la sua Cappella Neapolitana propone adesso un nuovo sconosciuto capolavoro del teatro musicale religioso dell’Italia meridionale alla fine del Seicento. \nAgiscono nel dramma oltre al santo una serie di personaggi simbolici a lui collegati\, come l’ Amor Divino e il Bambino Gesù che gli fu visto in braccio durante i primi miracoli che ne accelerarono la beatificazione\, e naturalmente la coppia in continua lotta di Angelo e Demonio. \nUno spettacolo che ha tutti gli ingredienti del carnale e suadente barocco napoletano. \n  \nCappella Neapolitana \ndirettore  Antonio Florio \n Valeria La Grotta\, soprano \nMichele Dispoto\, basso \nAurelio Schiavoni\, alto \nLeopoldo Punziano\, tenore \nGiulia Lepore\, soprano \nMarco Piantoni- Nunzia Sorrentino\, violini \nRosario Di Meglio\, viola \nAndrea Lattarulo\, violoncello \nGiorgio Sanvito\, violone \nFranco Pavan\, Pierluigi Ciapparelli\, tiorbe \nAngelo Trancone\, cembalo \n  \n  \nPrenotazione obbligatoria. L’accesso è consentito solo ai possessori di Green pass \nInfo: infoeventi@domusars.it tel. 08134255603  \n 
URL:https://backup.sistemamedcampania.it/evento/il-canto-di-virgilio-cappella-neapolitana-sicut-sagittae-loratorio-di-s-antonio-da-padova/
LOCATION:Domus Ars\, Via Santa Chiara\, 10\, Napoli\, Italia
CATEGORIES:Cappella Neapolitana,Il Canto di Virgilio,Musica,Sicut Sagittare 2021
ATTACH;FMTTYPE=image/jpeg:https://backup.sistemamedcampania.it/wp-content/uploads/2021/09/santantonio.jpg
END:VEVENT
END:VCALENDAR