BEGIN:VCALENDAR
VERSION:2.0
PRODID:-//Sistema Med Campania - ECPv6.7.0//NONSGML v1.0//EN
CALSCALE:GREGORIAN
METHOD:PUBLISH
X-ORIGINAL-URL:https://backup.sistemamedcampania.it
X-WR-CALDESC:Eventi per Sistema Med Campania
REFRESH-INTERVAL;VALUE=DURATION:PT1H
X-Robots-Tag:noindex
X-PUBLISHED-TTL:PT1H
BEGIN:VTIMEZONE
TZID:Europe/Rome
BEGIN:DAYLIGHT
TZOFFSETFROM:+0100
TZOFFSETTO:+0200
TZNAME:CEST
DTSTART:20170326T010000
END:DAYLIGHT
BEGIN:STANDARD
TZOFFSETFROM:+0200
TZOFFSETTO:+0100
TZNAME:CET
DTSTART:20171029T010000
END:STANDARD
BEGIN:DAYLIGHT
TZOFFSETFROM:+0100
TZOFFSETTO:+0200
TZNAME:CEST
DTSTART:20180325T010000
END:DAYLIGHT
BEGIN:STANDARD
TZOFFSETFROM:+0200
TZOFFSETTO:+0100
TZNAME:CET
DTSTART:20181028T010000
END:STANDARD
END:VTIMEZONE
BEGIN:VEVENT
DTSTART;TZID=Europe/Rome:20180105T110000
DTEND;TZID=Europe/Rome:20180105T110000
DTSTAMP:20260419T211438
CREATED:20171220T125935Z
LAST-MODIFIED:20171220T145146Z
UID:3054-1515150000-1515150000@backup.sistemamedcampania.it
SUMMARY:Festival Internazionale del ‘700 Musicale Napoletano XVIII Edizione. Il Violino che Canta
DESCRIPTION:Festival Internazionale del ‘700 Musicale Napoletano XVIII Edizione \na cura di “Associazione Domenico Scarlatti” e “il Canto di Virgilio” \n  \nMusiche di Domenico Cimarosa\, Nicolò Porpora\, Niccolò Paganini\, Ferdinando Carulli\, Igor Stravinsky\nEleonora AMATO violino\nEnzo AMATO chitarra \n  \nhttp://www.domusars.it/festival-del-700-napoletano-.html
URL:https://backup.sistemamedcampania.it/evento/festival-internazionale-del-700-musicale-napoletano-xvii-edizione-violino-canta/
LOCATION:Domus Ars\, Via Santa Chiara\, 10\, Napoli\, Italia
CATEGORIES:Il Canto di Virgilio,Musica,XVIII Festival Internazionale del ‘700 Musicale Napoletano
ATTACH;FMTTYPE=image/jpeg:https://backup.sistemamedcampania.it/wp-content/uploads/2017/12/il-violino-che-canta.jpg
END:VEVENT
BEGIN:VEVENT
DTSTART;TZID=Europe/Rome:20171229T183000
DTEND;TZID=Europe/Rome:20171229T183000
DTSTAMP:20260419T211438
CREATED:20171220T123452Z
LAST-MODIFIED:20171220T152346Z
UID:3051-1514572200-1514572200@backup.sistemamedcampania.it
SUMMARY:Festival Internazionale del ‘700 Musicale Napoletano XVIII Edizione. Magnificat - Coro della Pietrasanta & Orchestra da Camera dell'Irpinia
DESCRIPTION:Festival Internazionale del ‘700 Musicale Napoletano XVIII Edizione \na cura di “Associazione Domenico Scarlatti” e “il Canto di Virgilio” \nMAGNIFICAT \nCORO DELLA PIETRASANTA e L’ ORCHESTRA DA CAMERA DELL’IRPINIA\nRosario PELUSO Direttore\nMusiche di Francesco Durante \n 
URL:https://backup.sistemamedcampania.it/evento/festival-internazionale-del-700-musicale-napoletano-xvii-edizione-coro-della-pietrasanta-orchestra-camera-dellirpinia/
LOCATION:Domus Ars\, Via Santa Chiara\, 10\, Napoli\, Italia
CATEGORIES:Il Canto di Virgilio,XVIII Festival Internazionale del ‘700 Musicale Napoletano
ATTACH;FMTTYPE=image/jpeg:https://backup.sistemamedcampania.it/wp-content/uploads/2017/12/magnificat.jpg
END:VEVENT
BEGIN:VEVENT
DTSTART;TZID=Europe/Rome:20171220T210000
DTEND;TZID=Europe/Rome:20171220T210000
DTSTAMP:20260419T211438
CREATED:20171220T121610Z
LAST-MODIFIED:20171220T145501Z
UID:3046-1513803600-1513803600@backup.sistemamedcampania.it
SUMMARY:Festival Internazionale del ‘700 Musicale Napoletano XVIII Edizione. Ernesto Sparago - Concerto per pianoforte
DESCRIPTION:Festival Internazionale del ‘700 Musicale Napoletano XVIII Edizione \na cura di “Associazione Domenico Scarlatti” e “il Canto di Virgilio” \nCONCERTO PER PIANOFORTE\nMusiche di Domenico Scarlatti\, Giovanni Paisiello\, Domenico Cimarosa.\nErnesto SPARAGO pianoforte \n 
URL:https://backup.sistemamedcampania.it/evento/festival-internazionale-del-700-musicale-napoletano-xvii-edizione-ernesto-sparago-concerto-pianoforte/
LOCATION:Domus Ars\, Via Santa Chiara\, 10\, Napoli\, Italia
CATEGORIES:Il Canto di Virgilio,Musica,XVIII Festival Internazionale del ‘700 Musicale Napoletano
ATTACH;FMTTYPE=image/jpeg:https://backup.sistemamedcampania.it/wp-content/uploads/2017/12/ernesto-sparago.jpg
END:VEVENT
END:VCALENDAR