BEGIN:VCALENDAR
VERSION:2.0
PRODID:-//Sistema Med Campania - ECPv6.7.0//NONSGML v1.0//EN
CALSCALE:GREGORIAN
METHOD:PUBLISH
X-ORIGINAL-URL:https://backup.sistemamedcampania.it
X-WR-CALDESC:Eventi per Sistema Med Campania
REFRESH-INTERVAL;VALUE=DURATION:PT1H
X-Robots-Tag:noindex
X-PUBLISHED-TTL:PT1H
BEGIN:VTIMEZONE
TZID:Europe/Rome
BEGIN:DAYLIGHT
TZOFFSETFROM:+0100
TZOFFSETTO:+0200
TZNAME:CEST
DTSTART:20220327T010000
END:DAYLIGHT
BEGIN:STANDARD
TZOFFSETFROM:+0200
TZOFFSETTO:+0100
TZNAME:CET
DTSTART:20221030T010000
END:STANDARD
BEGIN:DAYLIGHT
TZOFFSETFROM:+0100
TZOFFSETTO:+0200
TZNAME:CEST
DTSTART:20230326T010000
END:DAYLIGHT
BEGIN:STANDARD
TZOFFSETFROM:+0200
TZOFFSETTO:+0100
TZNAME:CET
DTSTART:20231029T010000
END:STANDARD
END:VTIMEZONE
BEGIN:VEVENT
DTSTART;TZID=Europe/Rome:20230513T210000
DTEND;TZID=Europe/Rome:20230513T210000
DTSTAMP:20260421T150027
CREATED:20230401T174920Z
LAST-MODIFIED:20230401T175127Z
UID:7990-1684011600-1684011600@backup.sistemamedcampania.it
SUMMARY:La Bazzarra - Transiti Sonori\, Il Tesoro di San Gennaro
DESCRIPTION:La rassegna Transiti Sonori si conclude\, sabato 13 maggio alle ore 21\, con Il Tesoro di San Gennaro\, un progetto di Salvio Vassallo\, batterista\, produttore e compositore di colonne sonore ed ex Spaccanapoli\, e della talentuosa cantante Valentina Gaudini\, allieva del maestro Roberto Murolo. Il duo\, vincitore del Premio Carosone\, presenta in anteprima i brani del nuovo disco Amore e Guerra in uscita ad aprile 2023.  La loro musica ha un chiaro carattere trasversale ed inclusivo che nasce da incontri\, condivisioni e fusioni\, tra riletture e riadattamenti. \nINFO: 3287232399 info@labazzarra.com \nIngresso 10 euro \n 
URL:https://backup.sistemamedcampania.it/evento/la-bazzarra-transiti-sonori-il-tesoro-di-san-gennaro/
LOCATION:Chiesa di Santa Maria Donnalbina\, Via Donnalbina\, Napoli\, Napoli\, 80100\, Italia
CATEGORIES:La Bazzarra,Musica,Transiti Sonori
ATTACH;FMTTYPE=image/png:https://backup.sistemamedcampania.it/wp-content/uploads/2023/04/il-tesoro-di-san-gennaro.png
END:VEVENT
BEGIN:VEVENT
DTSTART;TZID=Europe/Rome:20230429T210000
DTEND;TZID=Europe/Rome:20230429T210000
DTSTAMP:20260421T150027
CREATED:20230401T171408Z
LAST-MODIFIED:20230401T171624Z
UID:7988-1682802000-1682802000@backup.sistemamedcampania.it
SUMMARY:La Bazzarra - Transiti Sonori\, Maria Moramarco
DESCRIPTION:Transiti Sonori arriva per il suo terzo appuntamento con Maria Moramarco\, artista da sempre impegnata nel lavoro di recupero della tradizione orale. In questa occasione si fa interprete di un repertorio meno noto dell’Alta Murgia barese. Un viaggio suggestivo attraverso “il canto dello spirito”: liriche devozionali\, canti liturgici\, preghiere arcaiche e litanie ancestrali. Accompagnata da Luigi Bolognese (chitarrista)\, Alessandro Pipino (fisarmonica) e Adolfo La Volpe (jumbush\, chitarra portoghese)\, la cantante pugliese riesce a raggiungere livelli di comunicazione col pubblico di grande fascinazione spirituale grazie alla sua particolare maniera di “cantare la voce”. \nINFO: 3287232399 – info@labazzarra.com \nIngresso 10 euro
URL:https://backup.sistemamedcampania.it/evento/la-bazzarra-transiti-sonori-maria-moramarco/
LOCATION:Chiesa di Santa Maria Donnalbina\, Via Donnalbina\, Napoli\, Napoli\, 80100\, Italia
CATEGORIES:La Bazzarra,Musica,Transiti Sonori
ATTACH;FMTTYPE=image/jpeg:https://backup.sistemamedcampania.it/wp-content/uploads/2023/04/maria-moramarco-2.jpg
END:VEVENT
BEGIN:VEVENT
DTSTART;TZID=Europe/Rome:20230416T193000
DTEND;TZID=Europe/Rome:20230416T193000
DTSTAMP:20260421T150027
CREATED:20230401T165224Z
LAST-MODIFIED:20230401T165224Z
UID:7985-1681673400-1681673400@backup.sistemamedcampania.it
SUMMARY:La Bazzarra - Transiti Sonori\, Rachele Andrioli
DESCRIPTION:Domenica 16 aprile alle ore 19.30 la rassegna Transiti Sonori prosegue con Rachele Andrioli\, cantautrice e polistrumentista che presenta il suo primo lavoro discografico da solista Leuca. Il progetto\, frutto di una ricerca sulle tradizioni musicali che legano il Salento a ogni Sud del Mondo\, è il racconto di storie mediterranee sospese tra verità e leggenda attraverso la scoperta di musica e testi inediti. Ad accompagnare la cantante salentina ci sarà Coro a Coro\, un ensemble di circa 40 voci di donne che proporranno\, tra l’altro\, alcuni brani d’autore che rendono omaggio ad artisti come Victor Jara\, Enzo Avitabile\, Nusrat Fateh Ali Khan\, Rina Durante. \nINFO: 3287232399 – info@labazzarra.com \nIngresso 10 euro
URL:https://backup.sistemamedcampania.it/evento/la-bazzarra-transiti-sonori-rachele-andrioli/
LOCATION:Chiesa di Santa Maria Donnalbina\, Via Donnalbina\, Napoli\, Napoli\, 80100\, Italia
CATEGORIES:La Bazzarra,Musica,Transiti Sonori
ATTACH;FMTTYPE=image/jpeg:https://backup.sistemamedcampania.it/wp-content/uploads/2023/03/rachele-andrioli.jpg
END:VEVENT
BEGIN:VEVENT
DTSTART;TZID=Europe/Rome:20230401T210000
DTEND;TZID=Europe/Rome:20230401T210000
DTSTAMP:20260421T150027
CREATED:20230331T191633Z
LAST-MODIFIED:20230331T194517Z
UID:7981-1680382800-1680382800@backup.sistemamedcampania.it
SUMMARY:La Bazzarra - Transiti Sonori\, Arianna Art Ensemble
DESCRIPTION:Ad inaugurare Transiti Sonori\, rassegna ideata e diretta da Gigi Di Luca e prodotta da La Bazzarra\, sarà il live set di Arianna Art Ensemble\, protagonista di un viaggio sonoro verso le Terre di Ulisse alla riscoperta delle antiche musiche del Mediterraneo. Il progetto nasce dalla collaborazione tra l’ensemble fondato dal compositore Paolo Rigano e dalla clavicembalista Cinzia Guarino con il polistrumentista Mario Crispi\, esperto di musica etnica e fondatore degli Agricantus. A completare la formazione ci sarà la voce di Debora Troia\, il violino di Federico Brigantino\, le percussioni di Giuseppe Valguarnera e il polistrumentista Silvio Natoli\, al colascione\, bouzouki e oud. Il gruppo vuole proporre un concerto che conduce lo spettatore in un percorso musicale che unisce brani e strumenti antichi europei a strumenti tradizionali dell’area mediterranea. \nINFO: 3287232399 – info@labazzarra.com \nIngresso 10 euro \n  \n 
URL:https://backup.sistemamedcampania.it/evento/la-bazzarra-transiti-sonori-arianna-art-ensemble/
LOCATION:Chiesa di Santa Maria Donnalbina\, Via Donnalbina\, Napoli\, Napoli\, 80100\, Italia
CATEGORIES:La Bazzarra,Musica,Transiti Sonori
ATTACH;FMTTYPE=image/png:https://backup.sistemamedcampania.it/wp-content/uploads/2023/03/la-bazzarra-transiti-sonori-arianna-art-ensemble.png
END:VEVENT
BEGIN:VEVENT
DTSTART;TZID=Europe/Rome:20221002T203000
DTEND;TZID=Europe/Rome:20221002T203000
DTSTAMP:20260421T150027
CREATED:20220915T104240Z
LAST-MODIFIED:20220915T104240Z
UID:7590-1664742600-1664742600@backup.sistemamedcampania.it
SUMMARY:La Bazzarra. Ethnos - Compagnia Tarantarte\, "Premesse a Kore"
DESCRIPTION:Ethnos\, il festival organizzato da La Bazzarra non è solo musica. Spazio alla danza ed il secondo appuntamento è con la compagnia Tarantarte in “Premesse a Kore”\nC’è un filo rosso che lega il presente della danza popolare alle sue origini più antiche: è il legame con il luogo in cui affondano le sue radici. È il nastro rosso avvolto attorno alle braccia delle danzatrici sulla scena che\, ieratiche e seduttive\, come sacerdotesse custodi di un culto misterico prima che misterioso\, conducono lo spettatore alla sua iniziazione. Quello che si consuma sulla scena è infatti un drama mystikon\, il dramma iniziatico al mistero della trance\, che spesso è il cuore occulto e pulsante delle danze di tradizione popolare. Kore\, la “fanciulla indicibile” del mito\, è il nume ispiratore di questo lavoro della Compagnia Tarantarte che scava nel mito e nel rito delle danze popolari del Mediterraneo in cerca della danza originaria che è madre di tutte le danze. Così\, come tante Demetre all’inseguimento di una sola Kore\, come madri alla perenne ricerca di una figlia perduta forse per sempre\, le danzatrici tessono i fili di una trama impossibile da ricomporre. Una storia mai esistita ma che è ancora tutta da scrivere. Una storia plurale\, corale. Ognuna\, sola\, col proprio velo come una pagina bianca\, a narrare la propria versione tra le infinite possibili – del mito e di sé – nel tentativo di penetrare il mistero di queste danze a partire dalla sua radice più profonda\, il corpo\, perchè solo il corpo riesce ad esprimere l’inesprimibile\, a dire l’indicibile. Corpi di donne che si fronteggiano e che si sostengono\, donne con braccia forti che possono colpire ma che sanno anche cullare\, corpi che talvolta cadono ma che sempre si rialzano. Corpi che aderiscono a un velo\, confine materiale e metaforico tra quello che si può vedere e ciò che si può solo immaginare. \nRegia e coreografie Maristella Martella\nInterpreti Manuela Rorro\, Alessandra Gaeta\, Giulia Piccinni\, Claudia Sarcinella \n  \nAcquista il tuo biglietto www.azzurroservice.net \nInfo: https://www.festivalethnos.it
URL:https://backup.sistemamedcampania.it/evento/la-bazzarra-ethnos-compagnia-tarantarte-premesse-a-kore/
LOCATION:Villa Bruno\, Via Cavalli di Bronzo\, 22\, San Giorgio a Cremano (NA)
CATEGORIES:Danza,Ethnos 2022,La Bazzarra
ATTACH;FMTTYPE=image/jpeg:https://backup.sistemamedcampania.it/wp-content/uploads/2022/09/tarantarte.jpg
END:VEVENT
BEGIN:VEVENT
DTSTART;TZID=Europe/Rome:20221002T180000
DTEND;TZID=Europe/Rome:20221002T180000
DTSTAMP:20260421T150027
CREATED:20220915T103926Z
LAST-MODIFIED:20220915T103926Z
UID:7588-1664733600-1664733600@backup.sistemamedcampania.it
SUMMARY:La Bazzarra. Ethnos - Movimento Danza\,  "Il Canto delle Mani"
DESCRIPTION:Ethnos\, il festival organizzato da La Bazzarra non è solo musica. Spazio alla danza con un doppio spettacolo. \nApre la compagnia Movimento Danza con “Il Canto delle Mani” \nC’è chi canta col cuore\, chi con la testa\, chi con i piedi\, chi con il corpo\, chi magari con le sole mani – dice l’amico e M° Pasquale Scialò nel suo saggio “Venti voci per un lessico”. E c’è chi danza col cuore\, chi con la testa\, chi con i “piedi”\, chi con il corpo\, chi magari con le sole mani.\nLa vera natura della cultura partenopea è fondata sulla tolleranza\, sull’attitudine all’interazione\, alla commistione: è il frutto dei continui scambi e contatti con i Sud del mondo.\nI gesti\, i suoni\, i colori\, gli oggetti\, i simboli rimbalzano\, riecheggiano\, viaggiano trasportati dal mare e trovano ogni volta nuove collocazioni e riutilizzazioni.\nNasce così “Il canto delle mani” una coreografia in cui contaminazioni\, connessioni\, moltiplicazioni\, sovrapposizioni e presenze simultanee convivono nel medesimo spazio/tempo.\nIl ritmo della danza si gioca in un susseguirsi di immagini che si compongono e si scompongono in una linea di continuità non tanto logica\, quanto analogica. I moduli coreutici si incrociano e si incatenano\, lanciati e rilanciati da un capo all’altro della coreografia\, fino a formare la tessitura di tutto l’impianto scenico\, in cui la forza evocativa di una simbologia arcaica e rituale è “tradotta” in un linguaggio coreografico contemporaneo. \nCoreografia di Gabriella Stazio\nMusiche originali di Luigi Stazio\nDanza Sonia Di Gennaro \n  \nAcquista il tuo biglietto www.azzurroservice.net \nInfo: https://www.festivalethnos.it
URL:https://backup.sistemamedcampania.it/evento/la-bazzarra-ethnos-movimento-danza-il-canto-delle-mani/
LOCATION:Villa Bruno\, Via Cavalli di Bronzo\, 22\, San Giorgio a Cremano (NA)
CATEGORIES:Danza,Ethnos 2022,La Bazzarra,Movimento Danza
ATTACH;FMTTYPE=image/jpeg:https://backup.sistemamedcampania.it/wp-content/uploads/2022/09/movimento-danza.jpg
END:VEVENT
BEGIN:VEVENT
DTSTART;TZID=Europe/Rome:20220924T203000
DTEND;TZID=Europe/Rome:20220924T203000
DTSTAMP:20260421T150027
CREATED:20220915T103433Z
LAST-MODIFIED:20220915T103433Z
UID:7586-1664051400-1664051400@backup.sistemamedcampania.it
SUMMARY:La Bazzarra. Ethnos - Oumou Sangarè
DESCRIPTION:Ethnos\, il festival organizzato da La Bazzarra prosegue con il concerto di Oumou Sangarè oggi la cantante africana più grande e influente del mondo che ha inciso la cassetta\, intitolata Moussolou (“le donne” in Bambara)\, venduto più di 250.000 copie alla sua prima uscita\, un record che rimane imbattuto in Africa occidentale.  Testi cantati\, a volte ruggiti\, da questa giovane leonessa che ha dovuto lottare fin dalla tenera età per sopravvivere. In piedi con ardente passione contro gli abusi di una tradizione patriarcale che sanziona la poligamia\, i matrimoni forzati e le mutilazioni genitali femminili\, Oumou è diventata il volto da un giorno all’altro di una causa femminista che non ha mai avuto alcun punto d’appoggio in questa parte del mondo prima del suo arrivo. \n  \nAcquista il tuo biglietto www.azzurroservice.net \nInfo: www.festivalethnos.it
URL:https://backup.sistemamedcampania.it/evento/la-bazzarra-ethnos-oumou-sangare/
LOCATION:Villa Vannucchi\, Corso Roma\, 47\, Via Cavalli di Bronzo\, 13\, San Giorgio a Cremano (NA)\, 80046
CATEGORIES:Ethnos 2022,La Bazzarra,Musica
ATTACH;FMTTYPE=image/jpeg:https://backup.sistemamedcampania.it/wp-content/uploads/2022/09/sangare.jpg
END:VEVENT
BEGIN:VEVENT
DTSTART;TZID=Europe/Rome:20220923T203000
DTEND;TZID=Europe/Rome:20220923T203000
DTSTAMP:20260421T150027
CREATED:20220915T102521Z
LAST-MODIFIED:20220915T102521Z
UID:7579-1663965000-1663965000@backup.sistemamedcampania.it
SUMMARY:La Bazzarra. Ethnos - Maria Mazzotta
DESCRIPTION:Il prossimo appuntamento di Ethnos\, il festival organizzato da La Bazzarra è con un’intensa e appassionata riflessione\, da un punto di vista femminile\, sui vari volti dell’amore: da quello grande\, disperato e tenerissimo a quello malato\, possessivo e abusato. È “Amoreamaro”\, il nuovo album di Maria Mazzotta\, una delle voci più apprezzate del panorama della world music europea. Sul palco con Maria Mazzotta\, oltre al fisarmonicista Antonino De Luca in tour con lei per presentare in duo l’album “Amoreamaro”\, ci saranno anche Cristiano Della Monica alle percussioni ed Ernesto Nobili alle chitarre\, straordinari musicisti e producer con cui la Mazzotta sta lavorando ad un nuovo album. \n  \nMaria Mazzotta voce e percussioni\nAntonino De Luca fisarmonica\nCristiano Della Monica percussioni\nErnesto Nobili chitarra elettrica \n  \n  \nAcquista il tuo biglietto www.azzurroservice.net \nInfo: https://www.festivalethnos.it
URL:https://backup.sistemamedcampania.it/evento/la-bazzarra-ethnos-maria-mazzotta/
LOCATION:Reggia di Portici\, Via Università 100\, Portici (Na)
CATEGORIES:Ethnos 2022,La Bazzarra,Musica
ATTACH;FMTTYPE=image/jpeg:https://backup.sistemamedcampania.it/wp-content/uploads/2022/09/mazzotta.jpg
END:VEVENT
BEGIN:VEVENT
DTSTART;TZID=Europe/Rome:20220918T203000
DTEND;TZID=Europe/Rome:20220918T203000
DTSTAMP:20260421T150027
CREATED:20220912T110836Z
LAST-MODIFIED:20220912T110836Z
UID:7566-1663533000-1663533000@backup.sistemamedcampania.it
SUMMARY:La Bazzarra. Ethnos - Carmen Souza
DESCRIPTION:Ethnos\, il festival organizzato da La Bazzarra avrà come ospite Carmen Souza\, una cantautrice jazz portoghese di origini capoverdiane che si distingue per uno stile originale\, un jazz fusion fra i canti tradizionali di Capo Verde con elementi tradizionali e contemporanei del jazz.\nI riferimenti musicali di Carmen nella sua adolescenza erano Luis Morais\, Ella Fitzgerald\, Joe Zawinul\, Herbie Hancock\, Keith Jarret\, Diana Krall. Poi il noto bassista Theo Pascal scoprì il suo talento e divenne il suo produttore e mentore\, introducendo Carmen al jazz\, alla fusion\, generi e sonorità contemporanee che hanno poi influenzato la sua crescita musicale.\nCon questo nuovo repertorio\, la Souza e Pascal sterzano verso l’universo musicale afro\, inteso in senso largo\, con tutte le mutazioni che ha assunto con la dispersione geografica del popolo africano. Si seguono quindi rotte transoceaniche\, dalle ex colonie portoghesi (Capo Verde\, Mozambico\, Angola) verso il Brasile e Cuba\, per risalire poi sino alle coste di New Orleans. Durante un simile viaggio\, ci si imbatte in ritmi assai caratteristici: batuque\, funana\, semba\, quilapanga. \nCarmen Souza voce chitarra piano \nTheo Pascal basso e contrabbasso\nElias Kakomanolis batteria e percussioni \n  \n  \nAcquista il tuo biglietto www.azzurroservice.net \nInfo: https://www.festivalethnos.it
URL:https://backup.sistemamedcampania.it/evento/la-bazzarra-ethnos-carmen-souza/
LOCATION:Villa Vannucchi\, Corso Roma\, 47\, Via Cavalli di Bronzo\, 13\, San Giorgio a Cremano (NA)\, 80046
CATEGORIES:Ethnos 2022,La Bazzarra,Musica
ATTACH;FMTTYPE=image/jpeg:https://backup.sistemamedcampania.it/wp-content/uploads/2022/09/souza.jpg
END:VEVENT
BEGIN:VEVENT
DTSTART;TZID=Europe/Rome:20220917T223000
DTEND;TZID=Europe/Rome:20220917T223000
DTSTAMP:20260421T150027
CREATED:20220912T110351Z
LAST-MODIFIED:20220912T110351Z
UID:7564-1663453800-1663453800@backup.sistemamedcampania.it
SUMMARY:La Bazzarra. Ethnos - Aguamadera
DESCRIPTION:Il festival Ethnos\, organizzato da La Bazzarra prosegue con Aguamadera.  \nIl duo si è formato nel 2015 quando Marco Grancelli e María Cabral si sono incontrati a Buenos Aires\, nel coro Cuerdo Vocales. Poco dopo\, si sono resi conto che entrambi condividevano la stessa passione per il folklore sudamericano e hanno iniziato ad esibirsi insieme sui palchi di Buenos Aires. \nIn questa occasione\, con il loro nuovo album Las historias que han dejado (le storie che si sono lasciati alle spalle)\, il duo presenta composizioni ispirate a più generi\, come la chacarera argentina\, la zamba o il huayno\, il joropo venezuelano\, il merengue\, la gaita zuliana e il peruviano valzer\, con l’incorporazione del basso e delle percussioni. \nMarco Grancelli voce\, chitarra\nMaría Cabral voce\, cuatro venezuelano\nVanesa Garcia percussioni \n  \n  \nAcquista il tuo biglietto www.azzurroservice.net \nInfo: https://www.festivalethnos.it
URL:https://backup.sistemamedcampania.it/evento/la-bazzarra-ethnos-aguamadera/
LOCATION:Villa Vannucchi\, Corso Roma\, 47\, Via Cavalli di Bronzo\, 13\, San Giorgio a Cremano (NA)\, 80046
CATEGORIES:Ethnos 2022,La Bazzarra,Musica
ATTACH;FMTTYPE=image/jpeg:https://backup.sistemamedcampania.it/wp-content/uploads/2022/09/aguamadera.jpg
END:VEVENT
BEGIN:VEVENT
DTSTART;TZID=Europe/Rome:20220917T190000
DTEND;TZID=Europe/Rome:20220917T190000
DTSTAMP:20260421T150027
CREATED:20220912T105715Z
LAST-MODIFIED:20220912T105715Z
UID:7561-1663441200-1663441200@backup.sistemamedcampania.it
SUMMARY:La Bazzarra. Ethnos - Wang Li
DESCRIPTION:Ospite di Ethnos\, il festival organizzato da La Bazzarra\, Wang Li: originario di Tsinghao (Cina)\, ha fatto dell’arpa Jaw il suo strumento preferito\, creando a poco a poco un sonoro spazio di ricerca e libertà. La sua musica copre l’intera gamma di sottigliezze vibratorie che un’arpa Jaw può rendere. Ti porta in un mondo interiore che riporta tutti agli echi della propria infanzia\, dal tumulto interiore e il vortice della vita al silenzio. Qui non ci sono altro che respiri e vibrazioni\, ricordi e visioni. Il suo mondo immaginario è colmo di una risonanza che è allo stesso tempo personale e universale. \n  \n  \nAcquista il tuo biglietto www.azzurroservice.net \nInfo: https://www.festivalethnos.it
URL:https://backup.sistemamedcampania.it/evento/la-bazzarra-ethnos-wang-li/
LOCATION:Villa Bruno\, Via Cavalli di Bronzo\, 22\, San Giorgio a Cremano (NA)
CATEGORIES:Ethnos 2022,La Bazzarra,Musica
ATTACH;FMTTYPE=image/jpeg:https://backup.sistemamedcampania.it/wp-content/uploads/2022/09/wang-li.jpg
END:VEVENT
BEGIN:VEVENT
DTSTART;TZID=Europe/Rome:20220916T080000
DTEND;TZID=Europe/Rome:20220916T170000
DTSTAMP:20260421T150027
CREATED:20220912T105153Z
LAST-MODIFIED:20220912T105153Z
UID:7554-1663315200-1663347600@backup.sistemamedcampania.it
SUMMARY:La Bazzarra. Ethnos - Cristina Donadio "Appassionata"
DESCRIPTION:Il festival Ethnos\, organizzato da La Bazzarra prosegue con un Reading teatrale Musicale con Cristina Donadio. \nLei\, donna\, madre\, figlia\, schiava\, terra\, acqua. Lei mediterranea.\nLei che eternamente sospesa ma in equilibrio\, naviga mari tra spartenze dolorose e approdi sconosciuti.\nLei che con lo sguardo riempie di parole il silenzio dell’indifferenza\, dell’avidità umana.\nLei che sa ritrovarsi e rinnovarsi ogni volta per ritornare ad essere terra\, granello di sabbia.\nLei che in un viaggio perenne è musica\, è canto\, è ribelle rivoluzionaria\, faro che illumina le lunghe notti dell’amore per la vita.\nIl concerto – spettacolo in forma di reading\, coprodotto dal Festival Adriatico Mediterraneo\, di Ancona\, dal Festival Ethnos di Napoli e da Formedonda di Palermo\,\nè un omaggio alla donna del Mediterraneo ai luoghi in cui la sua essenza è viva\, alla sua eterna bellezza e alla sua grazia resistente ed Appassionata.\nUn viaggio tra parole e musiche cha partendo dall’antica Grecia approda fino a Napoli; un racconto di forza\, resistenza\, desiderio e passione attraverso le parole di Sofocle\, Yourcenar\, Lorca\, Moscato\, De Simone\, Viviani\, Patroni Griffi\, Parrella.\nUn incontro tra una narrazione poetica \, cruda e le suggestioni che gli strumenti etnici dell’ensemble\, sanno restituire con elaborazioni ed evocazioni che navigano tra il\ned il contemporaneo. \n  \nInterpreti:\nCristina Donadio voce narrante\nMario Crispi fiati etnici\nGiovanni Seneca chitarra classica e chitarra battente\nFrancesco Savoretti percussioni \nAdattamento e regia Gigi Di Luca \n  \nAcquista il tuo biglietto www.azzurroservice.net \nInfo: https://www.festivalethnos.it
URL:https://backup.sistemamedcampania.it/evento/la-bazzarra-ethnos-cristina-donadio-appassionata/
LOCATION:Villa Favorita\, Via Gabriele D’Annunzio\, 36\, Ercolano (Na)
CATEGORIES:Ethnos 2022,La Bazzarra,Musica
ATTACH;FMTTYPE=image/jpeg:https://backup.sistemamedcampania.it/wp-content/uploads/2022/09/appassionata.jpg
END:VEVENT
BEGIN:VEVENT
DTSTART;TZID=Europe/Rome:20220911T180000
DTEND;TZID=Europe/Rome:20220911T180000
DTSTAMP:20260421T150027
CREATED:20220909T104807Z
LAST-MODIFIED:20220909T104807Z
UID:7545-1662919200-1662919200@backup.sistemamedcampania.it
SUMMARY:La Bazzarra. Ethnos - Alessandro D' Alessandro
DESCRIPTION:A chiudere il primo week end di Ethnos\, il festival organizzato da La Bazzarra sarà Alessandro D’Alessandro\, uno dei più talentuosi organettisti italiani\, accompagnato in questa occasione dalla cantante Margherita Abita. \n  \nAlessandro D’Alessandro organetto\, loops\, efx\nMargherita Abita voce \n  \nAcquista il tuo biglietto https://www.azzurroservice.net/ \nInfo: https://www.festivalethnos.it
URL:https://backup.sistemamedcampania.it/evento/la-bazzarra-ethnos-alessandro-d-alessandro/
LOCATION:Villa delle Ginestre\, Via Villa delle Ginestre\, 19\, Torre del Greco (NA)
CATEGORIES:Ethnos 2022,La Bazzarra,Musica
ATTACH;FMTTYPE=image/jpeg:https://backup.sistemamedcampania.it/wp-content/uploads/2022/09/dalessandro.jpg
END:VEVENT
BEGIN:VEVENT
DTSTART;TZID=Europe/Rome:20220910T203000
DTEND;TZID=Europe/Rome:20220910T203000
DTSTAMP:20260421T150027
CREATED:20220909T104438Z
LAST-MODIFIED:20220909T104438Z
UID:7542-1662841800-1662841800@backup.sistemamedcampania.it
SUMMARY:La Bazzarra. Ethnos - Ana Carla Maza
DESCRIPTION:Per l’ edizione 2022 del festival Ethnos\, organizzato da La Bazzarra la compositrice cubana Ana Carla Maza presenta un raffinato concerto per voce e violoncello. Un mélange di jazz\, musica classica\, bossa nova e sonorità latinoamericane.  Suoni cubani e brasiliani sono sotto i riflettori di Bahia\, dove ritmi come Tango\, Huayno e jazz si uniscono per disegnare un mondo di sensibilità e speranza. Un’avventuriera e una pioniera\, come lei stessa afferma: “mi piace il violoncello perchè posso suonarlo come un basso jazz degli anni 50 o come un arco di un concerto classico”. \nAna Carla Maza voce\, violencello \n  \nAcquista il tuo biglietto https://www.azzurroservice.net \nInfo: https://www.festivalethnos.it
URL:https://backup.sistemamedcampania.it/evento/la-bazzarra-ethnos-ana-carla-maza/
LOCATION:Villa del Parnaso\, Litoranea Marconi\, 12\, Torre Annunziata (NA)
CATEGORIES:Ethnos 2022,La Bazzarra,Musica
ATTACH;FMTTYPE=image/jpeg:https://backup.sistemamedcampania.it/wp-content/uploads/2022/09/maza.jpg
END:VEVENT
BEGIN:VEVENT
DTSTART;TZID=Europe/Rome:20220909T203000
DTEND;TZID=Europe/Rome:20220909T203000
DTSTAMP:20260421T150027
CREATED:20220909T103930Z
LAST-MODIFIED:20220909T103930Z
UID:7536-1662755400-1662755400@backup.sistemamedcampania.it
SUMMARY:La Bazzarra. Ethnos - San Salvador
DESCRIPTION:Ad inaugurare l’edizione 2022 del festival Ethnos\, organizzato da La Bazzarra sarà il sestetto francese San Salvador. Un gruppo che fonde polifonie occitane e ritmo\, canto e percussioni\, usando incastri vocali\, tamburi di diversa foggia e il battito delle mani.  \n  \nGabriel Durif voce\, tamburini\nEva Durif voce\nThibault Chaumeil voce e tamburo basso\nMarion Lherbeil voce e tamburo basso\nLaure Nonique Desvergnes voce\nSylvestre Nonique Desvergnes voce e tamburo \n  \nAcquista il tuo biglietto https://www.azzurroservice.net \nInfo: https://www.festivalethnos.it
URL:https://backup.sistemamedcampania.it/evento/la-bazzarra-ethnos-san-salvador/
LOCATION:Villa Vannucchi\, Corso Roma\, 47\, Via Cavalli di Bronzo\, 13\, San Giorgio a Cremano (NA)\, 80046
CATEGORIES:Ethnos 2022,La Bazzarra,Musica
ATTACH;FMTTYPE=image/jpeg:https://backup.sistemamedcampania.it/wp-content/uploads/2022/09/san-salvador.jpg
END:VEVENT
END:VCALENDAR