BEGIN:VCALENDAR
VERSION:2.0
PRODID:-//Sistema Med Campania - ECPv6.7.0//NONSGML v1.0//EN
CALSCALE:GREGORIAN
METHOD:PUBLISH
X-ORIGINAL-URL:https://backup.sistemamedcampania.it
X-WR-CALDESC:Eventi per Sistema Med Campania
REFRESH-INTERVAL;VALUE=DURATION:PT1H
X-Robots-Tag:noindex
X-PUBLISHED-TTL:PT1H
BEGIN:VTIMEZONE
TZID:Europe/Rome
BEGIN:DAYLIGHT
TZOFFSETFROM:+0100
TZOFFSETTO:+0200
TZNAME:CEST
DTSTART:20210328T010000
END:DAYLIGHT
BEGIN:STANDARD
TZOFFSETFROM:+0200
TZOFFSETTO:+0100
TZNAME:CET
DTSTART:20211031T010000
END:STANDARD
BEGIN:DAYLIGHT
TZOFFSETFROM:+0100
TZOFFSETTO:+0200
TZNAME:CEST
DTSTART:20220327T010000
END:DAYLIGHT
BEGIN:STANDARD
TZOFFSETFROM:+0200
TZOFFSETTO:+0100
TZNAME:CET
DTSTART:20221030T010000
END:STANDARD
END:VTIMEZONE
BEGIN:VEVENT
DTSTART;TZID=Europe/Rome:20220409T193000
DTEND;TZID=Europe/Rome:20220409T203000
DTSTAMP:20260420T082713
CREATED:20220324T105503Z
LAST-MODIFIED:20220324T105503Z
UID:7242-1649532600-1649536200@backup.sistemamedcampania.it
SUMMARY:Associazione La Dance - Showup
DESCRIPTION:L‘ Associazione La Dance porta in scena “Showup” un lavoro coreografico di Simone Liguori. \nA partire dalle testimonianze di seconda generazione di figli e nipoti dei sopravvissuti all’Olocausto\, il linguaggio della danza è il mezzo scelto attraverso il quale si vuole diffondere la memoria della Shoah. \nIl corpo è considerato il luogo che conserva il trauma e garantisce la testimonianza\, come custode dell’animo accompagna lo spettatore in un viaggio che sfiora il ricordo tramandando uno degli eventi più atroci nella storia dell’umanità.\nTrasmettere questa memoria significa non dimenticare\, affinché nella ciclicità della storia non si ricada in un tale assurdo.\n\n\nDirezione artistica: Maria Vittoria Maglione e Caterina Ceravolo\nRegia: Eirene Campagna\nCoreografia e progetto video: Simone Liguori\nInterpreti: Eirene Campagna\, Nicoletta Cavallo\, Aurora Convertini\, Anna Esposito\, Alessia Itri\, Melania Nicastro\, Maria Rita Mastromarino\, Miriana Velluto\, Simone Centanni\, Dario Ferrara\, Simone Liguori.\n  \n  \nPer info: TeatroZTN – 351 910 2405
URL:https://backup.sistemamedcampania.it/evento/associazione-la-dance-showup/
LOCATION:Teatro ZTN\, Vico Bagnara\, 3\, Napoli\, 80135\, Italia
CATEGORIES:Danza,La Dance
ATTACH;FMTTYPE=image/jpeg:https://backup.sistemamedcampania.it/wp-content/uploads/2022/03/showup.jpg
END:VEVENT
BEGIN:VEVENT
DTSTART;TZID=Europe/Rome:20220402T203000
DTEND;TZID=Europe/Rome:20220402T203000
DTSTAMP:20260420T082713
CREATED:20220324T110056Z
LAST-MODIFIED:20220324T110056Z
UID:7247-1648931400-1648931400@backup.sistemamedcampania.it
SUMMARY:Associazione La Dance - Legami
DESCRIPTION:Torna in scena “Legami” il lavoro coreografico di Alex Atzewi per l’ Associazione La Dance.  \n“Gli artisti attraverso il linguaggio del corpo sottolineano il concetto di legami che dal nulla collegano tutto\, quelle forze invisibili e inspiegabili\, perfettamente indifferenti alla distanza\, al tempo e alla logica. Un cordone ombelicale che nutre due o più persone\, oltrepassando il contatto fisico-visivo\, connessioni a volte talmente forti da sfociare in simbiosi quando queste perdurano nel tempo grazie alla capacità del saper aspettare e aspettarsi.” \nLegami è uno spettacolo di danza contemporanea dove viene posta attenzione sul concetto di legame e di relazione che unisce le persone.\nCon dei movimenti univoci e ripetitivi\, il coreografo evidenzia la forza dell’unione dei danzatori\, forza che accresce dal momento che ognuno di loro si esibisce in un assolo\, restando comunque legato all’intero gruppo.\nNel quadro successivo viene descritto il legame che unisce i ballerini alla terra\, elemento naturale che richiama l’essere primordiale. \n  \nDirezione Artistica: Maria Vittoria Maglione e Caterina Ceravolo\nRegia e Coreografia: Alex Atzewi\nAssistente: Alessandra Calore\nInterpreti: Eirene Campagna\, Nicoletta Cavallo\, Anna Esposito\, Alessia Itri\, Miriana Velluto\, Dario Ferrara\, Simone Liguori \n  \nPer info: Teatro-Sociale-Aldo-Giuffre –  338 191 4455
URL:https://backup.sistemamedcampania.it/evento/associazione-la-dance-legami/
LOCATION:Teatro Sociale Aldo Giuffrè\, Via Guicciardini\, 35\, Battipaglia (SA)\, 84091
CATEGORIES:Danza,La Dance
ATTACH;FMTTYPE=image/jpeg:https://backup.sistemamedcampania.it/wp-content/uploads/2022/03/legami.jpg
END:VEVENT
BEGIN:VEVENT
DTSTART;TZID=Europe/Rome:20211126T200000
DTEND;TZID=Europe/Rome:20211126T200000
DTSTAMP:20260420T082713
CREATED:20211122T163830Z
LAST-MODIFIED:20211122T163830Z
UID:6890-1637956800-1637956800@backup.sistemamedcampania.it
SUMMARY:Associazione Campania Danza. Incontri 2021-Showup
DESCRIPTION:Per la rassegna “Incontri” dell’ Associazione Campania Danza\, “Showup” un lavoro coreografico di Simone Liguori per l’ associazione La Dance.  \nA partire dalle testimonianze di seconda generazione di figli e nipoti dei sopravvissuti all’Olocausto\, il linguaggio della danza è il mezzo scelto attraverso il quale si vuole diffondere la memoria della Shoah.\nIl corpo è considerato il luogo che conserva il trauma e garantisce la testimonianza\, come custode dell’animo accompagna lo spettatore in un viaggio che sfiora il ricordo tramandando uno degli eventi più atroci nella storia dell’umanità.\nTrasmettere questa memoria significa non dimenticare\, affinché nella ciclicità della storia non si ricada in un tale assurdo.\n\nDirezione artistica Maria Vittoria Maglione e Caterina Ceravolo    \nRegia Eirene Campagna\nCoreografia e progetto video Simone Liguori\n  \nPer info e prenotazioni: \nwww.postoriservato.it – campaniadanza@tiscali.it  – 3289079642
URL:https://backup.sistemamedcampania.it/evento/associazione-campania-danza-incontri-2021-showup/
LOCATION:Teatro Leo De Berardinis\, via Badolato\, Vallo Della Lucania (SA)
CATEGORIES:Associazione Campania Danza,Danza,Incontri 2021,La Dance
ATTACH;FMTTYPE=image/jpeg:https://backup.sistemamedcampania.it/wp-content/uploads/2021/11/showup.jpg
END:VEVENT
END:VCALENDAR