BEGIN:VCALENDAR
VERSION:2.0
PRODID:-//Sistema Med Campania - ECPv6.7.0//NONSGML v1.0//EN
CALSCALE:GREGORIAN
METHOD:PUBLISH
X-ORIGINAL-URL:https://backup.sistemamedcampania.it
X-WR-CALDESC:Eventi per Sistema Med Campania
REFRESH-INTERVAL;VALUE=DURATION:PT1H
X-Robots-Tag:noindex
X-PUBLISHED-TTL:PT1H
BEGIN:VTIMEZONE
TZID:Europe/Rome
BEGIN:DAYLIGHT
TZOFFSETFROM:+0100
TZOFFSETTO:+0200
TZNAME:CEST
DTSTART:20200329T010000
END:DAYLIGHT
BEGIN:STANDARD
TZOFFSETFROM:+0200
TZOFFSETTO:+0100
TZNAME:CET
DTSTART:20201025T010000
END:STANDARD
BEGIN:DAYLIGHT
TZOFFSETFROM:+0100
TZOFFSETTO:+0200
TZNAME:CEST
DTSTART:20210328T010000
END:DAYLIGHT
BEGIN:STANDARD
TZOFFSETFROM:+0200
TZOFFSETTO:+0100
TZNAME:CET
DTSTART:20211031T010000
END:STANDARD
BEGIN:DAYLIGHT
TZOFFSETFROM:+0100
TZOFFSETTO:+0200
TZNAME:CEST
DTSTART:20220327T010000
END:DAYLIGHT
BEGIN:STANDARD
TZOFFSETFROM:+0200
TZOFFSETTO:+0100
TZNAME:CET
DTSTART:20221030T010000
END:STANDARD
BEGIN:DAYLIGHT
TZOFFSETFROM:+0100
TZOFFSETTO:+0200
TZNAME:CEST
DTSTART:20230326T010000
END:DAYLIGHT
BEGIN:STANDARD
TZOFFSETFROM:+0200
TZOFFSETTO:+0100
TZNAME:CET
DTSTART:20231029T010000
END:STANDARD
END:VTIMEZONE
BEGIN:VEVENT
DTSTART;TZID=Europe/Rome:20230525T201500
DTEND;TZID=Europe/Rome:20230525T201500
DTSTAMP:20260420T022412
CREATED:20230509T150245Z
LAST-MODIFIED:20230509T150245Z
UID:8102-1685045700-1685045700@backup.sistemamedcampania.it
SUMMARY:Associazione Musicale Maggio della Musica - Fred Hersch\, piano solo
DESCRIPTION:Definito “una leggenda vivente” dal New Yorker e “il pianista più innovativo nel jazz dell’ultimo decennio” da Vanity Fair\, Fred Hersch occupa un posto d’onore fra i grandi nomi del jazz mondiale contemporaneo. Ha quindici nomination ai Grammy\, la rivista francese Jazz Magazine lo ha nominato “Artista dell’anno”\, mentre ’21\, il suo cd in duo con Rava è stato eletto miglior disco jazz del 2022. Finalmente debutta a Napoli in piano solo. \nINFO: 081 556 13 69 – maggiodellamusica@libero.it \n  \n 
URL:https://backup.sistemamedcampania.it/evento/associazione-musicale-maggio-della-musica-fred-hersch-piano-solo/
LOCATION:Villa Pignatelli\, Riviera di Chiaia\, 200\, Napoli\, 80121\, Italia
CATEGORIES:Maggio della Musica,Musica
ATTACH;FMTTYPE=image/png:https://backup.sistemamedcampania.it/wp-content/uploads/2023/05/associazione-musicale-maggio-della-musica-fred-hersch.png
END:VEVENT
BEGIN:VEVENT
DTSTART;TZID=Europe/Rome:20230517T201500
DTEND;TZID=Europe/Rome:20230517T201500
DTSTAMP:20260420T022412
CREATED:20230508T190911Z
LAST-MODIFIED:20230509T142457Z
UID:8095-1684354500-1684354500@backup.sistemamedcampania.it
SUMMARY:Associazione Musicale Maggio della Musica - Ettore Pagano
DESCRIPTION:Giovane talento che a soli diciannove anni ha vinto il prestigioso concorso “Khachaturian” di Yerevan. Ettore Pagano\, con il suo violoncello\, si è distinto per la padronanza tecnica da un lato e le strepitose doti interpretative dall’altro. Tra più di quaranta premi ottenuti in Italia e all’estero\, già proiettato in una luminosa luce internazionale\, arriva con il suo debutto a Napoli. \nProgrammaJohann Sebastian Bach Suite in Do minore n. 5 per violoncello solo BWV 1011Zoltan Kodaly Sonata per violoncello solo in Si minore op. 8 György Ligeti Sonata per violoncello solo \nINFO:  081 556 13 69 – maggiodellamusica@libero.it
URL:https://backup.sistemamedcampania.it/evento/associazione-musicale-maggio-della-musica-ettore-pagano/
LOCATION:Villa Pignatelli\, Riviera di Chiaia\, 200\, Napoli\, 80121\, Italia
CATEGORIES:Maggio della Musica,Musica
ATTACH;FMTTYPE=image/png:https://backup.sistemamedcampania.it/wp-content/uploads/2023/05/associazione-musicale-maggio-della-musica-ettore-pagano.png
END:VEVENT
BEGIN:VEVENT
DTSTART;TZID=Europe/Rome:20230505T201500
DTEND;TZID=Europe/Rome:20230505T201500
DTSTAMP:20260420T022412
CREATED:20230425T204251Z
LAST-MODIFIED:20230430T190359Z
UID:8058-1683317700-1683317700@backup.sistemamedcampania.it
SUMMARY:Associazione Musicale Maggio della Musica - Between the clouds
DESCRIPTION:Una serata all’insegna del virtuosismo più seducente per salutare il debutto a Napoli di Charlie Siem\, classe 1986\, già solista al fianco di realtà quali Camerata Salzburg\, Israel Philharmonic\, London Symphony\, oltre che testimonial di grandi case di moda. Accanto a lui Marco Scolastra mette in scena una consolidata esperienza internazionale come solista e camerista. \n\nviolino Charlie Siem \npianoforte Marco Scolastra\n \nmusiche di Paganini\, Grieg\, Wieniawski\, Sarasate \n\nINFO 081 556 13 69 – maggiodellamusica@libero.it – www.maggiodellamusica.it
URL:https://backup.sistemamedcampania.it/evento/associazione-musicale-maggio-della-musica-between-the-clouds/
LOCATION:Villa Pignatelli\, Riviera di Chiaia\, 200\, Napoli\, 80121\, Italia
CATEGORIES:Maggio della Musica,Musica
ATTACH;FMTTYPE=image/png:https://backup.sistemamedcampania.it/wp-content/uploads/2023/04/maggio-della-musica-between-the-clouds-charlie-siem-marco-scolastra.png
END:VEVENT
BEGIN:VEVENT
DTSTART;TZID=Europe/Rome:20230426T201500
DTEND;TZID=Europe/Rome:20230426T201500
DTSTAMP:20260420T022412
CREATED:20230419T220528Z
LAST-MODIFIED:20230419T220528Z
UID:8034-1682540100-1682540100@backup.sistemamedcampania.it
SUMMARY:Associazione Musicale Maggio della Musica - La Musica Miracolosa
DESCRIPTION:Dei quattrocentocinquantamila ebrei rinchiusi nel ghetto di Varsavia\, dopo l’invasione del 1939\, ne rimasero in vita soltanto ventimila. Tra i sopravvissuti\, un pianista compositore: si chiama Wladyslaw Szpilman\, detto Wladek. Lo spettacolo La Musica Miracolosa vuole raccontare\, attraverso il pianoforte di Francesco Nicolosi e la voce narrante di Stefano Valanzuolo\, la storia possibile di un uomo sopravvissuto all’orrore grazie al suo grande amore per la musica. \nPianoforte Francesco Nicolosi \nTesto e voce narrante Stefano Valanzuolo \nMusiche di Chopin\, Liszt – Wagner\, Debussy\, Rachmaninov\, Szpilman \nINFO:  081 556 13 69 – maggiodellamusica@libero.it
URL:https://backup.sistemamedcampania.it/evento/associazione-musicale-maggio-della-musica-la-musica-miracolosa/
LOCATION:Villa Pignatelli\, Riviera di Chiaia\, 200\, Napoli\, 80121\, Italia
CATEGORIES:Maggio della Musica,Musica
ATTACH;FMTTYPE=image/png:https://backup.sistemamedcampania.it/wp-content/uploads/2023/04/maggio-della-musica-la-musica-miracolosa.png
END:VEVENT
BEGIN:VEVENT
DTSTART;TZID=Europe/Rome:20230418T204500
DTEND;TZID=Europe/Rome:20230418T204500
DTSTAMP:20260420T022412
CREATED:20230327T111352Z
LAST-MODIFIED:20230327T111352Z
UID:7959-1681850700-1681850700@backup.sistemamedcampania.it
SUMMARY:Maggio della Musica - Think Again\, Paolo Fresu e Uri Caine
DESCRIPTION:Dopo il successo dei dischi registrati insieme\, Paolo Fresu incontra nuovamente il grande pianista americano Uri Caine\, in un progetto live presentato in anteprima a Napoli. Si può dire che la collaborazione tra i due musicisti sia una delle cose più interessanti capitate al mondo del jazz degli ultimi anni: la tromba lirica e sognante di Fresu\, col suo timbro malinconico e unico\, si sposa con il pianismo di Caine fatto di citazioni\, dal blues e dal jezz più mainstream all’avanguardia fino alla musica classica. Non è di certo semplice scegliere di suonare brani che rappresentano il segno della storia jazzistica\, ma il duo raccoglie la sfida con straordinaria semplicità.\n \nPAOLO FRESU tromba \nURI CAINE pianoforte \nINFO: 081 556 13 69 – maggiodellamusica@libero.it
URL:https://backup.sistemamedcampania.it/evento/maggio-della-musica-think-again-paolo-fresu-e-uri-caine/
CATEGORIES:Maggio della Musica,Musica
ATTACH;FMTTYPE=image/png:https://backup.sistemamedcampania.it/wp-content/uploads/2023/03/maggio-della-musica-think-again.png
END:VEVENT
BEGIN:VEVENT
DTSTART;TZID=Europe/Rome:20221013T193000
DTEND;TZID=Europe/Rome:20221013T193000
DTSTAMP:20260420T022412
CREATED:20220929T145328Z
LAST-MODIFIED:20220929T145328Z
UID:7623-1665689400-1665689400@backup.sistemamedcampania.it
SUMMARY:Maggio della musica  - The blues man
DESCRIPTION:Il prossimo appuntamento con il Jazz del Maggio della Musica è con Fabrizio Poggi all’ armonica e Enrico Polverari alla chitarra \n  \n  \nInfo 3929161691 – 3929160934 \nwww.maggiodellamusica.it \nrivendite abituali sede del concerto dalle ore 19 \n–  Concerteria Via Schipa 15 Na tel. 081/7611221 \n–  Il Botteghino Via Pitloo\, 1A tel. 081/ 5568054 \n–  Promos Via Massimo Stanzione\, 49 – tel. 081 55647 26 \n– Mc Revolution Via Giulio Palermo\, 124 – tel. 081 5466196. \n  \n  \n 
URL:https://backup.sistemamedcampania.it/evento/maggio-della-musica-the-blues-man/
LOCATION:Chiesa Anglicana di Napoli\, Via San Pasquale a Chiaia\, 15B\, Napoli\, 80121
CATEGORIES:Maggio della Musica,Musica
ATTACH;FMTTYPE=image/jpeg:https://backup.sistemamedcampania.it/wp-content/uploads/2022/09/poggi.jpg
END:VEVENT
BEGIN:VEVENT
DTSTART;TZID=Europe/Rome:20221006T193000
DTEND;TZID=Europe/Rome:20221006T193000
DTSTAMP:20260420T022412
CREATED:20220929T144918Z
LAST-MODIFIED:20220929T144918Z
UID:7618-1665084600-1665084600@backup.sistemamedcampania.it
SUMMARY:Maggio della musica  - The american songbooks
DESCRIPTION:Il prossimo appuntamento con il Jazz del Maggio della Musica è con Elio Coppola feat Gerald Cannon al contrabbasso \n  \nInfo 3929161691 – 3929160934 \nwww.maggiodellamusica.it \nrivendite abituali sede del concerto dalle ore 19 \n–  Concerteria Via Schipa 15 Na tel. 081/7611221 \n–  Il Botteghino Via Pitloo\, 1A tel. 081/ 5568054 \n–  Promos Via Massimo Stanzione\, 49 – tel. 081 55647 26 \n– Mc Revolution Via Giulio Palermo\, 124 – tel. 081 5466196.
URL:https://backup.sistemamedcampania.it/evento/maggio-della-musica-the-american-songbooks/
LOCATION:Chiesa Anglicana di Napoli\, Via San Pasquale a Chiaia\, 15B\, Napoli\, 80121
CATEGORIES:Maggio della Musica,Musica
ATTACH;FMTTYPE=image/jpeg:https://backup.sistemamedcampania.it/wp-content/uploads/2022/09/coppola-copia.jpg
END:VEVENT
BEGIN:VEVENT
DTSTART;TZID=Europe/Rome:20220929T193000
DTEND;TZID=Europe/Rome:20220929T193000
DTSTAMP:20260420T022412
CREATED:20220929T144410Z
LAST-MODIFIED:20220929T144410Z
UID:7615-1664479800-1664479800@backup.sistemamedcampania.it
SUMMARY:Maggio della musica  - Totò\, Peppino e la dolce vita
DESCRIPTION:Il primo appuntamento con il Jazz del Maggio della Musica è con Daniele Sepe in  “Totò\, Peppino e la dolce vita” \n  \nInfo 3929161691 – 3929160934 \nwww.maggiodellamusica.it \nrivendite abituali sede del concerto dalle ore 19 \n–  Concerteria Via Schipa 15 Na tel. 081/7611221  \n–  Il Botteghino Via Pitloo\, 1A tel. 081/ 5568054  \n–  Promos Via Massimo Stanzione\, 49 – tel. 081 55647 26 \n – Mc Revolution Via Giulio Palermo\, 124 – tel. 081 5466196.  \n 
URL:https://backup.sistemamedcampania.it/evento/maggio-della-musica-toto-peppino-e-la-dolce-vita/
LOCATION:Chiesa Anglicana di Napoli\, Via San Pasquale a Chiaia\, 15B\, Napoli\, 80121
CATEGORIES:Maggio della Musica,Musica
ATTACH;FMTTYPE=image/jpeg:https://backup.sistemamedcampania.it/wp-content/uploads/2022/09/sepe.jpg
END:VEVENT
BEGIN:VEVENT
DTSTART;TZID=Europe/Rome:20211014T193000
DTEND;TZID=Europe/Rome:20211014T193000
DTSTAMP:20260420T022412
CREATED:20210913T114506Z
LAST-MODIFIED:20210913T114506Z
UID:6612-1634239800-1634239800@backup.sistemamedcampania.it
SUMMARY:Associazione Maggio della Musica-Solo Piano. Massimiliano Ferrati
DESCRIPTION:Chiude la rassegna  “Solo Piano” al Teatro Diana a cura dell’ Associazione Il Maggio della Musica\, Massimiliano Ferrati impegnato in un programma dedicato a Mozart \n  \nBiglietti acquistabili presso il botteghino del Teatro Diana o su https://www.azzurroservice.net
URL:https://backup.sistemamedcampania.it/evento/associazione-maggio-della-musica-solo-piano-massimiliano-ferrati/
LOCATION:Teatro Diana\, Via Luca Giordano 64\, Napoli\, Italia
CATEGORIES:Maggio della Musica,Musica,Solo Piano
ATTACH;FMTTYPE=image/jpeg:https://backup.sistemamedcampania.it/wp-content/uploads/2021/09/ferrati.jpg
END:VEVENT
BEGIN:VEVENT
DTSTART;TZID=Europe/Rome:20211010T180000
DTEND;TZID=Europe/Rome:20211010T180000
DTSTAMP:20260420T022412
CREATED:20210913T112549Z
LAST-MODIFIED:20210913T114602Z
UID:6599-1633888800-1633888800@backup.sistemamedcampania.it
SUMMARY:Associazione Maggio della Musica-Contest - Muraad Layousse
DESCRIPTION:Per il Contest  “Il Maggio del Pianoforte”  Muraad Layousse si esibirà in un programma dedicato a Bach\, Shumann\, Beethoven\, Bartok. \n  \nBiglietti acquistabili presso il botteghino del Teatro Diana o su https://www.azzurroservice.net
URL:https://backup.sistemamedcampania.it/evento/associazione-maggio-della-musica-contest-muraad-layousse/
LOCATION:Teatro Diana\, Via Luca Giordano 64\, Napoli\, Italia
CATEGORIES:Maggio della Musica,Musica,Solo Piano
ATTACH;FMTTYPE=image/jpeg:https://backup.sistemamedcampania.it/wp-content/uploads/2021/09/layousse.jpg
END:VEVENT
BEGIN:VEVENT
DTSTART;TZID=Europe/Rome:20211007T193000
DTEND;TZID=Europe/Rome:20211007T193000
DTSTAMP:20260420T022412
CREATED:20210913T114223Z
LAST-MODIFIED:20210913T114518Z
UID:6609-1633635000-1633635000@backup.sistemamedcampania.it
SUMMARY:Associazione Maggio della Musica-Solo Piano. Mariangela Vacatello
DESCRIPTION:Per “Solo Piano” al Teatro Diana a cura dell’ Associazione Il Maggio della Musica\, Mariangela Vacatello presenta un recital dedicato interamente a Chopin. \n  \nBiglietti acquistabili presso il botteghino del Teatro Diana o su https://www.azzurroservice.net
URL:https://backup.sistemamedcampania.it/evento/associazione-maggio-della-musica-solo-piano-mariangela-vacatello/
LOCATION:Teatro Diana\, Via Luca Giordano 64\, Napoli\, Italia
CATEGORIES:Maggio della Musica,Musica,Solo Piano
ATTACH;FMTTYPE=image/jpeg:https://backup.sistemamedcampania.it/wp-content/uploads/2021/09/vacatello.jpg
END:VEVENT
BEGIN:VEVENT
DTSTART;TZID=Europe/Rome:20211003T180000
DTEND;TZID=Europe/Rome:20211003T180000
DTSTAMP:20260420T022412
CREATED:20210913T112319Z
LAST-MODIFIED:20210913T112319Z
UID:6596-1633284000-1633284000@backup.sistemamedcampania.it
SUMMARY:Associazione Maggio della Musica-Contest -Dario Zanconi
DESCRIPTION:Per il Contest  “Il Maggio del Pianoforte”  Dario Zanconi si esibirà in un programma dedicato a Albéniz\, Ravel\, Stravinsky. \n  \nBiglietti acquistabili presso il botteghino del Teatro Diana o su https://www.azzurroservice.net
URL:https://backup.sistemamedcampania.it/evento/associazione-maggio-della-musica-contest-dario-zanconi/
LOCATION:Teatro Diana\, Via Luca Giordano 64\, Napoli\, Italia
CATEGORIES:Maggio della Musica,Musica,Solo Piano
ATTACH;FMTTYPE=image/jpeg:https://backup.sistemamedcampania.it/wp-content/uploads/2021/09/zanconi.jpg
END:VEVENT
BEGIN:VEVENT
DTSTART;TZID=Europe/Rome:20210929T193000
DTEND;TZID=Europe/Rome:20210929T193000
DTSTAMP:20260420T022412
CREATED:20210913T114011Z
LAST-MODIFIED:20210913T114636Z
UID:6605-1632943800-1632943800@backup.sistemamedcampania.it
SUMMARY:Associazione Maggio della Musica-Solo Piano. Leonardo Colafelice
DESCRIPTION:Secondo appuntamento con la stagione pianistica “Solo Piano” al Teatro Diana a cura dell’ Associazione Il Maggio della Musica. Leonardo Colafelice presenta un programma dedicato a Prokofiev\, Rachmaninov\, Stravinsky \nBiglietti acquistabili presso il botteghino del Teatro Diana o su https://www.azzurroservice.net
URL:https://backup.sistemamedcampania.it/evento/associazione-maggio-della-musica-solo-piano-leonardo-colafelice/
LOCATION:Teatro Diana\, Via Luca Giordano 64\, Napoli\, Italia
CATEGORIES:Maggio della Musica,Musica,Solo Piano
ATTACH;FMTTYPE=image/jpeg:https://backup.sistemamedcampania.it/wp-content/uploads/2021/09/colafelice.jpg
END:VEVENT
BEGIN:VEVENT
DTSTART;TZID=Europe/Rome:20210926T180000
DTEND;TZID=Europe/Rome:20210926T180000
DTSTAMP:20260420T022412
CREATED:20210913T111916Z
LAST-MODIFIED:20210913T111916Z
UID:6593-1632679200-1632679200@backup.sistemamedcampania.it
SUMMARY:Associazione Maggio della Musica-Contest - Giulia Toniolo
DESCRIPTION:Per il Contest  “Il Maggio del Pianoforte”  Giulia Toniolo si esibirà in un programma dedicato a Wiek Shumann\, Mendelssohn\, Fanni Canneles\, Chopin\, Liebermann \n  \nBiglietti acquistabili presso il botteghino del Teatro Diana o su https://www.azzurroservice.net
URL:https://backup.sistemamedcampania.it/evento/associazione-maggio-della-musica-contest-giulia-toniolo/
LOCATION:Teatro Diana\, Via Luca Giordano 64\, Napoli\, Italia
CATEGORIES:Maggio della Musica,Musica,Solo Piano
ATTACH;FMTTYPE=image/jpeg:https://backup.sistemamedcampania.it/wp-content/uploads/2021/09/toniolo.jpg
END:VEVENT
BEGIN:VEVENT
DTSTART;TZID=Europe/Rome:20210923T193000
DTEND;TZID=Europe/Rome:20210923T193000
DTSTAMP:20260420T022412
CREATED:20210913T113727Z
LAST-MODIFIED:20210913T113815Z
UID:6602-1632425400-1632425400@backup.sistemamedcampania.it
SUMMARY:Associazione Maggio della Musica-Solo Piano.Caterina Barontini
DESCRIPTION:Riparte la stagione pianistica “Solo Piano” al Teatro Diana a cura dell’ Associazione Il Maggio della Musica. Primo appuntamento con Caterina Barontini impegnata in un recital tra le opere di Mendelsshon e Grieg \n  \nBiglietti acquistabili presso il botteghino del Teatro Diana o su https://www.azzurroservice.net
URL:https://backup.sistemamedcampania.it/evento/associazione-maggio-della-musica-solo-piano-caterina-barontini/
LOCATION:Teatro Diana\, Via Luca Giordano 64\, Napoli\, Italia
CATEGORIES:Maggio della Musica,Musica,Solo Piano
ATTACH;FMTTYPE=image/jpeg:https://backup.sistemamedcampania.it/wp-content/uploads/2021/09/barontini.jpg
END:VEVENT
BEGIN:VEVENT
DTSTART;TZID=Europe/Rome:20210919T180000
DTEND;TZID=Europe/Rome:20210919T180000
DTSTAMP:20260420T022412
CREATED:20210913T111549Z
LAST-MODIFIED:20210913T111549Z
UID:6590-1632074400-1632074400@backup.sistemamedcampania.it
SUMMARY:Associazione Maggio della Musica-Contest - Lamuel D' Anzi
DESCRIPTION:Per il Contest  “Il Maggio del Pianoforte”  Lamuel D’ Anzi si esibirà in un programma dedicato a Listz\, Scarlatti\, Mendelssohn\, Ginastera \n  \nBiglietti acquistabili presso il botteghino del Teatro Diana o su https://www.azzurroservice.net
URL:https://backup.sistemamedcampania.it/evento/associazione-maggio-della-musica-contest-lamuel-d-anzi/
LOCATION:Teatro Diana\, Via Luca Giordano 64\, Napoli\, Italia
CATEGORIES:Maggio della Musica,Musica,Solo Piano
ATTACH;FMTTYPE=image/jpeg:https://backup.sistemamedcampania.it/wp-content/uploads/2021/09/danzi.jpg
END:VEVENT
BEGIN:VEVENT
DTSTART;TZID=Europe/Rome:20201025T180000
DTEND;TZID=Europe/Rome:20201025T190000
DTSTAMP:20260420T022412
CREATED:20201022T125910Z
LAST-MODIFIED:20201023T144135Z
UID:6131-1603648800-1603652400@backup.sistemamedcampania.it
SUMMARY:Maggio della Musica.Pianosolo-Michele Campanella & Monica Leone
DESCRIPTION:La rassegna Pianosolo\, dell’ associazione Maggio della Musica\, al Teatro Diana prosegue con due eccezionali protagonisti della scena pianistica nazionale e internazionale\, Michele Campanella (direttore artistico del Maggio della Musica) e Monica Leone\, impegnati in un percorso per pianoforte a quattro mani tra le composizioni di Debussy\, Faurè e Rachmaninov. \n  \nI concerti si svolgeranno nel rispetto della normativa vigente in materia di contenimento del contagio da Covid-19. \nACQUISTA IL TUO BIGLIETTO ONLINE: www.azzurroservice.net \nINFO:https://www.teatrodiana.it
URL:https://backup.sistemamedcampania.it/evento/maggio-della-musica-pianosolo-michele-campanella-monica-leone/
LOCATION:Teatro Diana\, Via Luca Giordano 64\, Napoli\, Italia
CATEGORIES:Maggio della Musica,Musica,Pianosolo
ATTACH;FMTTYPE=image/jpeg:https://backup.sistemamedcampania.it/wp-content/uploads/2020/10/campanella-leone.jpg
END:VEVENT
BEGIN:VEVENT
DTSTART;TZID=Europe/Rome:20201022T190000
DTEND;TZID=Europe/Rome:20201022T190000
DTSTAMP:20260420T022412
CREATED:20201019T152840Z
LAST-MODIFIED:20201019T152840Z
UID:6111-1603393200-1603393200@backup.sistemamedcampania.it
SUMMARY:Maggio della Musica.Pianosolo-Carmen Sottile
DESCRIPTION:Per la rassegna Pianosolo\, dell’ associazione Maggio della Musica\, sul palco del Teatro Diana  un talento del pianoforte: Carmen Sottile\, diciassette anni\, numerosi premi conquistati e concerti tenuti in Europa e Stati Uniti\, medaglia del presidente della Camera fra i migliori allievi dei conservatori italiani\, vincitrice nel 2019 del contest “Il Maggio del pianoforte” a cura del Maggio della Musica. Per lei\, un programma da virtuosa con pagine di  Liszt e Chopin: Polonaise in Sol diesis minore\, Notturno op. 27 n. 2\, Studio op. 25 n. 11 e Ballata op. 23 n. 1 del polacco\, e Studio dal Concerto n.3 “Un sospiro”\, Parafrasi dal “Rigoletto” di Verdi\, Romanza S 169 e Studio da Paganini “La Campanella” dell’ungherese. \n  \nI concerti si svolgeranno nel rispetto della normativa vigente in materia di contenimento del contagio da Covid-19. \nACQUISTA IL TUO BIGLIETTO ONLINE: www.azzurroservice.net \nINFO:https://www.teatrodiana.it
URL:https://backup.sistemamedcampania.it/evento/maggio-della-musica-pianosolo-carmen-sottile/
LOCATION:Teatro Diana\, Via Luca Giordano 64\, Napoli\, Italia
CATEGORIES:Maggio della Musica,Musica,Pianosolo
ATTACH;FMTTYPE=image/jpeg:https://backup.sistemamedcampania.it/wp-content/uploads/2020/10/carmen-sottile.jpg
END:VEVENT
BEGIN:VEVENT
DTSTART;TZID=Europe/Rome:20201015T190000
DTEND;TZID=Europe/Rome:20201015T190000
DTSTAMP:20260420T022412
CREATED:20201013T131309Z
LAST-MODIFIED:20201013T131309Z
UID:6098-1602788400-1602788400@backup.sistemamedcampania.it
SUMMARY:Maggio della Musica.Pianosolo-Paolo Restani
DESCRIPTION:Al Teatro Diana al via Pinaosolo\, la rassegna dell’ associazione Maggio della Musica.  \nProtagonista della serata Paolo Restani: una carriera trentennale con successi nei maggiori teatri del mondo. Restani eseguirà un programma da virtuoso con alcuni “Preludi” di Sergej Rachmaninov\, pagine di Fryderyk Chopin e trascrizioni di Franz Liszt da Giuseppe Verdi e da Richard Wagner.  \n  \nI concerti si svolgeranno nel rispetto della normativa vigente in materia di contenimento del contagio da Covid-19. \n\nACQUISTA IL TUO BIGLIETTO ONLINE: https://www.azzurroservice.net \nINFO:https://www.teatrodiana.it
URL:https://backup.sistemamedcampania.it/evento/maggio-della-musica-pianosolo-paolo-restani/
LOCATION:Teatro Diana\, Via Luca Giordano 64\, Napoli\, Italia
CATEGORIES:Maggio della Musica,Musica,Pianosolo
ATTACH;FMTTYPE=image/jpeg:https://backup.sistemamedcampania.it/wp-content/uploads/2020/10/restani.jpg
END:VEVENT
END:VCALENDAR