BEGIN:VCALENDAR
VERSION:2.0
PRODID:-//Sistema Med Campania - ECPv6.7.0//NONSGML v1.0//EN
CALSCALE:GREGORIAN
METHOD:PUBLISH
X-WR-CALNAME:Sistema Med Campania
X-ORIGINAL-URL:https://backup.sistemamedcampania.it
X-WR-CALDESC:Eventi per Sistema Med Campania
REFRESH-INTERVAL;VALUE=DURATION:PT1H
X-Robots-Tag:noindex
X-PUBLISHED-TTL:PT1H
BEGIN:VTIMEZONE
TZID:Europe/Rome
BEGIN:DAYLIGHT
TZOFFSETFROM:+0100
TZOFFSETTO:+0200
TZNAME:CEST
DTSTART:20200329T010000
END:DAYLIGHT
BEGIN:STANDARD
TZOFFSETFROM:+0200
TZOFFSETTO:+0100
TZNAME:CET
DTSTART:20201025T010000
END:STANDARD
END:VTIMEZONE
BEGIN:VEVENT
DTSTART;TZID=Europe/Rome:20201025T180000
DTEND;TZID=Europe/Rome:20201025T190000
DTSTAMP:20260419T223014
CREATED:20201022T125910Z
LAST-MODIFIED:20201023T144135Z
UID:6131-1603648800-1603652400@backup.sistemamedcampania.it
SUMMARY:Maggio della Musica.Pianosolo-Michele Campanella & Monica Leone
DESCRIPTION:La rassegna Pianosolo\, dell’ associazione Maggio della Musica\, al Teatro Diana prosegue con due eccezionali protagonisti della scena pianistica nazionale e internazionale\, Michele Campanella (direttore artistico del Maggio della Musica) e Monica Leone\, impegnati in un percorso per pianoforte a quattro mani tra le composizioni di Debussy\, Faurè e Rachmaninov. \n  \nI concerti si svolgeranno nel rispetto della normativa vigente in materia di contenimento del contagio da Covid-19. \nACQUISTA IL TUO BIGLIETTO ONLINE: www.azzurroservice.net \nINFO:https://www.teatrodiana.it
URL:https://backup.sistemamedcampania.it/evento/maggio-della-musica-pianosolo-michele-campanella-monica-leone/
LOCATION:Teatro Diana\, Via Luca Giordano 64\, Napoli\, Italia
CATEGORIES:Maggio della Musica,Musica,Pianosolo
ATTACH;FMTTYPE=image/jpeg:https://backup.sistemamedcampania.it/wp-content/uploads/2020/10/campanella-leone.jpg
END:VEVENT
BEGIN:VEVENT
DTSTART;TZID=Europe/Rome:20201022T190000
DTEND;TZID=Europe/Rome:20201022T190000
DTSTAMP:20260419T223014
CREATED:20201019T152840Z
LAST-MODIFIED:20201019T152840Z
UID:6111-1603393200-1603393200@backup.sistemamedcampania.it
SUMMARY:Maggio della Musica.Pianosolo-Carmen Sottile
DESCRIPTION:Per la rassegna Pianosolo\, dell’ associazione Maggio della Musica\, sul palco del Teatro Diana  un talento del pianoforte: Carmen Sottile\, diciassette anni\, numerosi premi conquistati e concerti tenuti in Europa e Stati Uniti\, medaglia del presidente della Camera fra i migliori allievi dei conservatori italiani\, vincitrice nel 2019 del contest “Il Maggio del pianoforte” a cura del Maggio della Musica. Per lei\, un programma da virtuosa con pagine di  Liszt e Chopin: Polonaise in Sol diesis minore\, Notturno op. 27 n. 2\, Studio op. 25 n. 11 e Ballata op. 23 n. 1 del polacco\, e Studio dal Concerto n.3 “Un sospiro”\, Parafrasi dal “Rigoletto” di Verdi\, Romanza S 169 e Studio da Paganini “La Campanella” dell’ungherese. \n  \nI concerti si svolgeranno nel rispetto della normativa vigente in materia di contenimento del contagio da Covid-19. \nACQUISTA IL TUO BIGLIETTO ONLINE: www.azzurroservice.net \nINFO:https://www.teatrodiana.it
URL:https://backup.sistemamedcampania.it/evento/maggio-della-musica-pianosolo-carmen-sottile/
LOCATION:Teatro Diana\, Via Luca Giordano 64\, Napoli\, Italia
CATEGORIES:Maggio della Musica,Musica,Pianosolo
ATTACH;FMTTYPE=image/jpeg:https://backup.sistemamedcampania.it/wp-content/uploads/2020/10/carmen-sottile.jpg
END:VEVENT
BEGIN:VEVENT
DTSTART;TZID=Europe/Rome:20201015T190000
DTEND;TZID=Europe/Rome:20201015T190000
DTSTAMP:20260419T223014
CREATED:20201013T131309Z
LAST-MODIFIED:20201013T131309Z
UID:6098-1602788400-1602788400@backup.sistemamedcampania.it
SUMMARY:Maggio della Musica.Pianosolo-Paolo Restani
DESCRIPTION:Al Teatro Diana al via Pinaosolo\, la rassegna dell’ associazione Maggio della Musica.  \nProtagonista della serata Paolo Restani: una carriera trentennale con successi nei maggiori teatri del mondo. Restani eseguirà un programma da virtuoso con alcuni “Preludi” di Sergej Rachmaninov\, pagine di Fryderyk Chopin e trascrizioni di Franz Liszt da Giuseppe Verdi e da Richard Wagner.  \n  \nI concerti si svolgeranno nel rispetto della normativa vigente in materia di contenimento del contagio da Covid-19. \n\nACQUISTA IL TUO BIGLIETTO ONLINE: https://www.azzurroservice.net \nINFO:https://www.teatrodiana.it
URL:https://backup.sistemamedcampania.it/evento/maggio-della-musica-pianosolo-paolo-restani/
LOCATION:Teatro Diana\, Via Luca Giordano 64\, Napoli\, Italia
CATEGORIES:Maggio della Musica,Musica,Pianosolo
ATTACH;FMTTYPE=image/jpeg:https://backup.sistemamedcampania.it/wp-content/uploads/2020/10/restani.jpg
END:VEVENT
END:VCALENDAR