BEGIN:VCALENDAR
VERSION:2.0
PRODID:-//Sistema Med Campania - ECPv6.7.0//NONSGML v1.0//EN
CALSCALE:GREGORIAN
METHOD:PUBLISH
X-ORIGINAL-URL:https://backup.sistemamedcampania.it
X-WR-CALDESC:Eventi per Sistema Med Campania
REFRESH-INTERVAL;VALUE=DURATION:PT1H
X-Robots-Tag:noindex
X-PUBLISHED-TTL:PT1H
BEGIN:VTIMEZONE
TZID:Europe/Rome
BEGIN:DAYLIGHT
TZOFFSETFROM:+0100
TZOFFSETTO:+0200
TZNAME:CEST
DTSTART:20220327T010000
END:DAYLIGHT
BEGIN:STANDARD
TZOFFSETFROM:+0200
TZOFFSETTO:+0100
TZNAME:CET
DTSTART:20221030T010000
END:STANDARD
BEGIN:DAYLIGHT
TZOFFSETFROM:+0100
TZOFFSETTO:+0200
TZNAME:CEST
DTSTART:20230326T010000
END:DAYLIGHT
BEGIN:STANDARD
TZOFFSETFROM:+0200
TZOFFSETTO:+0100
TZNAME:CET
DTSTART:20231029T010000
END:STANDARD
END:VTIMEZONE
BEGIN:VEVENT
DTSTART;TZID=Europe/Rome:20231208T180000
DTEND;TZID=Europe/Rome:20231208T180000
DTSTAMP:20260420T022019
CREATED:20231206T181645Z
LAST-MODIFIED:20231206T184338Z
UID:8871-1702058400-1702058400@backup.sistemamedcampania.it
SUMMARY:KÖRPER - De-Generation
DESCRIPTION:Prosegue KÖRPERFORMER\, rassegna di danza contemporanea organizzata da Gennaro Cimmino a Sala Assoli. Venerdì 8 dicembre alle ore 18\, tocca a De – Generation\, regia e coreografia di Marco Auggiero della MART Company. \nUn lavoro che intende urlare la dura verità contemporanea: l’uomo è\, purtroppo\, incapace di imparare dalla storia per non commettere gli stessi errori. Evolve ed involve con ciclicità\, facendo svanire con estrema superficialità tutta l’esperienza accumulata grazie al suo passato. \nRegia e coreografie Marco Auggiero\nCompagnia MART Company\nAssistente alle coreografie Valeria Di Lorenzo\nIdeazione costumi Marco Auggiero\nTesti Marco Auggiero \nPer info info@korper.it | www.korper.it
URL:https://backup.sistemamedcampania.it/evento/korper-de-generation-di-marco-auggiero/
LOCATION:Sala Assoli\, Vico Lungo Teatro Nuovo 110\, Napoli
CATEGORIES:Danza,Körper,Mart Dance
ATTACH;FMTTYPE=image/jpeg:https://backup.sistemamedcampania.it/wp-content/uploads/2023/12/mart-company.jpg
END:VEVENT
BEGIN:VEVENT
DTSTART;TZID=Europe/Rome:20220909T210000
DTEND;TZID=Europe/Rome:20220909T210000
DTSTAMP:20260420T022019
CREATED:20220906T135937Z
LAST-MODIFIED:20220906T135937Z
UID:7530-1662757200-1662757200@backup.sistemamedcampania.it
SUMMARY:Mart Dance - Lux et Umbra
DESCRIPTION:“Ci sono due tipi di luce: la luce che illumina\, e il bagliore che oscura. \nLa caratteristica del buio è che ci galleggi dentro: l’uomo e l’oscurità sono separati l’uno dall’altra perché l’oscurità è assenza di qualcosa\, è un vuoto.\nLa luce\, al contrario\, ti avvolge. Diventa parte di te. \nLa creatività\, come la vita umana stessa\, comincia nell’oscurità. “ \n  \ncoreografie Marco Auggiero \ndanzatori Mart Company \n  \ninfo: info@martdance.com
URL:https://backup.sistemamedcampania.it/evento/mart-dance-lux-et-umbra/
LOCATION:Porto di Marina Grande di Palinuro\, Loc. Arco Naturale\, Palinuro\, Centola SA\, 84051
CATEGORIES:Danza,Mart Dance
ATTACH;FMTTYPE=image/jpeg:https://backup.sistemamedcampania.it/wp-content/uploads/2022/09/lux-et-umbra.jpg
END:VEVENT
END:VCALENDAR