BEGIN:VCALENDAR
VERSION:2.0
PRODID:-//Sistema Med Campania - ECPv6.7.0//NONSGML v1.0//EN
CALSCALE:GREGORIAN
METHOD:PUBLISH
X-WR-CALNAME:Sistema Med Campania
X-ORIGINAL-URL:https://backup.sistemamedcampania.it
X-WR-CALDESC:Eventi per Sistema Med Campania
REFRESH-INTERVAL;VALUE=DURATION:PT1H
X-Robots-Tag:noindex
X-PUBLISHED-TTL:PT1H
BEGIN:VTIMEZONE
TZID:Europe/Rome
BEGIN:DAYLIGHT
TZOFFSETFROM:+0100
TZOFFSETTO:+0200
TZNAME:CEST
DTSTART:20210328T010000
END:DAYLIGHT
BEGIN:STANDARD
TZOFFSETFROM:+0200
TZOFFSETTO:+0100
TZNAME:CET
DTSTART:20211031T010000
END:STANDARD
END:VTIMEZONE
BEGIN:VEVENT
DTSTART;TZID=Europe/Rome:20211205T210000
DTEND;TZID=Europe/Rome:20211205T210000
DTSTAMP:20260422T195411
CREATED:20211201T132821Z
LAST-MODIFIED:20211201T132821Z
UID:7023-1638738000-1638738000@backup.sistemamedcampania.it
SUMMARY:Movimento Danza-Second Hand. Thread
DESCRIPTION:Chiude Second Hand\, rassegna di danza contemporanea promossa da Movimento Danza la compagnia Borderlinedanza con un doppio spettacolo. \n“Thread”  il risultato coreutico di una serie di riflessioni intorno al “filo”\, inteso come metafora del modo in cui siamo tutti connessi e interdipendenti. Attorcigliato\, sottile tanto da potersi spezzare facilmente o resistente al punto da non rompersi mai\, il filo è metafora della vita che scorre o si blocca. I danzatori sono collegati tra loro\, creano flussi corali che non mascherano le individualità che lo compongono. I limiti della loro forma sono anche i loro punti di forza\, esplorati e reiterati attraverso tempi antichi\, rituali e pastorali. Con grazia e umorismo\, Thread utilizza la restrizione per trovare la libertà.La nuova produzione internazionale di Borderline Danza vede protagonista la coreografa Susan Kempster (AU) e un corpo di ballo di sei danzatori. \n  \nconcept e ideazione coreografica Susan Kempster\nautori/interpreti Luigi Aruta\, Pietro Autiero\, Adriana Cristiano\, Antonio Formisano\, Alessia Muscariello\, Giada Ruoppo\nproduzione Borderlinedanza 2021\, con il contributo di MIC\, Regione Campania \n  \nInfo:  081 5801558 / 345 4679142 – info@casadelcontemporaneo.it \nwww.movimentodanza.org \n 
URL:https://backup.sistemamedcampania.it/evento/movimento-danza-second-hand-thread/
LOCATION:Sala Assoli\, Vico Lungo Teatro Nuovo 110\, Napoli
CATEGORIES:Borderline Danza,Danza,Movimento Danza,Second Hand-Di Seconda Mano XXIV
ATTACH;FMTTYPE=image/jpeg:https://backup.sistemamedcampania.it/wp-content/uploads/2021/12/thread.jpg
END:VEVENT
BEGIN:VEVENT
DTSTART;TZID=Europe/Rome:20211205T203000
DTEND;TZID=Europe/Rome:20211205T203000
DTSTAMP:20260422T195411
CREATED:20211201T132336Z
LAST-MODIFIED:20211201T132336Z
UID:7021-1638736200-1638736200@backup.sistemamedcampania.it
SUMMARY:Movimento Danza-Second Hand.Collective Trip
DESCRIPTION:Chiude Second Hand\, rassegna di danza contemporanea promossa da Movimento Danza la compagnia Borderlinedanza con un doppio spettacolo. \n “Collective Trip” è  il momento conclusivo di un “atto di pensiero” del coreografo Claudio Malangone che ha caratterizzato le ultime produzioni di Borderlinedanza nell’ultimo triennio.\nPunto di partenza sono l’idea di un tragitto e quelle trasformazioni che un ambiente e un corpo subiscono durante un percorso\, cogliendone le metamorfosi e le contraddizioni a esso insite. Un viaggio che trae ispirazione tra ciò che vediamo e ciò che immaginiamo per condurre in un luogo intimo e caloroso\, dove si apre lo spazio per costruire drammaturgia identificandone l’essenza non nel contrasto tra i personaggi autori/interpreti ma nel confronto tra scena e pubblico\, anch’esso protagonista della performance.\nIl brano presentato è la restituzione al pubblico di un percorso di condivisione tra l’ideatore/coreografo e i danzatori coinvolti in una esperienza laboratoriale all’interno della rassegna. \n  \nConcept\, coreografia e regia Claudio Malangone\nAutori/interpreti partecipanti al workshop pomeridiano\nMusica 2°movimento 7 Sinfonia di Beethoven \n  \ninfo:  081 5801558 / 345 4679142 – info@casadelcontemporaneo.it \nwww.movimentodanza.org \n 
URL:https://backup.sistemamedcampania.it/evento/movimento-danza-second-hand-collective-trip/
LOCATION:Sala Assoli\, Vico Lungo Teatro Nuovo 110\, Napoli
CATEGORIES:Borderline Danza,Danza,Movimento Danza,Second Hand-Di Seconda Mano XXIV
ATTACH;FMTTYPE=image/jpeg:https://backup.sistemamedcampania.it/wp-content/uploads/2021/12/collective-trip.jpg
END:VEVENT
BEGIN:VEVENT
DTSTART;TZID=Europe/Rome:20211204T203000
DTEND;TZID=Europe/Rome:20211204T203000
DTSTAMP:20260422T195411
CREATED:20211201T132017Z
LAST-MODIFIED:20211201T132017Z
UID:7019-1638649800-1638649800@backup.sistemamedcampania.it
SUMMARY:Movimento Danza-Second Hand.Divine
DESCRIPTION:L’ ARB Dance Company sarà ospite di Second Hand\, rassegna di danza contemporanea promossa da Movimento Danza con “Divine” \nLa Divina Commedia non è solo il viaggio di Dante\, ma il viaggio di ognuno di noi: Dante si fa paradigma dell’umanità e guida tutti noi in un percorso verso l’amore\, fatto di esperienze terribili e visioni meravigliose. È per questo che\, in questa pièce di versi e danza\, la figura di Dante non è presente\, perché semplicemente è il pubblico che\, coronato d’alloro\, farà il proprio viaggio. Ad accoglierlo ci saranno solo ed esclusivamente le voci femminili.\nUn viaggio al femminile che\, attraverso uno studio approfondito dei versi\, recitati e declinati in danza\, dei costumi attraverso l’esame di opera artistiche\, attualizzazioni\, farà riflettere sulla condizione femminile e sulla discriminazione e parità di genere\, uno degli obiettivi significativi dell’Agenda 2030.\nIl titolo “Divine” si riferisce non solo all’aggettivo che accompagna l’opera a partire da un’edizione del 1555\, per definirne il valore artistico e la sacralità\, ma vuole richiamare anche alla “divinità” presente in ogni donna. \ncoreografia Roberta De Rosa\ndrammaturgia e regia Michele Casella\ndanzatori Roberta De Rosa\, Martina Fasano\, Nello Giglio\, Katia Marocco\, Nicola Picardi\nproduzione ARB Dance Company\ndirezione artistica Annamaria Di Maio \n  \ninfo:  081 5801558 / 345 4679142 – info@casadelcontemporaneo.it \nwww.movimentodanza.org
URL:https://backup.sistemamedcampania.it/evento/movimento-danza-second-hand-divine/
LOCATION:Sala Assoli\, Vico Lungo Teatro Nuovo 110\, Napoli
CATEGORIES:Arabesque,Danza,Movimento Danza,Second Hand-Di Seconda Mano XXIV
ATTACH;FMTTYPE=image/jpeg:https://backup.sistemamedcampania.it/wp-content/uploads/2021/12/divine.jpg
END:VEVENT
BEGIN:VEVENT
DTSTART;TZID=Europe/Rome:20211203T210000
DTEND;TZID=Europe/Rome:20211203T210000
DTSTAMP:20260422T195411
CREATED:20211201T131723Z
LAST-MODIFIED:20211201T131723Z
UID:7013-1638565200-1638565200@backup.sistemamedcampania.it
SUMMARY:Movimento Danza-Second Hand.Focus On_primo studio
DESCRIPTION:La seconda serata di Second Hand\, rassegna di danza contemporanea promossa da Movimento Danza vedrà protagonista Sonia Di Gennaro con “Focus On_primo studio” \nFocus on è un work in progress in cui Sonia Di Gennaro esplora\, con il Performing Art Group\, le possibili relazioni che fanno parte della nostra quotidianità: incontrarsi\, come ignorarsi o perdersi\, fino a ritrovarsi. Un primo studio in cui lo sguardo del danzatore si incrocia con gli altri corpi creando figure\, costruendo immagini\, proiettando ombre\, che si allungano\, ondeggiano\, fluttuano in un mondo dai confini incerti e mutevoli. \n  \ndi Sonia Di Gennaro\nPerforming Arts Group – Compagnia Giovani Movimento Danza\ndanzano Roberta Ascione\, Maria Giovanna Cimmino\, Martina Galardo\, Francesca Gifuni\nproduzione Movimento Danza\, MiC\, Regione Campania \n  \ninfo:  081 5801558 / 345 4679142 – info@casadelcontemporaneo.it \nwww.movimentodanza.org \n 
URL:https://backup.sistemamedcampania.it/evento/movimento-danza-second-hand-focus-on_primo-studio/
LOCATION:Sala Assoli\, Vico Lungo Teatro Nuovo 110\, Napoli
CATEGORIES:Danza,Movimento Danza,Second Hand-Di Seconda Mano XXIV
ATTACH;FMTTYPE=image/jpeg:https://backup.sistemamedcampania.it/wp-content/uploads/2021/12/focus-on-primo-studio.jpg
END:VEVENT
BEGIN:VEVENT
DTSTART;TZID=Europe/Rome:20211203T203000
DTEND;TZID=Europe/Rome:20211203T203000
DTSTAMP:20260422T195411
CREATED:20211201T131425Z
LAST-MODIFIED:20211201T131425Z
UID:7010-1638563400-1638563400@backup.sistemamedcampania.it
SUMMARY:Movimento Danza-Second Hand.I suppose it’s real_studio
DESCRIPTION:La seconda serata di Second Hand\, rassegna di danza contemporanea promossa da Movimento Danza si apre con “I suppose it’s real_studio” \n“La nostra realtà è il pianto e il riso\, la gratitudine e l’altruismo\, la fedeltà e i tradimenti\, il passato che ci perseguita e la serenità. La nostra realtà è costituita dalle nostre società\, dall’emozione della musica\, dalle ricche reti intrecciate del nostro comune sapere\, che abbiamo costruito insieme. Tutto questo è parte di quella stessa natura che descriviamo. Della natura siamo parte integrante\, siamo natura\, in una delle sue innumerevoli e svariatissime espressioni.” C.R \nL’essere umano è per natura un animale curioso.\nNell’uomo risiedono i dettagli di un passato animale ma anche l’orizzonte\, attuale\, dell’espansione del nostro pensiero sulla sfera tecnica. Queste due nature convivono nell’essere vivente che da quando si è scoperto limitato ha auto la necessità di risolvere il suo pensiero dentro un oggetto. \n  \ndi e con Michela Silvestrin\nproduzione Compagnia Ariella Vidach / AiEP \n  \ninfo:  081 5801558 / 345 4679142 – info@casadelcontemporaneo.it \nwww.movimentodanza.org
URL:https://backup.sistemamedcampania.it/evento/movimento-danza-second-hand-i-suppose-its-real_studio/
LOCATION:Sala Assoli\, Vico Lungo Teatro Nuovo 110\, Napoli
CATEGORIES:Danza,Movimento Danza,Second Hand-Di Seconda Mano XXIV
ATTACH;FMTTYPE=image/jpeg:https://backup.sistemamedcampania.it/wp-content/uploads/2021/12/i-suppose-its-real-studio.jpg
END:VEVENT
BEGIN:VEVENT
DTSTART;TZID=Europe/Rome:20211202T213000
DTEND;TZID=Europe/Rome:20211202T213000
DTSTAMP:20260422T195411
CREATED:20211201T131202Z
LAST-MODIFIED:20211201T131202Z
UID:7007-1638480600-1638480600@backup.sistemamedcampania.it
SUMMARY:Movimento Danza-Second Hand.Private Rite Something is growing
DESCRIPTION:Per Second Hand\, rassegna di danza contemporanea promossa da Movimento Danza “Private Rite Something is growing” \nUn corpo inerme. Un luogo tangibile e malleabile che si espande\, si deforma e rinasce.\nLentamente si sviluppa un intimo rituale tra il soggetto e il piccolo ambiente che abita.\nLa crescita del corpo e del movimento appare direttamente proporzionale alla dilatazione dello spazio che\, da piccolo e restrittivo\, si trasforma in una passerella dove il rito personale del performer prende vita nella sua totalità. La continua crescita porta alla ricerca di spazi altri\, scaturendo un dentro-fuori persistente\, un rapporto che nonostante l’apparente deterioramento\, tende a ritornare verso il legame primordiale\, fondendosi in un’unica scultura che muta nello spazio e nel tempo. L’interrogativo si pone inevitabilmente. Dopo tale esperienza chi è\, quindi\, il soggetto? E chi l’oggetto? \n  \ndi e con Marco Casagrande\nproduzione Movimento Danza – MIC – Regione Campania \nProgetto finalista dell’edizione 2020 di “Residanza – La casa della nuova coreografia”\, bando di ospitalità e residenza coreografica\, azione Gap! Change! Now! Projects for the next dance generation – Movimento Danza 2018/2021 e con il sostegno del Ministero della Cultura \n  \n  \ninfo:  081 5801558 / 345 4679142 – info@casadelcontemporaneo.it \nwww.movimentodanza.org
URL:https://backup.sistemamedcampania.it/evento/movimento-danza-second-hand-private-rite-something-is-growing/
LOCATION:Sala Assoli\, Vico Lungo Teatro Nuovo 110\, Napoli
CATEGORIES:Danza,Movimento Danza,Second Hand-Di Seconda Mano XXIV
ATTACH;FMTTYPE=image/jpeg:https://backup.sistemamedcampania.it/wp-content/uploads/2021/12/private-rite.jpg
END:VEVENT
BEGIN:VEVENT
DTSTART;TZID=Europe/Rome:20211202T210000
DTEND;TZID=Europe/Rome:20211202T210000
DTSTAMP:20260422T195411
CREATED:20211201T130851Z
LAST-MODIFIED:20211201T130851Z
UID:7004-1638478800-1638478800@backup.sistemamedcampania.it
SUMMARY:Movimento Danza-Second Hand. Four/Vis a Vis
DESCRIPTION:Apre la XXIV edizione di Second Hand\, rassegna di danza contemporanea promossa da Movimento Danza\, “Four/Vis a Vis” \nForza\, bellezza\nForza\, bellezza\nForza\, bellezza\nVaghi in una foresta sociale\, dove le uniche parole che echeggiano sono queste.\nTi intimidiscono\, ti confondono quasi ti convinci che sia l’obiettivo da raggiungere.\nCome le sirene di Ulisse\, ti seducono e ti fanno percorrere\nstrade nelle quali l’unica cosa che può capitare è perderti.\nPerdere te stesso.\nPerdere la testa.\nLì dovrai fare i conti con la persona che sei.\nEssere o non Essere \n  \ndi e con Sara Pischedda\nmusiche di Marco Caredda\nluci Stefano Delitala\nproduzione Compagnia ASMED Balletto di Sardegna e Incontri Musicali \n  \n  \ninfo:  081 5801558 / 345 4679142 – info@casadelcontemporaneo.it \nwww.movimentodanza.org
URL:https://backup.sistemamedcampania.it/evento/movimento-danza-second-hand-four-vis-a-vis/
LOCATION:Sala Assoli\, Vico Lungo Teatro Nuovo 110\, Napoli
CATEGORIES:Danza,Movimento Danza,Second Hand-Di Seconda Mano XXIV
ATTACH;FMTTYPE=image/jpeg:https://backup.sistemamedcampania.it/wp-content/uploads/2021/12/vi-a-vis.jpg
END:VEVENT
BEGIN:VEVENT
DTSTART;TZID=Europe/Rome:20211202T203000
DTEND;TZID=Europe/Rome:20211202T203000
DTSTAMP:20260422T195411
CREATED:20211201T130559Z
LAST-MODIFIED:20211201T130559Z
UID:7001-1638477000-1638477000@backup.sistemamedcampania.it
SUMMARY:Movimento Danza-Second Hand. Small living space
DESCRIPTION:Apre la XXIV edizione di Second Hand\, rassegna di danza contemporanea promossa da Movimento Danza\, “Small living space”: questa altro non è che la drammatica storia di un corpo inscatolato nei propri pensieri\, manipolato dalle proprie paure e preso a cazzotti dalle proprie sofferenze; perso\, quindi\, in un insano circolo vizioso. Un piccolo stralcio di realtà in cui la non accettazione di sé\, innesca un insano meccanismo conflittuale: un’intima e violenta lotta con se stessi\, che spesso non conosce vincitori. \ncoreografia e interpretazione Antonio Taurino\nmusica Antonio Vivaldi\nproduzione GRUPPO e-MOTION\, con il contributo del MIBACT\, della Regione Abruzzo\, del Comune dell’Aquila e Operazione RESTART \n  \ninfo:  081 5801558 / 345 4679142 – info@casadelcontemporaneo.it \nwww.movimentodanza.org \n  \n 
URL:https://backup.sistemamedcampania.it/evento/movimento-danza-second-hand-small-living-space/
LOCATION:Sala Assoli\, Vico Lungo Teatro Nuovo 110\, Napoli
CATEGORIES:Danza,Movimento Danza,Second Hand-Di Seconda Mano XXIV
ATTACH;FMTTYPE=image/jpeg:https://backup.sistemamedcampania.it/wp-content/uploads/2021/12/small-living-space.jpg
END:VEVENT
END:VCALENDAR