BEGIN:VCALENDAR
VERSION:2.0
PRODID:-//Sistema Med Campania - ECPv6.7.0//NONSGML v1.0//EN
CALSCALE:GREGORIAN
METHOD:PUBLISH
X-ORIGINAL-URL:https://backup.sistemamedcampania.it
X-WR-CALDESC:Eventi per Sistema Med Campania
REFRESH-INTERVAL;VALUE=DURATION:PT1H
X-Robots-Tag:noindex
X-PUBLISHED-TTL:PT1H
BEGIN:VTIMEZONE
TZID:Europe/Rome
BEGIN:DAYLIGHT
TZOFFSETFROM:+0100
TZOFFSETTO:+0200
TZNAME:CEST
DTSTART:20230326T010000
END:DAYLIGHT
BEGIN:STANDARD
TZOFFSETFROM:+0200
TZOFFSETTO:+0100
TZNAME:CET
DTSTART:20231029T010000
END:STANDARD
BEGIN:DAYLIGHT
TZOFFSETFROM:+0100
TZOFFSETTO:+0200
TZNAME:CEST
DTSTART:20240331T010000
END:DAYLIGHT
BEGIN:STANDARD
TZOFFSETFROM:+0200
TZOFFSETTO:+0100
TZNAME:CET
DTSTART:20241027T010000
END:STANDARD
END:VTIMEZONE
BEGIN:VEVENT
DTSTART;TZID=Europe/Rome:20240329T170000
DTEND;TZID=Europe/Rome:20240329T170000
DTSTAMP:20260420T052656
CREATED:20240326T172305Z
LAST-MODIFIED:20240326T172305Z
UID:9000-1711731600-1711731600@backup.sistemamedcampania.it
SUMMARY:MUSICAINSIEME - Solenne Concerto del Venerdì Santo
DESCRIPTION:Continua la tradizione del Solenne Concerto del Venerdì Santo (XV edizione) a Benevento nella bellissima cornice della chiesa settecentesca della SS. Annunziata. \nAnche quest’anno Musicainsieme proporrà un gioiello della Biblioteca del Conservatorio di Napoli: dopo gli Stabat di Pergolesi\, Boccherini\, Vivaldi\, Traetta\, Abos\, tocca allo Stabat Mater di Pasquale Cafaro (1708 – 1787)\, che\, sebbene poco indagato\, ha svolto un’importante attività a Napoli ricoprendo\, dopo Girolamo Abos\, l’incarico di Primo Maestro del Conservatorio e Maestro della Regina. \nA guidare l’Orchestra Internazionale della Campania c’è il Maestro Veaceslav Quadrini Ceaicovschi\, i solisti sono Luciana Distante soprano e Debora Colangelo mezzosoprano\, mentre il Coro da Camera Opera Festival completa l’organico. \nPer info www.musicainsieme.info
URL:https://backup.sistemamedcampania.it/evento/musicainsieme-solenne-concerto-del-venerdi-santo-2/
LOCATION:Chiesa SS. Annunziata\, Via Annunziata 103\, Benevento\, Benevento\, 82100\, Italia
CATEGORIES:Musica,Musicainsieme
ATTACH;FMTTYPE=image/jpeg:https://backup.sistemamedcampania.it/wp-content/uploads/2024/03/musicainsieme.jpg
END:VEVENT
BEGIN:VEVENT
DTSTART;VALUE=DATE:20231004
DTEND;VALUE=DATE:20231006
DTSTAMP:20260420T052656
CREATED:20231002T160536Z
LAST-MODIFIED:20231002T160536Z
UID:8680-1696377600-1696550399@backup.sistemamedcampania.it
SUMMARY:MUSICAINSIEME - Tour dei Balcani
DESCRIPTION:L’Orchestra Internazionale della Campania nella sua formazione da Camera \, dopo il successo del 2022\, torna nei Balcani con quattro concerti in Grecia\, Albania\, Bulgaria e Romania (1\,2\,4 e 5 ottobre)\, in collaborazione con le associazioni locali che hanno partecipato in partenariato. \nL’organico è diretto dal maestro Veaceslav Quadrini Ceaicovschi\, violinista e direttore ormai rinomato\, figlio d’arte\, docente al Conservatorio di Benevento\, che propone un programma insieme a due solisti: Aldo Botta al clarinetto e Deborah Colangelo mezzosoprano\, entrambi giovani emergenti. \nPer info www.musicainsieme.info
URL:https://backup.sistemamedcampania.it/evento/musicainsieme-tour-dei-balcani/
LOCATION:Benevento
CATEGORIES:Musica,Musicainsieme
ATTACH;FMTTYPE=image/jpeg:https://backup.sistemamedcampania.it/wp-content/uploads/2023/10/musicainsieme-tour-dei-balcani.jpg
END:VEVENT
BEGIN:VEVENT
DTSTART;TZID=Europe/Rome:20230826T210000
DTEND;TZID=Europe/Rome:20230826T210000
DTSTAMP:20260420T052656
CREATED:20230818T164758Z
LAST-MODIFIED:20230818T164758Z
UID:8558-1693083600-1693083600@backup.sistemamedcampania.it
SUMMARY:Musicainsieme - Gran Galà della Lirica
DESCRIPTION:L’Orchestra Internazionale della Campania\, diretta dal maestro Leonardo Quadrini\, porta il Gran Galà della Lirica anche nello splendido scenario delle colline beneventane a Terranova di Arpaise. \nSabato 26 agosto alle ore 21\, nel Santuario dei Santi Cosma e Damiano un ospite d’eccezione\, il tenore Ignacio Encinas. \nPer info leonardo.quadrini.61@gmail.com – www.musicainsieme.info \n  \n 
URL:https://backup.sistemamedcampania.it/evento/musicainsieme-gran-gala-della-lirica-3/
LOCATION:Santuario SS Cosma e Damiano\, Piazza Santi Cosma e Damiano\, Terranova di Arpaise\, Benevento\, 82010\, Italia
CATEGORIES:Musica,Musicainsieme
ATTACH;FMTTYPE=image/jpeg:https://backup.sistemamedcampania.it/wp-content/uploads/2023/08/musicainsieme-gran-gala-della-lirica-2.jpg
END:VEVENT
BEGIN:VEVENT
DTSTART;TZID=Europe/Rome:20230825T210000
DTEND;TZID=Europe/Rome:20230825T210000
DTSTAMP:20260420T052656
CREATED:20230817T162500Z
LAST-MODIFIED:20230817T162500Z
UID:8554-1692997200-1692997200@backup.sistemamedcampania.it
SUMMARY:Musicainsieme - Gran Galà della Lirica
DESCRIPTION:In occasione del Premio Salvatore Di Giacomo\, nella suggestiva cornice di Sant’Agata due Golfi di Massa Lubrense arriva il Gran Galà della Lirica diretto dal maestro Leonardo Quadrini. \nProtagonista della serata l’Orchestra Internazionale della Campania insieme ad alcuni solisti di fama internazionale\, tra cui il tenore Joan Lainez. \nPer info leonardo.quadrini.61@gmail.com – www.musicainsieme.info \n 
URL:https://backup.sistemamedcampania.it/evento/musicainsieme-gran-gala-della-lirica-2/
LOCATION:Chiesa Santa Maria delle Grazie\, Corso Sant' Agata 1\, Sant'Agata sui Due Golfi\, Napoli\, 80061\, Italia
CATEGORIES:Musica,Musicainsieme
ATTACH;FMTTYPE=image/jpeg:https://backup.sistemamedcampania.it/wp-content/uploads/2023/08/musicainsieme-gran-gala-della-lirica-1.jpg
END:VEVENT
BEGIN:VEVENT
DTSTART;VALUE=DATE:20230809
DTEND;VALUE=DATE:20230810
DTSTAMP:20260420T052656
CREATED:20230807T130207Z
LAST-MODIFIED:20230807T130207Z
UID:8521-1691539200-1691625599@backup.sistemamedcampania.it
SUMMARY:Musicainsieme - Sul sentiero degli dei
DESCRIPTION:Nella meravigliosa Agerola\, una delle perle della Costiera Amalfitana\, tra mare\, monti e scorci mozzafiato arriva una delle più celebri opere liriche della Storia della Musica. \nIl Barbiere di Siviglia di Gioachino Rossini\, con la regia di Antonio De Lucia e la direzione di Leonardo Quadrini\, viene interpretato dall’Orchestra Internazionale della Campania e dai solisti Margherita Pugliese\, Rodrigo Trosino\, Carmine Monaco e Carlo Provenzano. \nPer info leonardo.quadrini.61@gmail.com – www.musicainsieme.info
URL:https://backup.sistemamedcampania.it/evento/musicainsieme-sul-sentiero-degli-dei/
LOCATION:Parco Colonia Montana\, Via Salvatore di Giacomo 8\, Agerola\, Napoli\, 80051\, Italia
CATEGORIES:Musica,Musicainsieme
ATTACH;FMTTYPE=image/jpeg:https://backup.sistemamedcampania.it/wp-content/uploads/2023/08/musicainsieme-sul-sentiero-degli-dei-il-barbiere-di-siviglia-2.jpg
END:VEVENT
BEGIN:VEVENT
DTSTART;VALUE=DATE:20230808
DTEND;VALUE=DATE:20230809
DTSTAMP:20260420T052656
CREATED:20230803T185514Z
LAST-MODIFIED:20230803T185514Z
UID:8517-1691452800-1691539199@backup.sistemamedcampania.it
SUMMARY:Musicainsieme - Gran Galà della Lirica
DESCRIPTION:A Scario sul sagrato della chiesa madre\, arriva la XXX edizione del Gran Gala’ della Lirica con il maestro\nLeonardo Quadrini\, il coro Opera in Puglia\, l’Orchestra Internazionale della Campania e la partecipazione straordinaria di Chiara Taigi\, soprano internazionale\, e Rodrigo Trosino\, tenore messicano. \nPer info leonardo.quadrini.61@gmail.com – www.musicainsieme.info \n 
URL:https://backup.sistemamedcampania.it/evento/musicainsieme-gran-gala-della-lirica/
LOCATION:Chiesa SS. Immacolata\, Lungomare Guglielmo Marconi 20\, Scario\, Salerno\, 84070\, Italia
CATEGORIES:Musica,Musicainsieme
ATTACH;FMTTYPE=image/jpeg:https://backup.sistemamedcampania.it/wp-content/uploads/2023/08/musicainsieme-gran-gala-della-lirica.jpg
END:VEVENT
BEGIN:VEVENT
DTSTART;TZID=Europe/Rome:20230801T210000
DTEND;TZID=Europe/Rome:20230801T210000
DTSTAMP:20260420T052656
CREATED:20230731T175559Z
LAST-MODIFIED:20230731T175559Z
UID:8476-1690923600-1690923600@backup.sistemamedcampania.it
SUMMARY:Musicainsieme - Lirica a Teatro romano
DESCRIPTION:Nel suggestivo scenario del Teatro romano di Benevento ritorna Lirica a Teatro romano\, una produzione Musicainsieme \, Accademia delle Opere e patrocini vari di Amministrazione Provinciale Benevento e Comune di Benevento. \nDopo la Carmen di Bizet\, è in programma martedì 1 agosto alle ore 21 un’altra delle più celebri opere liriche della Storia della Musica\, il Rigoletto di Giuseppe Verdi. \nAngela Bonfitto Gilda\nMicael Spadaccini Duca\nEnkhbold Ankhayar Rigoletto\nLuciana Distante Maddalena\nOrchestra Internazionale della Campania\nCoro Verdi di Roma\, Coro di Benevento\nCoreografia e scuola di danza Saveria Cotroneo\nAngelo Gabrielli direzione\nAntonio De Lucia regia \nPer info leonardo.quadrini.61@gmail.com – www.musicainsieme.info
URL:https://backup.sistemamedcampania.it/evento/musicainsieme-lirica-a-teatro-romano/
LOCATION:Teatro Romano di Benevento\, Piazza Ponzio Telesino\, Benevento BN\, 82100\, Italia
CATEGORIES:Musica,Musicainsieme
ATTACH;FMTTYPE=image/jpeg:https://backup.sistemamedcampania.it/wp-content/uploads/2023/07/musicainsieme-lirica-a-teatro-romano-rigoletto-di-g-verdi.jpg
END:VEVENT
BEGIN:VEVENT
DTSTART;VALUE=DATE:20230624
DTEND;VALUE=DATE:20230625
DTSTAMP:20260420T052656
CREATED:20230620T203111Z
LAST-MODIFIED:20230620T203111Z
UID:8366-1687564800-1687651199@backup.sistemamedcampania.it
SUMMARY:MUSICAINSIEME - Concerto dell'Estate
DESCRIPTION:Nello splendido scenario del Cortile del Castello Doria di Angri torna\, dopo alcuni anni di assenza\, il concerto lirico sinfonico del Mestro Quadrini insieme alla sua Orchestra Sinfonica Internazionale della Campania e la partecipazione straordinaria del tenore Ennio Capece. \nIn programma\, tra le altre le musiche di Puccini\, Verdi\, Bellini e Donizetti. \nPer info : leonardo.quadrini.61@gmail.com – www.musicainsieme.info
URL:https://backup.sistemamedcampania.it/evento/musicainsieme-concerto-dellestate/
LOCATION:Castello Doria di Angri\, Piazza Doria\, Angri\, Salerno\, Italia
CATEGORIES:Musica,Musicainsieme
ATTACH;FMTTYPE=image/jpeg:https://backup.sistemamedcampania.it/wp-content/uploads/2023/06/musicainsieme-concerto-dellestate.jpg
END:VEVENT
BEGIN:VEVENT
DTSTART;VALUE=DATE:20230407
DTEND;VALUE=DATE:20230408
DTSTAMP:20260420T052656
CREATED:20230321T201509Z
LAST-MODIFIED:20230321T201509Z
UID:7928-1680825600-1680911999@backup.sistemamedcampania.it
SUMMARY:Musicainsieme - Solenne Concerto del Venerdì Santo
DESCRIPTION:Ritorna a Benevento la XIV edizione del Solenne Concerto del Venerdì Santo! \nIn programma il raro Stabat Mater di Gerolamo Abos\, compositore settecentesco di origini maltesi ma trapiantato a Napoli e allievo del Durante. Riportato alla luce da Roberto De Simone\, viene riproposto dall’Orchestra Internazionale della Campania di Leonardo Quadrini\, che da alcuni anni sta rispolverando la tradizione dello Stabat permettendo l’ascolto e la conoscenza di molti autori meno noti rispetto al celebre Pergolesi. \nANGELA ROSA\, soprano \nANGELA BONFITTO\, mezzosoprano \nDEBORAH COLANGELO\, mezzosoprano \nORCHESTRA INTERNAZIONALE DELLA CAMPANIA \nLEONARDO QUADRINI\, direttore \nMusiche di Abos e Pergolesi \nInfo:  www.musicainsieme.info
URL:https://backup.sistemamedcampania.it/evento/musicainsieme-solenne-concerto-del-venerdi-santo/
LOCATION:Chiesa SS. Annunziata\, Via Annunziata 103\, Benevento\, Benevento\, 82100\, Italia
CATEGORIES:Musica,Musicainsieme
ATTACH;FMTTYPE=image/png:https://backup.sistemamedcampania.it/wp-content/uploads/2023/03/musicainsieme-solenne-concerto-del-venerdi-santo.png
END:VEVENT
END:VCALENDAR