BEGIN:VCALENDAR
VERSION:2.0
PRODID:-//Sistema Med Campania - ECPv6.7.0//NONSGML v1.0//EN
CALSCALE:GREGORIAN
METHOD:PUBLISH
X-ORIGINAL-URL:https://backup.sistemamedcampania.it
X-WR-CALDESC:Eventi per Sistema Med Campania
REFRESH-INTERVAL;VALUE=DURATION:PT1H
X-Robots-Tag:noindex
X-PUBLISHED-TTL:PT1H
BEGIN:VTIMEZONE
TZID:Europe/Rome
BEGIN:DAYLIGHT
TZOFFSETFROM:+0100
TZOFFSETTO:+0200
TZNAME:CEST
DTSTART:20200329T010000
END:DAYLIGHT
BEGIN:STANDARD
TZOFFSETFROM:+0200
TZOFFSETTO:+0100
TZNAME:CET
DTSTART:20201025T010000
END:STANDARD
END:VTIMEZONE
BEGIN:VEVENT
DTSTART;TZID=Europe/Rome:20201219T183000
DTEND;TZID=Europe/Rome:20201219T183000
DTSTAMP:20260422T200456
CREATED:20201217T141225Z
LAST-MODIFIED:20201217T141238Z
UID:6233-1608402600-1608402600@backup.sistemamedcampania.it
SUMMARY:Nuova Orchestra Scarlatti.Autunno Musicale-Passioni Barocche
DESCRIPTION:Il secondo appuntamento online dell’Autunno Musicale della Nuova Orchestra Scarlatti è con i Solisti dell’Orchestra impegnati in un concentrato programma cameristico vocale e strumentale di passioni e colori barocchi\, amor sacro e amor profano. Interprete di pagine vocali di Scarlatti\, Pergolesi\, Vivaldi ed Händel un grande talento partenopeo\, il soprano Maria Grazia Schiavo\, protagonista indiscussa della musica barocca\, ma con un repertorio che oggi arriva\, grazie alla duttilità della sua voce\, fino alla Traviata di Verdi.\nPrimo violino il napoletano David Romano\, attualmente Spalla dei violini secondi dell’Orchestra dell’Accademia di Santa Cecilia. \nLa trasmissione streaming del concerto sarà disponibile sul canale Youtube\,  sulle pagine Facebook e Instagram\, e sul sito nuovaorchestrascarlatti.it/live \nPer garantire un’esperienza di alta qualità e uno streaming ottimale di video e audio\, il concerto sarà trasmesso in differita.
URL:https://backup.sistemamedcampania.it/evento/nuova-orchestra-scarlatti-autunno-musicale-passioni-barocche/
CATEGORIES:Autunno Musicale 2020,Musica,Nuova Orchestra Scarlatti
ATTACH;FMTTYPE=image/jpeg:https://backup.sistemamedcampania.it/wp-content/uploads/2020/12/passioni-barocche.jpg
END:VEVENT
BEGIN:VEVENT
DTSTART;TZID=Europe/Rome:20201212T180000
DTEND;TZID=Europe/Rome:20201212T180000
DTSTAMP:20260422T200456
CREATED:20201211T092843Z
LAST-MODIFIED:20201211T092843Z
UID:6228-1607796000-1607796000@backup.sistemamedcampania.it
SUMMARY:Nuova Orchestra Scarlatti.Autunno Musicale-Omaggio a Beethoven
DESCRIPTION:Il primo appuntamento online dell’Autunno Musicale della Nuova Orchestra Scarlatti è con un Omaggio a Beethoven\, a 250 anni esatti dalla sua nascita con una pagina giovanile di mozartiana luminosità\, l’Aria per soprano e orchestra ‘Ah perfido’ e con una versione cameristica della Quarta Sinfonia op. 60\, un capolavoro di equilibri e colori musicali tutto da scoprire. Partecipa al concerto il talento napoletano\, il soprano Chiara Polese; sul podio della Nuova Orchestra Scarlatti una donna direttore in continua ascesa\, Beatrice Venezi. Introduce Enzo Viccaro \nLa trasmissione streaming del concerto sarà disponibile sul canale Youtube\,  sulle pagine Facebook e Instagram\, e sul sito nuovaorchestrascarlatti.it/live \nPer garantire un’esperienza di alta qualità e uno streaming ottimale di video e audio\, il concerto sarà trasmesso in differita.
URL:https://backup.sistemamedcampania.it/evento/nuova-orchestra-scarlatti-autunno-musicale-omaggio-a-beethoven/
CATEGORIES:Autunno Musicale 2020,Musica,Nuova Orchestra Scarlatti
ATTACH;FMTTYPE=image/jpeg:https://backup.sistemamedcampania.it/wp-content/uploads/2020/12/omaggio-a-beethoven.jpg
END:VEVENT
END:VCALENDAR