BEGIN:VCALENDAR
VERSION:2.0
PRODID:-//Sistema Med Campania - ECPv6.7.0//NONSGML v1.0//EN
CALSCALE:GREGORIAN
METHOD:PUBLISH
X-ORIGINAL-URL:https://backup.sistemamedcampania.it
X-WR-CALDESC:Eventi per Sistema Med Campania
REFRESH-INTERVAL;VALUE=DURATION:PT1H
X-Robots-Tag:noindex
X-PUBLISHED-TTL:PT1H
BEGIN:VTIMEZONE
TZID:Europe/Rome
BEGIN:DAYLIGHT
TZOFFSETFROM:+0100
TZOFFSETTO:+0200
TZNAME:CEST
DTSTART:20210328T010000
END:DAYLIGHT
BEGIN:STANDARD
TZOFFSETFROM:+0200
TZOFFSETTO:+0100
TZNAME:CET
DTSTART:20211031T010000
END:STANDARD
END:VTIMEZONE
BEGIN:VEVENT
DTSTART;TZID=Europe/Rome:20211209T180000
DTEND;TZID=Europe/Rome:20211209T180000
DTSTAMP:20260420T084708
CREATED:20211207T134840Z
LAST-MODIFIED:20211207T134840Z
UID:7064-1639072800-1639072800@backup.sistemamedcampania.it
SUMMARY:Nuova Orchestra Scarlatti. Autunno Musicale 2021 - Promemade Performance
DESCRIPTION:L’ ultimo appuntamento dell’Autunno Musicale della Nuova Orchestra Scarlatti\, è una Promemade Performance . Per l’occasione\, i musicisti della NOS prima della ‘performance’\, del concerto vero e proprio\, animeranno una ‘promenade’ muovendosi fra le installazioni della mostra curata da Kathryn Weir (direttrice artistica del Madre) Utopia Distopia: il mito del progresso partendo dal Sud\, e anticipando incisi delle musiche in programma alla ricerca di assonanze con le opere esposte (che rappresentano la risposta creativa di 55 artisti italiani e internazionali alle trasformazioni sociali dell’ultimo mezzo secolo – urbanizzazione\, industrializzazione\, nuove periferie\, ecc. – “tra speranze utopistiche ed esperienze distopiche”). \n  \nMusiche di G. Russo\, D. Šostakovič\, C. Gesualdo\, P. Marrone\, A. Clementi\, B. Maderna \n  \nINGRESSO LIBERO \nfino a esaurimento posti \ninfo@nuovaorchestrascarlatti.it –  0812535984 \n 
URL:https://backup.sistemamedcampania.it/evento/nuova-orchestra-scarlatti-autunno-musicale-2021-promemade-performance/
LOCATION:Museo Madre. Museo d’arte contemporanea Donnaregina\, Via Luigi Settembrini\, 79\, Napoli\, Italia\, 80139\, Italia
CATEGORIES:Autunno Musicale 2021,Musica,Nuova Orchestra Scarlatti
ATTACH;FMTTYPE=image/jpeg:https://backup.sistemamedcampania.it/wp-content/uploads/2021/12/nos.jpg
END:VEVENT
BEGIN:VEVENT
DTSTART;TZID=Europe/Rome:20211127T193000
DTEND;TZID=Europe/Rome:20211127T193000
DTSTAMP:20260420T084708
CREATED:20211123T150749Z
LAST-MODIFIED:20211123T150749Z
UID:6899-1638041400-1638041400@backup.sistemamedcampania.it
SUMMARY:Nuova Orchestra Scarlatti. Autunno Musicale 2021 -Rapsodia dantesca
DESCRIPTION:L’ Autunno Musicale della Nuova Orchestra Scarlatti prosegue con iTableaux Vivants  sull’iconografia e sull’opera di Dante firmati da Teatri 35 che con una regia di luci\, movimenti e improvvisi fermo immagine incarneranno sulla scena le opere ispirate a Dante. La musica dei Solisti della Nuova Orchestra Scarlatti si intreccerà con l’azione in scena e con la voce recitante di Davide Ferrari\, per evocare luci\, ombre\, visioni dantesche con un piccolo universo sonoro spaziante senza pause da un Balletto seicentesco a John Cage\, da Weber a Prokofiev\, da Schubert a Šostakovič\, e altro ancora. \n  \ndi e con Antonella Parrella\, Francesco Ottavio De Santis\, Gaetano Coccia \ne con Vittoria Rejna Negri\, Sara Scarpati\, Veronica Vendemia \n drammaturgia e voce recitante Davide Ferrari \nmusiche eseguite dal vivo da \ni Solisti della NUOVA ORCHESTRA SCARLATTI \nChiara Rollini\, Veronica Menditto violini\, \nMatteo Introna viola\, \nPierluigi Marotta violoncello\, \nGaetano Russo clarinetto \n  \nPrevendita: su www.azzurroservice.net e presso i punti vendita TicketOnLine\ninfo@nuovaorchestrascarlatti.it –  0812535984 \n  \n  \n 
URL:https://backup.sistemamedcampania.it/evento/nuova-orchestra-scarlatti-autunno-musicale-2021-rapsodia-dantesca/
LOCATION:Chiesa dei SS. Marcellino e Festo\, Largo S. Marcellino\, Napoli\, 80138\, Italia
CATEGORIES:Autunno Musicale 2021,Musica,Nuova Orchestra Scarlatti
ATTACH;FMTTYPE=image/jpeg:https://backup.sistemamedcampania.it/wp-content/uploads/2021/11/rapsodia-dantesca.jpg
END:VEVENT
BEGIN:VEVENT
DTSTART;TZID=Europe/Rome:20211120T193000
DTEND;TZID=Europe/Rome:20211120T193000
DTSTAMP:20260420T084708
CREATED:20211116T102357Z
LAST-MODIFIED:20211116T102357Z
UID:6864-1637436600-1637436600@backup.sistemamedcampania.it
SUMMARY:Nuova Orchestra Scarlatti. Autunno Musicale 2021 -Notturno d' amore
DESCRIPTION:L’ Autunno Musicale della Nuova Orchestra Scarlatti presenta Notturno d’Amore\, un concerto cameristico tra ‘700 galante e classico proposto dal Quartetto Vetter: fil rouge del raffinato programma\, la particolare presenza nella compagine degli archi della viola d’amore con il suo colore suggestivo e penetrante dovute alle corde di risonanza che si aggiungono alle sette corde suonate dall’archetto. \nPrima del concerto alle 18:45  ritorna l’abbinamento tra la musica e i luoghi d’arte: alle ore 18.45\, visita guidata al Complesso dei Santi Marcellino e Festo riservata al pubblico del concerto\, a cura di Respiriamo Arte. \n  \nQuartetto Vetter\nRaffaele Tiseo viola d’amore\nFlavia Civico violino\nAlessandro Zerella viola\nSilvano Maria Fusco violoncello \n  \nMusiche di C. Stamitz\, W. A. Mozart\, J.L. Edler von Eybler\, H. L. Vetter e al \n  \nPrevendita: su www.azzurroservice.net e presso i punti vendita TicketOnLine\ninfo@nuovaorchestrascarlatti.it –  0812535984
URL:https://backup.sistemamedcampania.it/evento/nuova-orchestra-scarlatti-autunno-musicale-2021-notturno-d-amore/
LOCATION:Chiesa dei SS. Marcellino e Festo\, Largo S. Marcellino\, Napoli\, 80138\, Italia
CATEGORIES:Autunno Musicale 2021,Musica,Nuova Orchestra Scarlatti
ATTACH;FMTTYPE=image/jpeg:https://backup.sistemamedcampania.it/wp-content/uploads/2021/11/quartetto-vetter.jpg
END:VEVENT
BEGIN:VEVENT
DTSTART;TZID=Europe/Rome:20211114T203000
DTEND;TZID=Europe/Rome:20211114T203000
DTSTAMP:20260420T084708
CREATED:20211108T114508Z
LAST-MODIFIED:20211108T114508Z
UID:6821-1636921800-1636921800@backup.sistemamedcampania.it
SUMMARY:Nuova Orchestra Scarlatti. Autunno Musicale 2021 - Dentro il Barbiere
DESCRIPTION:Il prossimo appuntamento con l’ Autunno musicale 2021 della Nuova Orchestra Scarlatti è con “Dentro il Barbiere”: tutto il divertimento\, le emozioni\, i momenti clou del Barbiere di Siviglia di Rossini in forma di concerto e con un’agile cornice narrativa. \nIl baritono Juan Possidente sarà Figaro\, il tenore Gaetano Amore sarà il Conte d’Almaviva\, mentre nei panni di Rosina troveremo il soprano georgiano Mariam Gogochuri. I testi e la presentazione sono a cura di Enzo Viccaro. Dirigerà la Nuova Orchestra Scarlatti Alfonso Todisco\, un giovane talento campano. \n  \n  \n  \nAcquista il tuo biglietto su www.azzuroservice.net e presso i punti vendita autorizzati. \nInfo  nuovaorchestrascarlatti.it – info@nuovaorchestrascarlatti.it – 0812535984
URL:https://backup.sistemamedcampania.it/evento/nuova-orchestra-scarlatti-autunno-musicale-2021-dentro-il-barbiere/
LOCATION:Teatro di Costanzo Mattiello\, Via Sacra 37\, Pompei (NA)\, 80045
CATEGORIES:Autunno Musicale 2021,Musica,Nuova Orchestra Scarlatti
ATTACH;FMTTYPE=image/jpeg:https://backup.sistemamedcampania.it/wp-content/uploads/2021/11/dentro-il-barbiere.jpg
END:VEVENT
BEGIN:VEVENT
DTSTART;TZID=Europe/Rome:20211111T180000
DTEND;TZID=Europe/Rome:20211111T180000
DTSTAMP:20260420T084708
CREATED:20211108T113245Z
LAST-MODIFIED:20211108T113245Z
UID:6818-1636653600-1636653600@backup.sistemamedcampania.it
SUMMARY:Nuova Orchestra Scarlatti. Autunno Musicale 2021 -Why\,.. Why… Why ?…
DESCRIPTION:Why\,.. Why… Why ?…\, è il titolo del prossimo appuntamento dell’Autunno Musicale della Nuova Orchestra Scarlatti\, il primo previsto nella prestigiosa e suggestiva cornice del Museo Madre alla ricerca di stimolati assonanze fra arti figurative e musica\, vedrà protagonisti il Quintetto di Fiati dell’Orchestra Scarlatti Young e il clarinettista Geatano Russo. \nIl concerto trae il suo titolo dal testo in inglese di una delle favole in versi della musicista e scrittrice newyorkese Rhoda Levine\, che hanno ispirato a Luciano Berio Opus Number Zoo\, ‘children play’ per quintetto di fiati scritto nel 1951 e rivisto nel 1970. Intorno ai quattro poetici apologhi della Levine – sospesi tra Esopo e Lewis Carroll – Berio costruisce altrettanti piccoli brani\, nei quali gli esecutori sono chiamati\, ora l’uno ora l’altro\, ad abbandonare per un momento lo strumento per recitare di volta in volta brani delle vicende di madama volpe e del povero pulcino\, del cavallo che si interroga sulle follie della guerra\, del vecchio topo che si lamenta dell’età che avanza\, del duello fra due gattacci\, bulli da dolce vita: un delizioso squarcio di teatro musicale da camera che negli anni non ha perso nulla della sua freschezza.\nOpus Number Zoo sarà il momento conclusivo del concerto. Gli altri brani previsti in programma proporranno un vario itinerario tra aspetti diversi ma tutti interessanti del contemporaneo\, da Berio a Boulez\, dal poco noto versante d’avanguardia di Ennio Morricone al brano inedito di un giovanissimo napoletano. \n  \nAcquista il tuo biglietto su www.azzuroservice.net e presso i punti vendita autorizzati. \nInfo  nuovaorchestrascarlatti.it – info@nuovaorchestrascarlatti.it – 0812535984 \n 
URL:https://backup.sistemamedcampania.it/evento/nuova-orchestra-scarlatti-autunno-musicale-2021-why-why-why/
LOCATION:Museo Madre. Museo d’arte contemporanea Donnaregina\, Via Luigi Settembrini\, 79\, Napoli\, Italia\, 80139\, Italia
CATEGORIES:Autunno Musicale 2021,Musica,Nuova Orchestra Scarlatti
ATTACH;FMTTYPE=image/jpeg:https://backup.sistemamedcampania.it/wp-content/uploads/2021/11/fiati-young.jpg
END:VEVENT
BEGIN:VEVENT
DTSTART;TZID=Europe/Rome:20211101T193000
DTEND;TZID=Europe/Rome:20211101T193000
DTSTAMP:20260420T084708
CREATED:20211027T093733Z
LAST-MODIFIED:20211027T093733Z
UID:6783-1635795000-1635795000@backup.sistemamedcampania.it
SUMMARY:Nuova Orchestra Scarlatti. Autunno Musicale 2021 - Bruno Canino
DESCRIPTION:Bruno Canino sarà nuovamente protagonista del secondo appuntamento dell’ Autunno musicale 2021 della Nuova Orchestra Scarlatti.  \nIl maestro sarà solista in un concerto con la Nuova Orchestra Scarlatti diretto da Marco Attura che\, accanto alla Sinfonia da camera op. 110a di Šostakovič (versione per orchestra d’archi del grande Quartetto n. 8) e alle  Otto miniature di Stravinskij\, ha in programma il Concerto per pianoforte e orchestra in la maggiore K. 488 di W. A. Mozart\, uno dei vertici del suo genere\, celebre per l’emozionante Adagio incastonato tra due Allegri tra i più scintillanti mai concepiti dal grande Wolfgang. \n  \n  \n  \nAcquista il tuo biglietto su www.azzuroservice.net e presso i punti vendita autorizzati. \nInfo  nuovaorchestrascarlatti.it – info@nuovaorchestrascarlatti.it – 0812535984
URL:https://backup.sistemamedcampania.it/evento/nuova-orchestra-scarlatti-autunno-musicale-2021-bruno-canino/
LOCATION:Conservatorio di musica di Napoli San Pietro a Majella\, Via San Pietro a Majella\, 35\, Napoli\, Italia
CATEGORIES:Autunno Musicale 2021,Musica,Nuova Orchestra Scarlatti
ATTACH;FMTTYPE=image/jpeg:https://backup.sistemamedcampania.it/wp-content/uploads/2021/10/canino-1.jpg
END:VEVENT
BEGIN:VEVENT
DTSTART;TZID=Europe/Rome:20211031T193000
DTEND;TZID=Europe/Rome:20211031T193000
DTSTAMP:20260420T084708
CREATED:20211027T093305Z
LAST-MODIFIED:20211027T093305Z
UID:6780-1635708600-1635708600@backup.sistemamedcampania.it
SUMMARY:Nuova Orchestra Scarlatti. Autunno Musicale 2021 - Bruno Canino & Soliti Orchestra Scarlatti Young
DESCRIPTION:L’ Autunno musicale 2021 della Nuova Orchestra Scarlatti sarà inaugurato con il grande pianista  Bruno Canino che accompagnerà giovani musicisti dell’Orchestra Scarlatti Young. \nBruno Canino\, pianista di origine partenopea\, concertista di fama internazionale\, accreditato come uno dei più intelligenti interpreti di un vasto repertorio classico e contemporaneo\,  accompagnerà i giovani talenti Chiara Rollini\, Matteo Introna\, Ludovica Cordova e Franco Ascolese\,  in pagine di Fritz Kreisler\, Rebecca Clarke\, Robert Schumann e Francis Poulenc. \n  \nBruno Canino\, pianoforte \nChiara Rollini\, violino \nMatteo Introna\, viola \nLudovica Cordova\, violoncello \nFranco Ascolese\, flauto \n  \nAcquista il tuo biglietto su www.azzuroservice.net e presso i punti vendita autorizzati. \nInfo  nuovaorchestrascarlatti.it – info@nuovaorchestrascarlatti.it – 0812535984 \n  \n 
URL:https://backup.sistemamedcampania.it/evento/nuova-orchestra-scarlatti-autunno-musicale-2021-bruno-canino-soliti-orchestra-scarlatti-young/
LOCATION:Conservatorio di musica di Napoli San Pietro a Majella\, Via San Pietro a Majella\, 35\, Napoli\, Italia
CATEGORIES:Autunno Musicale 2021,Musica,Nuova Orchestra Scarlatti
ATTACH;FMTTYPE=image/jpeg:https://backup.sistemamedcampania.it/wp-content/uploads/2021/10/canino-31.jpg
END:VEVENT
END:VCALENDAR